| Back to Multiple platform build/check report for BioC 3.16: simplified long |
|
This page was generated on 2023-04-12 11:05:51 -0400 (Wed, 12 Apr 2023).
| Hostname | OS | Arch (*) | R version | Installed pkgs |
|---|---|---|---|---|
| nebbiolo2 | Linux (Ubuntu 20.04.5 LTS) | x86_64 | 4.2.3 (2023-03-15) -- "Shortstop Beagle" | 4502 |
| palomino4 | Windows Server 2022 Datacenter | x64 | 4.2.3 (2023-03-15 ucrt) -- "Shortstop Beagle" | 4282 |
| lconway | macOS 12.5.1 Monterey | x86_64 | 4.2.3 (2023-03-15) -- "Shortstop Beagle" | 4310 |
| Click on any hostname to see more info about the system (e.g. compilers) (*) as reported by 'uname -p', except on Windows and Mac OS X | ||||
|
To the developers/maintainers of the SELEX package: - Please allow up to 24 hours (and sometimes 48 hours) for your latest push to git@git.bioconductor.org:packages/SELEX.git to reflect on this report. See How and When does the builder pull? When will my changes propagate? for more information. - Make sure to use the following settings in order to reproduce any error or warning you see on this page. |
| Package 1834/2183 | Hostname | OS / Arch | INSTALL | BUILD | CHECK | BUILD BIN | ||||||||
| SELEX 1.30.0 (landing page) Harmen J. Bussemaker
| nebbiolo2 | Linux (Ubuntu 20.04.5 LTS) / x86_64 | OK | OK | OK | |||||||||
| palomino4 | Windows Server 2022 Datacenter / x64 | OK | OK | OK | OK | |||||||||
| lconway | macOS 12.5.1 Monterey / x86_64 | OK | OK | OK | OK | |||||||||
| Package: SELEX |
| Version: 1.30.0 |
| Command: F:\biocbuild\bbs-3.16-bioc\R\bin\R.exe CMD check --no-multiarch --install=check:SELEX.install-out.txt --library=F:\biocbuild\bbs-3.16-bioc\R\library --no-vignettes --timings SELEX_1.30.0.tar.gz |
| StartedAt: 2023-04-11 05:53:39 -0400 (Tue, 11 Apr 2023) |
| EndedAt: 2023-04-11 05:55:32 -0400 (Tue, 11 Apr 2023) |
| EllapsedTime: 113.1 seconds |
| RetCode: 0 |
| Status: OK |
| CheckDir: SELEX.Rcheck |
| Warnings: 0 |
##############################################################################
##############################################################################
###
### Running command:
###
### F:\biocbuild\bbs-3.16-bioc\R\bin\R.exe CMD check --no-multiarch --install=check:SELEX.install-out.txt --library=F:\biocbuild\bbs-3.16-bioc\R\library --no-vignettes --timings SELEX_1.30.0.tar.gz
###
##############################################################################
##############################################################################
* using log directory 'F:/biocbuild/bbs-3.16-bioc/meat/SELEX.Rcheck'
* using R version 4.2.3 (2023-03-15 ucrt)
* using platform: x86_64-w64-mingw32 (64-bit)
* using session charset: UTF-8
* using option '--no-vignettes'
* checking for file 'SELEX/DESCRIPTION' ... OK
* this is package 'SELEX' version '1.30.0'
* checking package namespace information ... OK
* checking package dependencies ... OK
* checking if this is a source package ... OK
* checking if there is a namespace ... OK
* checking for hidden files and directories ... OK
* checking for portable file names ... OK
* checking whether package 'SELEX' can be installed ... OK
* checking installed package size ... OK
* checking package directory ... OK
* checking 'build' directory ... OK
* checking DESCRIPTION meta-information ... OK
* checking top-level files ... OK
* checking for left-over files ... OK
* checking index information ... OK
* checking package subdirectories ... OK
* checking R files for non-ASCII characters ... OK
* checking R files for syntax errors ... OK
* checking whether the package can be loaded ... OK
* checking whether the package can be loaded with stated dependencies ... OK
* checking whether the package can be unloaded cleanly ... OK
* checking whether the namespace can be loaded with stated dependencies ... OK
* checking whether the namespace can be unloaded cleanly ... OK
* checking dependencies in R code ... OK
* checking S3 generic/method consistency ... OK
* checking replacement functions ... OK
* checking foreign function calls ... OK
* checking R code for possible problems ... OK
* checking Rd files ... OK
* checking Rd metadata ... OK
* checking Rd cross-references ... OK
* checking for missing documentation entries ... OK
* checking for code/documentation mismatches ... OK
* checking Rd \usage sections ... OK
* checking Rd contents ... OK
* checking for unstated dependencies in examples ... OK
* checking line endings in Makefiles ... OK
* checking for GNU extensions in Makefiles ... OK
* checking include directives in Makefiles ... OK
* checking sizes of PDF files under 'inst/doc' ... OK
* checking files in 'vignettes' ... NOTE
The following directory looks like a leftover from 'knitr':
'cache'
Please remove from your package.
* checking examples ... OK
Examples with CPU (user + system) or elapsed time > 5s
user system elapsed
SELEX 16.62 2.83 8.51
selex.seqfilter 7.56 1.03 3.21
* checking for unstated dependencies in vignettes ... OK
* checking package vignettes in 'inst/doc' ... OK
* checking running R code from vignettes ... SKIPPED
* checking re-building of vignette outputs ... SKIPPED
* checking PDF version of manual ... OK
* DONE
Status: 1 NOTE
See
'F:/biocbuild/bbs-3.16-bioc/meat/SELEX.Rcheck/00check.log'
for details.
SELEX.Rcheck/00install.out
############################################################################## ############################################################################## ### ### Running command: ### ### F:\biocbuild\bbs-3.16-bioc\R\bin\R.exe CMD INSTALL SELEX ### ############################################################################## ############################################################################## * installing to library 'F:/biocbuild/bbs-3.16-bioc/R/library' * installing *source* package 'SELEX' ... ** using staged installation ** R ** inst ** byte-compile and prepare package for lazy loading ** help *** installing help indices ** building package indices ** installing vignettes ** testing if installed package can be loaded from temporary location ** testing if installed package can be loaded from final location ** testing if installed package keeps a record of temporary installation path * DONE (SELEX)
SELEX.Rcheck/SELEX-Ex.timings
| name | user | system | elapsed | |
| SELEX | 16.62 | 2.83 | 8.51 | |
| selex.affinities | 0.86 | 0.03 | 0.33 | |
| selex.config | 0.12 | 0.00 | 0.03 | |
| selex.countSummary | 0.89 | 0.06 | 0.34 | |
| selex.counts | 1.19 | 0.08 | 1.06 | |
| selex.defineSample | 0.09 | 0.00 | 0.05 | |
| selex.exampledata | 0.08 | 0.01 | 0.03 | |
| selex.fastqPSFM | 0.67 | 0.05 | 0.30 | |
| selex.getAttributes | 0.22 | 0.00 | 0.08 | |
| selex.getRound0 | 0.19 | 0.03 | 0.11 | |
| selex.getSeqfilter | 0.05 | 0.00 | 0.01 | |
| selex.infogain | 1.23 | 0.10 | 0.45 | |
| selex.infogainSummary | 0.80 | 0.03 | 0.27 | |
| selex.jvmStatus | 0.07 | 0.01 | 0.05 | |
| selex.kmax | 1.36 | 0.33 | 0.93 | |
| selex.kmerPSFM | 0.30 | 0.06 | 0.24 | |
| selex.loadAnnotation | 0.11 | 0.05 | 0.09 | |
| selex.mm | 0.20 | 0.06 | 0.24 | |
| selex.mmProb | 0.27 | 0.02 | 0.22 | |
| selex.mmSummary | 0.28 | 0.03 | 0.21 | |
| selex.revcomp | 0.64 | 0.05 | 0.39 | |
| selex.run | 1.22 | 0.12 | 0.44 | |
| selex.sample | 0.19 | 0.00 | 0.08 | |
| selex.samplePSFM | 0.68 | 0.00 | 0.27 | |
| selex.sampleSummary | 0.18 | 0.02 | 0.07 | |
| selex.saveAnnotation | 0.01 | 0.01 | 0.04 | |
| selex.seqfilter | 7.56 | 1.03 | 3.21 | |
| selex.setwd | 0.05 | 0.02 | 0.02 | |
| selex.split | 0.33 | 0.08 | 0.19 | |
| selex.summary | 0.98 | 0.05 | 0.42 | |