| Back to Multiple platform build/check report for BioC 3.16: simplified long |
|
This page was generated on 2023-04-12 11:05:47 -0400 (Wed, 12 Apr 2023).
| Hostname | OS | Arch (*) | R version | Installed pkgs |
|---|---|---|---|---|
| nebbiolo2 | Linux (Ubuntu 20.04.5 LTS) | x86_64 | 4.2.3 (2023-03-15) -- "Shortstop Beagle" | 4502 |
| palomino4 | Windows Server 2022 Datacenter | x64 | 4.2.3 (2023-03-15 ucrt) -- "Shortstop Beagle" | 4282 |
| lconway | macOS 12.5.1 Monterey | x86_64 | 4.2.3 (2023-03-15) -- "Shortstop Beagle" | 4310 |
| Click on any hostname to see more info about the system (e.g. compilers) (*) as reported by 'uname -p', except on Windows and Mac OS X | ||||
|
To the developers/maintainers of the Rbowtie2 package: - Please allow up to 24 hours (and sometimes 48 hours) for your latest push to git@git.bioconductor.org:packages/Rbowtie2.git to reflect on this report. See How and When does the builder pull? When will my changes propagate? for more information. - Make sure to use the following settings in order to reproduce any error or warning you see on this page. |
| Package 1605/2183 | Hostname | OS / Arch | INSTALL | BUILD | CHECK | BUILD BIN | ||||||||
| Rbowtie2 2.4.2 (landing page) Zheng Wei
| nebbiolo2 | Linux (Ubuntu 20.04.5 LTS) / x86_64 | OK | OK | OK | |||||||||
| palomino4 | Windows Server 2022 Datacenter / x64 | OK | OK | OK | OK | |||||||||
| lconway | macOS 12.5.1 Monterey / x86_64 | OK | OK | OK | OK | |||||||||
| Package: Rbowtie2 |
| Version: 2.4.2 |
| Command: F:\biocbuild\bbs-3.16-bioc\R\bin\R.exe CMD check --no-multiarch --install=check:Rbowtie2.install-out.txt --library=F:\biocbuild\bbs-3.16-bioc\R\library --no-vignettes --timings Rbowtie2_2.4.2.tar.gz |
| StartedAt: 2023-04-11 04:59:28 -0400 (Tue, 11 Apr 2023) |
| EndedAt: 2023-04-11 05:00:12 -0400 (Tue, 11 Apr 2023) |
| EllapsedTime: 44.2 seconds |
| RetCode: 0 |
| Status: OK |
| CheckDir: Rbowtie2.Rcheck |
| Warnings: 0 |
##############################################################################
##############################################################################
###
### Running command:
###
### F:\biocbuild\bbs-3.16-bioc\R\bin\R.exe CMD check --no-multiarch --install=check:Rbowtie2.install-out.txt --library=F:\biocbuild\bbs-3.16-bioc\R\library --no-vignettes --timings Rbowtie2_2.4.2.tar.gz
###
##############################################################################
##############################################################################
* using log directory 'F:/biocbuild/bbs-3.16-bioc/meat/Rbowtie2.Rcheck'
* using R version 4.2.3 (2023-03-15 ucrt)
* using platform: x86_64-w64-mingw32 (64-bit)
* using session charset: UTF-8
* using option '--no-vignettes'
* checking for file 'Rbowtie2/DESCRIPTION' ... OK
* checking extension type ... Package
* this is package 'Rbowtie2' version '2.4.2'
* package encoding: UTF-8
* checking package namespace information ... OK
* checking package dependencies ... OK
* checking if this is a source package ... OK
* checking if there is a namespace ... OK
* checking for hidden files and directories ... OK
* checking for portable file names ... OK
* checking whether package 'Rbowtie2' can be installed ... OK
* checking installed package size ... NOTE
installed size is 67.8Mb
* checking package directory ... OK
* checking 'build' directory ... OK
* checking DESCRIPTION meta-information ... OK
* checking top-level files ... OK
* checking for left-over files ... OK
* checking index information ... OK
* checking package subdirectories ... OK
* checking R files for non-ASCII characters ... OK
* checking R files for syntax errors ... OK
* checking whether the package can be loaded ... OK
* checking whether the package can be loaded with stated dependencies ... OK
* checking whether the package can be unloaded cleanly ... OK
* checking whether the namespace can be loaded with stated dependencies ... OK
* checking whether the namespace can be unloaded cleanly ... OK
* checking dependencies in R code ... OK
* checking S3 generic/method consistency ... OK
* checking replacement functions ... OK
* checking foreign function calls ... OK
* checking R code for possible problems ... OK
* checking Rd files ... OK
* checking Rd metadata ... OK
* checking Rd cross-references ... OK
* checking for missing documentation entries ... OK
* checking for code/documentation mismatches ... OK
* checking Rd \usage sections ... OK
* checking Rd contents ... OK
* checking for unstated dependencies in examples ... OK
* checking line endings in C/C++/Fortran sources/headers ... OK
* checking line endings in Makefiles ... OK
* checking for GNU extensions in Makefiles ... NOTE
GNU make is a SystemRequirements.
* checking for portable use of $(BLAS_LIBS) and $(LAPACK_LIBS) ... OK
* checking use of PKG_*FLAGS in Makefiles ... OK
* checking include directives in Makefiles ... OK
* checking compiled code ... OK
* checking files in 'vignettes' ... OK
* checking examples ... OK
Examples with CPU (user + system) or elapsed time > 5s
user system elapsed
bowtie2_samtools 3.36 0.24 5.05
* checking for unstated dependencies in vignettes ... OK
* checking package vignettes in 'inst/doc' ... OK
* checking running R code from vignettes ... SKIPPED
* checking re-building of vignette outputs ... SKIPPED
* checking PDF version of manual ... OK
* DONE
Status: 2 NOTEs
See
'F:/biocbuild/bbs-3.16-bioc/meat/Rbowtie2.Rcheck/00check.log'
for details.
Rbowtie2.Rcheck/00install.out
##############################################################################
##############################################################################
###
### Running command:
###
### F:\biocbuild\bbs-3.16-bioc\R\bin\R.exe CMD INSTALL Rbowtie2
###
##############################################################################
##############################################################################
* installing to library 'F:/biocbuild/bbs-3.16-bioc/R/library'
* installing *source* package 'Rbowtie2' ...
** using staged installation
** libs
running 'src/Makefile.win' ...
mkdir -p ../inst
(cd adapterremoval && (/usr/bin/make -f"F:/biocbuild/bbs-3.16-bioc/R/etc/x64/Makeconf" -fMakefile.win))
Makefile.win:46: warning: overriding recipe for target '.cc.o'
F:/biocbuild/bbs-3.16-bioc/R/etc/x64/Makeconf:258: warning: ignoring old recipe for target '.cc.o'
g++ -std=gnu++14 -std=gnu++11 -O3 -D_REENTRANT -lpthread -DNDEBUG -c adapterset.cc
g++ -std=gnu++14 -std=gnu++11 -O3 -D_REENTRANT -lpthread -DNDEBUG -c alignment.cc
g++ -std=gnu++14 -std=gnu++11 -O3 -D_REENTRANT -lpthread -DNDEBUG -c argparse.cc
g++ -std=gnu++14 -std=gnu++11 -O3 -D_REENTRANT -lpthread -DNDEBUG -c debug.cc
g++ -std=gnu++14 -std=gnu++11 -O3 -D_REENTRANT -lpthread -DNDEBUG -c demultiplex.cc
g++ -std=gnu++14 -std=gnu++11 -O3 -D_REENTRANT -lpthread -DNDEBUG -c fastq.cc
g++ -std=gnu++14 -std=gnu++11 -O3 -D_REENTRANT -lpthread -DNDEBUG -c fastq_enc.cc
g++ -std=gnu++14 -std=gnu++11 -O3 -D_REENTRANT -lpthread -DNDEBUG -c fastq_io.cc
g++ -std=gnu++14 -std=gnu++11 -O3 -D_REENTRANT -lpthread -DNDEBUG -c linereader.cc
g++ -std=gnu++14 -std=gnu++11 -O3 -D_REENTRANT -lpthread -DNDEBUG -c linereader_joined.cc
g++ -std=gnu++14 -std=gnu++11 -O3 -D_REENTRANT -lpthread -DNDEBUG -c main_adapter_id.cc
g++ -std=gnu++14 -std=gnu++11 -O3 -D_REENTRANT -lpthread -DNDEBUG -c main_adapter_rm.cc
g++ -std=gnu++14 -std=gnu++11 -O3 -D_REENTRANT -lpthread -DNDEBUG -c main_demultiplex.cc
g++ -std=gnu++14 -std=gnu++11 -O3 -D_REENTRANT -lpthread -DNDEBUG -c scheduler.cc
g++ -std=gnu++14 -std=gnu++11 -O3 -D_REENTRANT -lpthread -DNDEBUG -c strutils.cc
g++ -std=gnu++14 -std=gnu++11 -O3 -D_REENTRANT -lpthread -DNDEBUG -c threads.cc
g++ -std=gnu++14 -std=gnu++11 -O3 -D_REENTRANT -lpthread -DNDEBUG -c timer.cc
g++ -std=gnu++14 -std=gnu++11 -O3 -D_REENTRANT -lpthread -DNDEBUG -c trimmed_reads.cc
g++ -std=gnu++14 -std=gnu++11 -O3 -D_REENTRANT -lpthread -DNDEBUG -c userconfig.cc
g++ -std=gnu++14 -std=gnu++11 -O3 -D_REENTRANT -lpthread -DNDEBUG -c main.cc
g++ -std=gnu++14 -std=gnu++11 -O3 -D_REENTRANT -lpthread -DNDEBUG -o AdapterRemoval adapterset.o alignment.o argparse.o debug.o demultiplex.o fastq.o fastq_enc.o fastq_io.o linereader.o linereader_joined.o main_adapter_id.o main_adapter_rm.o main_demultiplex.o scheduler.o strutils.o threads.o timer.o trimmed_reads.o userconfig.o main.o
cp AdapterRemoval ../../inst/
(cd bowtie2-2.4.4 && (/usr/bin/make -f"F:/biocbuild/bbs-3.16-bioc/R/etc/x64/Makeconf" -fMakefile.win))
g++ -std=gnu++14 -O3 -msse2 -funroll-loops -g3 -DCOMPILER_OPTIONS="\"-O3 -msse2 -funroll-loops -g3 -O2 -Wall -mfpmath=sse -msse2 -mstackrealign -std=c++11 -DPOPCNT_CAPABILITY -DNO_SPINLOCK -DWITH_QUEUELOCK=1 -static-libgcc -static-libstdc++\"" -O2 -Wall -mfpmath=sse -msse2 -mstackrealign -std=c++11 -DPOPCNT_CAPABILITY -DNO_SPINLOCK -DWITH_QUEUELOCK=1 -static-libgcc -static-libstdc++ \
-fno-strict-aliasing -DBOWTIE2_VERSION="\"`cat BOWTIE2_VERSION`\"" -DBUILD_HOST="\"${HOSTNAME:-`hostname`}\"" -DBUILD_TIME="\"`date -u`\"" -DCOMPILER_VERSION="\"`g++ -std=gnu++14 -v 2>&1 | tail -1`\"" -D_LARGEFILE_SOURCE -D_FILE_OFFSET_BITS=64 -D_GNU_SOURCE -DBOWTIE2 -DNDEBUG -Wall \
-I third_party \
-o bowtie2-build-s bt2_build.cpp \
ccnt_lut.cpp ref_read.cpp alphabet.cpp shmem.cpp edit.cpp bt2_locks.cpp bt2_idx.cpp bt2_io.cpp bt2_util.cpp reference.cpp ds.cpp multikey_qsort.cpp limit.cpp random_source.cpp diff_sample.cpp bowtie_build_main.cpp \
-lpthread -lz
g++ -std=gnu++14 -O3 -msse2 -funroll-loops -g3 -DCOMPILER_OPTIONS="\"-O3 -msse2 -funroll-loops -g3 -O2 -Wall -mfpmath=sse -msse2 -mstackrealign -std=c++11 -DPOPCNT_CAPABILITY -DNO_SPINLOCK -DWITH_QUEUELOCK=1 -static-libgcc -static-libstdc++\"" -O2 -Wall -mfpmath=sse -msse2 -mstackrealign -std=c++11 -DPOPCNT_CAPABILITY -DNO_SPINLOCK -DWITH_QUEUELOCK=1 -static-libgcc -static-libstdc++ \
-fno-strict-aliasing -DBOWTIE2_VERSION="\"`cat BOWTIE2_VERSION`\"" -DBUILD_HOST="\"${HOSTNAME:-`hostname`}\"" -DBUILD_TIME="\"`date -u`\"" -DCOMPILER_VERSION="\"`g++ -std=gnu++14 -v 2>&1 | tail -1`\"" -D_LARGEFILE_SOURCE -D_FILE_OFFSET_BITS=64 -D_GNU_SOURCE -DBOWTIE2 -DBOWTIE_64BIT_INDEX -DNDEBUG -Wall \
-I third_party \
-o bowtie2-build-l bt2_build.cpp \
ccnt_lut.cpp ref_read.cpp alphabet.cpp shmem.cpp edit.cpp bt2_locks.cpp bt2_idx.cpp bt2_io.cpp bt2_util.cpp reference.cpp ds.cpp multikey_qsort.cpp limit.cpp random_source.cpp diff_sample.cpp bowtie_build_main.cpp \
-lpthread -lz
g++ -std=gnu++14 -O3 -msse2 -funroll-loops -g3 -DCOMPILER_OPTIONS="\"-O3 -msse2 -funroll-loops -g3 -O2 -Wall -mfpmath=sse -msse2 -mstackrealign -std=c++11 -DPOPCNT_CAPABILITY -DNO_SPINLOCK -DWITH_QUEUELOCK=1 -static-libgcc -static-libstdc++\"" -O2 -Wall -mfpmath=sse -msse2 -mstackrealign -std=c++11 -DPOPCNT_CAPABILITY -DNO_SPINLOCK -DWITH_QUEUELOCK=1 -static-libgcc -static-libstdc++ \
-fno-strict-aliasing -DBOWTIE2_VERSION="\"`cat BOWTIE2_VERSION`\"" -DBUILD_HOST="\"${HOSTNAME:-`hostname`}\"" -DBUILD_TIME="\"`date -u`\"" -DCOMPILER_VERSION="\"`g++ -std=gnu++14 -v 2>&1 | tail -1`\"" -D_LARGEFILE_SOURCE -D_FILE_OFFSET_BITS=64 -D_GNU_SOURCE -DBOWTIE2 -DNDEBUG -Wall \
-I third_party \
-o bowtie2-align-s bt2_search.cpp \
ccnt_lut.cpp ref_read.cpp alphabet.cpp shmem.cpp edit.cpp bt2_locks.cpp bt2_idx.cpp bt2_io.cpp bt2_util.cpp reference.cpp ds.cpp multikey_qsort.cpp limit.cpp random_source.cpp qual.cpp pat.cpp sam.cpp read_qseq.cpp aligner_seed_policy.cpp aligner_seed.cpp aligner_seed2.cpp aligner_sw.cpp aligner_sw_driver.cpp aligner_cache.cpp aligner_result.cpp ref_coord.cpp mask.cpp pe.cpp aln_sink.cpp dp_framer.cpp scoring.cpp presets.cpp unique.cpp simple_func.cpp random_util.cpp aligner_bt.cpp sse_util.cpp aligner_swsse.cpp outq.cpp aligner_swsse_loc_i16.cpp aligner_swsse_ee_i16.cpp aligner_swsse_loc_u8.cpp aligner_swsse_ee_u8.cpp aligner_driver.cpp bowtie_main.cpp \
-lpthread -lz
g++ -std=gnu++14 -O3 -msse2 -funroll-loops -g3 -DCOMPILER_OPTIONS="\"-O3 -msse2 -funroll-loops -g3 -O2 -Wall -mfpmath=sse -msse2 -mstackrealign -std=c++11 -DPOPCNT_CAPABILITY -DNO_SPINLOCK -DWITH_QUEUELOCK=1 -static-libgcc -static-libstdc++\"" -O2 -Wall -mfpmath=sse -msse2 -mstackrealign -std=c++11 -DPOPCNT_CAPABILITY -DNO_SPINLOCK -DWITH_QUEUELOCK=1 -static-libgcc -static-libstdc++ \
-fno-strict-aliasing -DBOWTIE2_VERSION="\"`cat BOWTIE2_VERSION`\"" -DBUILD_HOST="\"${HOSTNAME:-`hostname`}\"" -DBUILD_TIME="\"`date -u`\"" -DCOMPILER_VERSION="\"`g++ -std=gnu++14 -v 2>&1 | tail -1`\"" -D_LARGEFILE_SOURCE -D_FILE_OFFSET_BITS=64 -D_GNU_SOURCE -DBOWTIE2 -DBOWTIE_64BIT_INDEX -DNDEBUG -Wall \
-I third_party \
-o bowtie2-align-l bt2_search.cpp \
ccnt_lut.cpp ref_read.cpp alphabet.cpp shmem.cpp edit.cpp bt2_locks.cpp bt2_idx.cpp bt2_io.cpp bt2_util.cpp reference.cpp ds.cpp multikey_qsort.cpp limit.cpp random_source.cpp qual.cpp pat.cpp sam.cpp read_qseq.cpp aligner_seed_policy.cpp aligner_seed.cpp aligner_seed2.cpp aligner_sw.cpp aligner_sw_driver.cpp aligner_cache.cpp aligner_result.cpp ref_coord.cpp mask.cpp pe.cpp aln_sink.cpp dp_framer.cpp scoring.cpp presets.cpp unique.cpp simple_func.cpp random_util.cpp aligner_bt.cpp sse_util.cpp aligner_swsse.cpp outq.cpp aligner_swsse_loc_i16.cpp aligner_swsse_ee_i16.cpp aligner_swsse_loc_u8.cpp aligner_swsse_ee_u8.cpp aligner_driver.cpp bowtie_main.cpp \
-lpthread -lz
echo "@echo off" > bowtie2.bat
echo "perl %~dp0/bowtie2 %*" >> bowtie2.bat
echo "@echo off" > bowtie2-build.bat
echo "python3 %~dp0/bowtie2-build %*" >> bowtie2-build.bat
(cd bowtie2-2.4.4 && (/usr/bin/make move -fMakefile.win))
mv bowtie2-align-s ../../inst
mv bowtie2-build-s ../../inst
mv bowtie2-align-l ../../inst
mv bowtie2-build-l ../../inst
cp bowtie2 ../../inst
cp bowtie2-build ../../inst
** R
** inst
** byte-compile and prepare package for lazy loading
** help
*** installing help indices
** building package indices
** installing vignettes
** testing if installed package can be loaded from temporary location
** testing if installed package can be loaded from final location
** testing if installed package keeps a record of temporary installation path
* DONE (Rbowtie2)
Rbowtie2.Rcheck/Rbowtie2-Ex.timings
| name | user | system | elapsed | |
| adapterremoval_usage | 0.01 | 0.07 | 0.33 | |
| adapterremoval_version | 0.00 | 0.00 | 0.24 | |
| bowtie2-build | 0.03 | 0.06 | 2.20 | |
| bowtie2 | 0.02 | 0.01 | 1.14 | |
| bowtie2_build_usage | 0.00 | 0.00 | 0.35 | |
| bowtie2_samtools | 3.36 | 0.24 | 5.05 | |
| bowtie2_usage | 0.03 | 0.03 | 0.39 | |
| bowtie2_version | 0.00 | 0.02 | 0.35 | |
| identify_adapters | 0.00 | 0.00 | 0.23 | |
| remove_adapters | 0.00 | 0.01 | 0.53 | |