| Back to Multiple platform build/check report for BioC 3.16: simplified long |
|
This page was generated on 2023-04-12 11:06:22 -0400 (Wed, 12 Apr 2023).
| Hostname | OS | Arch (*) | R version | Installed pkgs |
|---|---|---|---|---|
| nebbiolo2 | Linux (Ubuntu 20.04.5 LTS) | x86_64 | 4.2.3 (2023-03-15) -- "Shortstop Beagle" | 4502 |
| palomino4 | Windows Server 2022 Datacenter | x64 | 4.2.3 (2023-03-15 ucrt) -- "Shortstop Beagle" | 4282 |
| lconway | macOS 12.5.1 Monterey | x86_64 | 4.2.3 (2023-03-15) -- "Shortstop Beagle" | 4310 |
| Click on any hostname to see more info about the system (e.g. compilers) (*) as reported by 'uname -p', except on Windows and Mac OS X | ||||
|
To the developers/maintainers of the Rbowtie2 package: - Please allow up to 24 hours (and sometimes 48 hours) for your latest push to git@git.bioconductor.org:packages/Rbowtie2.git to reflect on this report. See How and When does the builder pull? When will my changes propagate? for more information. - Make sure to use the following settings in order to reproduce any error or warning you see on this page. |
| Package 1605/2183 | Hostname | OS / Arch | INSTALL | BUILD | CHECK | BUILD BIN | ||||||||
| Rbowtie2 2.4.2 (landing page) Zheng Wei
| nebbiolo2 | Linux (Ubuntu 20.04.5 LTS) / x86_64 | OK | OK | OK | |||||||||
| palomino4 | Windows Server 2022 Datacenter / x64 | OK | OK | OK | OK | |||||||||
| lconway | macOS 12.5.1 Monterey / x86_64 | OK | OK | OK | OK | |||||||||
| Package: Rbowtie2 |
| Version: 2.4.2 |
| Command: rm -rf Rbowtie2.buildbin-libdir && mkdir Rbowtie2.buildbin-libdir && /Users/biocbuild/BBS/utils/build-universal.sh Rbowtie2_2.4.2.tar.gz /Library/Frameworks/R.framework/Resources/bin/R Rbowtie2.buildbin-libdir |
| StartedAt: 2023-04-10 23:59:10 -0400 (Mon, 10 Apr 2023) |
| EndedAt: 2023-04-11 00:04:17 -0400 (Tue, 11 Apr 2023) |
| EllapsedTime: 307.2 seconds |
| RetCode: 0 |
| Status: OK |
| PackageFile: Rbowtie2_2.4.2.tgz |
| PackageFileSize: 1.994 MiB |
##############################################################################
##############################################################################
###
### Running command:
###
### rm -rf Rbowtie2.buildbin-libdir && mkdir Rbowtie2.buildbin-libdir && /Users/biocbuild/BBS/utils/build-universal.sh Rbowtie2_2.4.2.tar.gz /Library/Frameworks/R.framework/Resources/bin/R Rbowtie2.buildbin-libdir
###
##############################################################################
##############################################################################
>>>>>>>
>>>>>>> INSTALLATION WITH 'R CMD INSTALL --preclean --no-multiarch --library=Rbowtie2.buildbin-libdir Rbowtie2_2.4.2.tar.gz'
>>>>>>>
* installing *source* package ‘Rbowtie2’ ...
** using staged installation
(cd adapterremoval && (make clean -f Makefile))
rm -f AdapterRemoval
rm -f ../../inst/AdapterRemoval
rm -f *.o
(cd bowtie2-2.4.4 && (make clean -f Makefile))
rm -f bowtie2-build-s bowtie2-build-l bowtie2-align-s bowtie2-align-l bowtie2-build-s-debug bowtie2-build-l-debug bowtie2-align-s-debug bowtie2-align-l-debug bowtie2-build-s-sanitized bowtie2-build-l-sanitized bowtie2-align-s-sanitized bowtie2-align-l-sanitized \
bowtie2-build-s.exe bowtie2-build-l.exe bowtie2-align-s.exe bowtie2-align-l.exe bowtie2-build-s-debug.exe bowtie2-build-l-debug.exe bowtie2-align-s-debug.exe bowtie2-align-l-debug.exe \
bowtie2-*.zip
rm -f core.* .tmp.head
rm -rf *.dSYM
rm -rf .tmp
rm -f ../../inst/bowtie2-align-s
rm -f ../../inst/bowtie2-build-s
rm -f ../../inst/bowtie2-align-l
rm -f ../../inst/bowtie2-build-l
rm -f ../../inst/bowtie2
rm -f ../../inst/bowtie2-build
rm -f bowtie2-align-s
rm -f bowtie2-build-s
rm -f bowtie2-align-l
rm -f bowtie2-build-l
rm -f *.so
rm -f *.o
** libs
** arch -
mkdir -p ../inst
(cd adapterremoval && (make CXX="g++ -std=gnu++11" -f Makefile))
g++ -std=gnu++11 -O3 -pthread -DNDEBUG -c adapterset.cc
g++ -std=gnu++11 -O3 -pthread -DNDEBUG -c alignment.cc
g++ -std=gnu++11 -O3 -pthread -DNDEBUG -c argparse.cc
g++ -std=gnu++11 -O3 -pthread -DNDEBUG -c debug.cc
g++ -std=gnu++11 -O3 -pthread -DNDEBUG -c demultiplex.cc
g++ -std=gnu++11 -O3 -pthread -DNDEBUG -c fastq.cc
g++ -std=gnu++11 -O3 -pthread -DNDEBUG -c fastq_enc.cc
g++ -std=gnu++11 -O3 -pthread -DNDEBUG -c fastq_io.cc
g++ -std=gnu++11 -O3 -pthread -DNDEBUG -c linereader.cc
g++ -std=gnu++11 -O3 -pthread -DNDEBUG -c linereader_joined.cc
g++ -std=gnu++11 -O3 -pthread -DNDEBUG -c main_adapter_id.cc
g++ -std=gnu++11 -O3 -pthread -DNDEBUG -c main_adapter_rm.cc
g++ -std=gnu++11 -O3 -pthread -DNDEBUG -c main_demultiplex.cc
g++ -std=gnu++11 -O3 -pthread -DNDEBUG -c scheduler.cc
g++ -std=gnu++11 -O3 -pthread -DNDEBUG -c strutils.cc
g++ -std=gnu++11 -O3 -pthread -DNDEBUG -c threads.cc
g++ -std=gnu++11 -O3 -pthread -DNDEBUG -c timer.cc
g++ -std=gnu++11 -O3 -pthread -DNDEBUG -c trimmed_reads.cc
g++ -std=gnu++11 -O3 -pthread -DNDEBUG -c userconfig.cc
g++ -std=gnu++11 -O3 -pthread -DNDEBUG -c main.cc
g++ -std=gnu++11 -O3 -pthread -DNDEBUG -o AdapterRemoval adapterset.o alignment.o argparse.o debug.o demultiplex.o fastq.o fastq_enc.o fastq_io.o linereader.o linereader_joined.o main_adapter_id.o main_adapter_rm.o main_demultiplex.o scheduler.o strutils.o threads.o timer.o trimmed_reads.o userconfig.o main.o
mv AdapterRemoval ../../inst/
(cd adapterremoval && (make clean_o -f Makefile))
rm -f *.o
(cd bowtie2-2.4.4 && (make CXX="g++" -f Makefile))
g++ -O3 -msse2 -funroll-loops -g3 -DCOMPILER_OPTIONS="\"-O3 -msse2 -funroll-loops -g3 -std=c++11 -DPOPCNT_CAPABILITY -DNO_SPINLOCK -DWITH_QUEUELOCK=1\"" -std=c++11 -DPOPCNT_CAPABILITY -DNO_SPINLOCK -DWITH_QUEUELOCK=1 \
-fno-strict-aliasing -DBOWTIE2_VERSION="\"`cat BOWTIE2_VERSION`\"" -DBUILD_HOST="\"${HOSTNAME:-`hostname`}\"" -DBUILD_TIME="\"`date -u`\"" -DCOMPILER_VERSION="\"`g++ -v 2>&1 | tail -1`\"" -D_LARGEFILE_SOURCE -D_FILE_OFFSET_BITS=64 -D_GNU_SOURCE -DBOWTIE_MM -DBOWTIE2 -DNDEBUG -Wall \
-I third_party \
-o bowtie2-build-s bt2_build.cpp \
ccnt_lut.cpp ref_read.cpp alphabet.cpp shmem.cpp edit.cpp bt2_locks.cpp bt2_idx.cpp bt2_io.cpp bt2_util.cpp reference.cpp ds.cpp multikey_qsort.cpp limit.cpp random_source.cpp diff_sample.cpp bowtie_build_main.cpp \
-lpthread -lz
In file included from bt2_build.cpp:28:
./bt2_idx.h:2625:14: warning: variable 'patoff' set but not used [-Wunused-but-set-variable]
TIndexOffU patoff = 0;
^
1 warning generated.
In file included from bt2_idx.cpp:25:
./bt2_idx.h:2625:14: warning: variable 'patoff' set but not used [-Wunused-but-set-variable]
TIndexOffU patoff = 0;
^
1 warning generated.
In file included from bt2_io.cpp:25:
./bt2_idx.h:2625:14: warning: variable 'patoff' set but not used [-Wunused-but-set-variable]
TIndexOffU patoff = 0;
^
1 warning generated.
In file included from bt2_util.cpp:26:
./bt2_idx.h:2625:14: warning: variable 'patoff' set but not used [-Wunused-but-set-variable]
TIndexOffU patoff = 0;
^
1 warning generated.
g++ -O3 -msse2 -funroll-loops -g3 -DCOMPILER_OPTIONS="\"-O3 -msse2 -funroll-loops -g3 -std=c++11 -DPOPCNT_CAPABILITY -DNO_SPINLOCK -DWITH_QUEUELOCK=1\"" -std=c++11 -DPOPCNT_CAPABILITY -DNO_SPINLOCK -DWITH_QUEUELOCK=1 \
-fno-strict-aliasing -DBOWTIE2_VERSION="\"`cat BOWTIE2_VERSION`\"" -DBUILD_HOST="\"${HOSTNAME:-`hostname`}\"" -DBUILD_TIME="\"`date -u`\"" -DCOMPILER_VERSION="\"`g++ -v 2>&1 | tail -1`\"" -D_LARGEFILE_SOURCE -D_FILE_OFFSET_BITS=64 -D_GNU_SOURCE -DBOWTIE_MM -DBOWTIE2 -DBOWTIE_64BIT_INDEX -DNDEBUG -Wall \
-I third_party \
-o bowtie2-build-l bt2_build.cpp \
ccnt_lut.cpp ref_read.cpp alphabet.cpp shmem.cpp edit.cpp bt2_locks.cpp bt2_idx.cpp bt2_io.cpp bt2_util.cpp reference.cpp ds.cpp multikey_qsort.cpp limit.cpp random_source.cpp diff_sample.cpp bowtie_build_main.cpp \
-lpthread -lz
In file included from bt2_build.cpp:28:
./bt2_idx.h:2625:14: warning: variable 'patoff' set but not used [-Wunused-but-set-variable]
TIndexOffU patoff = 0;
^
1 warning generated.
In file included from bt2_idx.cpp:25:
./bt2_idx.h:2625:14: warning: variable 'patoff' set but not used [-Wunused-but-set-variable]
TIndexOffU patoff = 0;
^
1 warning generated.
In file included from bt2_io.cpp:25:
./bt2_idx.h:2625:14: warning: variable 'patoff' set but not used [-Wunused-but-set-variable]
TIndexOffU patoff = 0;
^
1 warning generated.
In file included from bt2_util.cpp:26:
./bt2_idx.h:2625:14: warning: variable 'patoff' set but not used [-Wunused-but-set-variable]
TIndexOffU patoff = 0;
^
1 warning generated.
g++ -O3 -msse2 -funroll-loops -g3 -DCOMPILER_OPTIONS="\"-O3 -msse2 -funroll-loops -g3 -std=c++11 -DPOPCNT_CAPABILITY -DNO_SPINLOCK -DWITH_QUEUELOCK=1\"" -std=c++11 -DPOPCNT_CAPABILITY -DNO_SPINLOCK -DWITH_QUEUELOCK=1 \
-fno-strict-aliasing -DBOWTIE2_VERSION="\"`cat BOWTIE2_VERSION`\"" -DBUILD_HOST="\"${HOSTNAME:-`hostname`}\"" -DBUILD_TIME="\"`date -u`\"" -DCOMPILER_VERSION="\"`g++ -v 2>&1 | tail -1`\"" -D_LARGEFILE_SOURCE -D_FILE_OFFSET_BITS=64 -D_GNU_SOURCE -DBOWTIE_MM -DBOWTIE2 -DNDEBUG -Wall \
-I third_party \
-o bowtie2-align-s bt2_search.cpp \
ccnt_lut.cpp ref_read.cpp alphabet.cpp shmem.cpp edit.cpp bt2_locks.cpp bt2_idx.cpp bt2_io.cpp bt2_util.cpp reference.cpp ds.cpp multikey_qsort.cpp limit.cpp random_source.cpp qual.cpp pat.cpp sam.cpp read_qseq.cpp aligner_seed_policy.cpp aligner_seed.cpp aligner_seed2.cpp aligner_sw.cpp aligner_sw_driver.cpp aligner_cache.cpp aligner_result.cpp ref_coord.cpp mask.cpp pe.cpp aln_sink.cpp dp_framer.cpp scoring.cpp presets.cpp unique.cpp simple_func.cpp random_util.cpp aligner_bt.cpp sse_util.cpp aligner_swsse.cpp outq.cpp aligner_swsse_loc_i16.cpp aligner_swsse_ee_i16.cpp aligner_swsse_loc_u8.cpp aligner_swsse_ee_u8.cpp aligner_driver.cpp bowtie_main.cpp \
-lpthread -lz
In file included from bt2_search.cpp:41:
./bt2_idx.h:2625:14: warning: variable 'patoff' set but not used [-Wunused-but-set-variable]
TIndexOffU patoff = 0;
^
1 warning generated.
In file included from bt2_idx.cpp:25:
./bt2_idx.h:2625:14: warning: variable 'patoff' set but not used [-Wunused-but-set-variable]
TIndexOffU patoff = 0;
^
1 warning generated.
In file included from bt2_io.cpp:25:
./bt2_idx.h:2625:14: warning: variable 'patoff' set but not used [-Wunused-but-set-variable]
TIndexOffU patoff = 0;
^
1 warning generated.
In file included from bt2_util.cpp:26:
./bt2_idx.h:2625:14: warning: variable 'patoff' set but not used [-Wunused-but-set-variable]
TIndexOffU patoff = 0;
^
1 warning generated.
In file included from aligner_seed.cpp:23:
./bt2_idx.h:2625:14: warning: variable 'patoff' set but not used [-Wunused-but-set-variable]
TIndexOffU patoff = 0;
^
1 warning generated.
In file included from aligner_seed2.cpp:22:
In file included from ./aligner_seed2.h:103:
./bt2_idx.h:2625:14: warning: variable 'patoff' set but not used [-Wunused-but-set-variable]
TIndexOffU patoff = 0;
^
1 warning generated.
In file included from aligner_sw_driver.cpp:47:
In file included from ./aligner_sw_driver.h:84:
In file included from ./group_walk.h:86:
./bt2_idx.h:2625:14: warning: variable 'patoff' set but not used [-Wunused-but-set-variable]
TIndexOffU patoff = 0;
^
aligner_sw_driver.cpp:1074:13: warning: variable 'pastedRefoff' set but not used [-Wunused-but-set-variable]
int64_t pastedRefoff = (int64_t)wr.toff - rdoff;
^
aligner_sw_driver.cpp:1769:13: warning: variable 'pastedRefoff' set but not used [-Wunused-but-set-variable]
int64_t pastedRefoff = (int64_t)wr.toff - rdoff;
^
3 warnings generated.
In file included from aligner_driver.cpp:20:
In file included from ./aligner_driver.h:78:
In file included from ./aligner_seed2.h:103:
./bt2_idx.h:2625:14: warning: variable 'patoff' set but not used [-Wunused-but-set-variable]
TIndexOffU patoff = 0;
^
1 warning generated.
g++ -O3 -msse2 -funroll-loops -g3 -DCOMPILER_OPTIONS="\"-O3 -msse2 -funroll-loops -g3 -std=c++11 -DPOPCNT_CAPABILITY -DNO_SPINLOCK -DWITH_QUEUELOCK=1\"" -std=c++11 -DPOPCNT_CAPABILITY -DNO_SPINLOCK -DWITH_QUEUELOCK=1 \
-fno-strict-aliasing -DBOWTIE2_VERSION="\"`cat BOWTIE2_VERSION`\"" -DBUILD_HOST="\"${HOSTNAME:-`hostname`}\"" -DBUILD_TIME="\"`date -u`\"" -DCOMPILER_VERSION="\"`g++ -v 2>&1 | tail -1`\"" -D_LARGEFILE_SOURCE -D_FILE_OFFSET_BITS=64 -D_GNU_SOURCE -DBOWTIE_MM -DBOWTIE2 -DBOWTIE_64BIT_INDEX -DNDEBUG -Wall \
-I third_party \
-o bowtie2-align-l bt2_search.cpp \
ccnt_lut.cpp ref_read.cpp alphabet.cpp shmem.cpp edit.cpp bt2_locks.cpp bt2_idx.cpp bt2_io.cpp bt2_util.cpp reference.cpp ds.cpp multikey_qsort.cpp limit.cpp random_source.cpp qual.cpp pat.cpp sam.cpp read_qseq.cpp aligner_seed_policy.cpp aligner_seed.cpp aligner_seed2.cpp aligner_sw.cpp aligner_sw_driver.cpp aligner_cache.cpp aligner_result.cpp ref_coord.cpp mask.cpp pe.cpp aln_sink.cpp dp_framer.cpp scoring.cpp presets.cpp unique.cpp simple_func.cpp random_util.cpp aligner_bt.cpp sse_util.cpp aligner_swsse.cpp outq.cpp aligner_swsse_loc_i16.cpp aligner_swsse_ee_i16.cpp aligner_swsse_loc_u8.cpp aligner_swsse_ee_u8.cpp aligner_driver.cpp bowtie_main.cpp \
-lpthread -lz
In file included from bt2_search.cpp:41:
./bt2_idx.h:2625:14: warning: variable 'patoff' set but not used [-Wunused-but-set-variable]
TIndexOffU patoff = 0;
^
1 warning generated.
In file included from bt2_idx.cpp:25:
./bt2_idx.h:2625:14: warning: variable 'patoff' set but not used [-Wunused-but-set-variable]
TIndexOffU patoff = 0;
^
1 warning generated.
In file included from bt2_io.cpp:25:
./bt2_idx.h:2625:14: warning: variable 'patoff' set but not used [-Wunused-but-set-variable]
TIndexOffU patoff = 0;
^
1 warning generated.
In file included from bt2_util.cpp:26:
./bt2_idx.h:2625:14: warning: variable 'patoff' set but not used [-Wunused-but-set-variable]
TIndexOffU patoff = 0;
^
1 warning generated.
In file included from aligner_seed.cpp:23:
./bt2_idx.h:2625:14: warning: variable 'patoff' set but not used [-Wunused-but-set-variable]
TIndexOffU patoff = 0;
^
1 warning generated.
In file included from aligner_seed2.cpp:22:
In file included from ./aligner_seed2.h:103:
./bt2_idx.h:2625:14: warning: variable 'patoff' set but not used [-Wunused-but-set-variable]
TIndexOffU patoff = 0;
^
1 warning generated.
In file included from aligner_sw_driver.cpp:47:
In file included from ./aligner_sw_driver.h:84:
In file included from ./group_walk.h:86:
./bt2_idx.h:2625:14: warning: variable 'patoff' set but not used [-Wunused-but-set-variable]
TIndexOffU patoff = 0;
^
aligner_sw_driver.cpp:1074:13: warning: variable 'pastedRefoff' set but not used [-Wunused-but-set-variable]
int64_t pastedRefoff = (int64_t)wr.toff - rdoff;
^
aligner_sw_driver.cpp:1769:13: warning: variable 'pastedRefoff' set but not used [-Wunused-but-set-variable]
int64_t pastedRefoff = (int64_t)wr.toff - rdoff;
^
3 warnings generated.
In file included from aligner_driver.cpp:20:
In file included from ./aligner_driver.h:78:
In file included from ./aligner_seed2.h:103:
./bt2_idx.h:2625:14: warning: variable 'patoff' set but not used [-Wunused-but-set-variable]
TIndexOffU patoff = 0;
^
1 warning generated.
(cd bowtie2-2.4.4 && (make move -f Makefile))
mv bowtie2-align-s ../../inst
mv bowtie2-build-s ../../inst
mv bowtie2-align-l ../../inst
mv bowtie2-build-l ../../inst
cp bowtie2 ../../inst
cp bowtie2-build ../../inst
(cd bowtie2-2.4.4 && (make clean_dSYM -f Makefile))
rm -rf *.dSYM
g++ -shared -fPIC -o Rbowtie2.so version_info.cpp
installing to /Users/biocbuild/bbs-3.16-bioc/meat/Rbowtie2.buildbin-libdir/00LOCK-Rbowtie2/00new/Rbowtie2/libs
** R
** inst
** byte-compile and prepare package for lazy loading
** help
*** installing help indices
** building package indices
** installing vignettes
** testing if installed package can be loaded from temporary location
** checking absolute paths in shared objects and dynamic libraries
** testing if installed package can be loaded from final location
** testing if installed package keeps a record of temporary installation path
* DONE (Rbowtie2)
>>>>>>>
>>>>>>> FIXING LINKS FOR Rbowtie2.buildbin-libdir/Rbowtie2/libs/Rbowtie2.so
>>>>>>>
install_name_tool -change "/usr/local/lib/libgcc_s.1.dylib" "/Library/Frameworks/R.framework/Versions/4.2/Resources/lib/libgcc_s.1.dylib" "Rbowtie2.buildbin-libdir/Rbowtie2/libs/Rbowtie2.so"
install_name_tool -change "/usr/local/lib/libgfortran.5.dylib" "/Library/Frameworks/R.framework/Versions/4.2/Resources/lib/libgfortran.5.dylib" "Rbowtie2.buildbin-libdir/Rbowtie2/libs/Rbowtie2.so"
install_name_tool -change "/usr/local/lib/libquadmath.0.dylib" "/Library/Frameworks/R.framework/Versions/4.2/Resources/lib/libquadmath.0.dylib" "Rbowtie2.buildbin-libdir/Rbowtie2/libs/Rbowtie2.so"