| Back to Multiple platform build/check report for BioC 3.16: simplified long |
|
This page was generated on 2023-04-12 11:05:17 -0400 (Wed, 12 Apr 2023).
| Hostname | OS | Arch (*) | R version | Installed pkgs |
|---|---|---|---|---|
| nebbiolo2 | Linux (Ubuntu 20.04.5 LTS) | x86_64 | 4.2.3 (2023-03-15) -- "Shortstop Beagle" | 4502 |
| palomino4 | Windows Server 2022 Datacenter | x64 | 4.2.3 (2023-03-15 ucrt) -- "Shortstop Beagle" | 4282 |
| lconway | macOS 12.5.1 Monterey | x86_64 | 4.2.3 (2023-03-15) -- "Shortstop Beagle" | 4310 |
| Click on any hostname to see more info about the system (e.g. compilers) (*) as reported by 'uname -p', except on Windows and Mac OS X | ||||
|
To the developers/maintainers of the RNAdecay package: - Please allow up to 24 hours (and sometimes 48 hours) for your latest push to git@git.bioconductor.org:packages/RNAdecay.git to reflect on this report. See How and When does the builder pull? When will my changes propagate? for more information. - Make sure to use the following settings in order to reproduce any error or warning you see on this page. |
| Package 1699/2183 | Hostname | OS / Arch | INSTALL | BUILD | CHECK | BUILD BIN | ||||||||
| RNAdecay 1.18.0 (landing page) Reed Sorenson
| nebbiolo2 | Linux (Ubuntu 20.04.5 LTS) / x86_64 | OK | OK | OK | |||||||||
| palomino4 | Windows Server 2022 Datacenter / x64 | OK | OK | OK | OK | |||||||||
| lconway | macOS 12.5.1 Monterey / x86_64 | OK | OK | OK | OK | |||||||||
| Package: RNAdecay |
| Version: 1.18.0 |
| Command: /home/biocbuild/bbs-3.16-bioc/R/bin/R CMD INSTALL RNAdecay |
| StartedAt: 2023-04-10 15:13:45 -0400 (Mon, 10 Apr 2023) |
| EndedAt: 2023-04-10 15:19:11 -0400 (Mon, 10 Apr 2023) |
| EllapsedTime: 326.5 seconds |
| RetCode: 0 |
| Status: OK |
##############################################################################
##############################################################################
###
### Running command:
###
### /home/biocbuild/bbs-3.16-bioc/R/bin/R CMD INSTALL RNAdecay
###
##############################################################################
##############################################################################
* installing to library ‘/home/biocbuild/bbs-3.16-bioc/R/site-library’
* installing *source* package ‘RNAdecay’ ...
** using staged installation
** libs
** arch -
/home/biocbuild/bbs-3.16-bioc/R/bin/Rscript --vanilla -e "TMB::compile('general_dExp_1sse.cpp',safebounds=FALSE,safeunload=FALSE)"
make[1]: Entering directory '/home/biocbuild/bbs-3.16-bioc/meat/RNAdecay/src'
g++ -std=gnu++14 -I"/home/biocbuild/bbs-3.16-bioc/R/include" -DNDEBUG -I"/home/biocbuild/bbs-3.16-bioc/R/site-library/TMB/include" -I"/home/biocbuild/bbs-3.16-bioc/R/site-library/RcppEigen/include" -DTMB_EIGEN_DISABLE_WARNINGS -DTMB_LIB_INIT=R_init_general_dExp_1sse -DCPPAD_FRAMEWORK -I/usr/local/include -fpic -g -O2 -Wall -c general_dExp_1sse.cpp -o general_dExp_1sse.o
g++ -std=gnu++14 -shared -L/home/biocbuild/bbs-3.16-bioc/R/lib -L/usr/local/lib -o general_dExp_1sse.so general_dExp_1sse.o -L/home/biocbuild/bbs-3.16-bioc/R/lib -lR
make[1]: Leaving directory '/home/biocbuild/bbs-3.16-bioc/meat/RNAdecay/src'
[1] 0
Warning message:
In checkMatrixPackageVersion() : Package version inconsistency detected.
TMB was built with Matrix version 1.5.3
Current Matrix version is 1.5.4
Please re-install 'TMB' from source using install.packages('TMB', type = 'source') or ask CRAN for a binary version of 'TMB' matching CRAN's 'Matrix' package
/home/biocbuild/bbs-3.16-bioc/R/bin/Rscript --vanilla -e "TMB::compile('general_Exp_1sse.cpp',safebounds=FALSE,safeunload=FALSE)"
make[1]: Entering directory '/home/biocbuild/bbs-3.16-bioc/meat/RNAdecay/src'
g++ -std=gnu++14 -I"/home/biocbuild/bbs-3.16-bioc/R/include" -DNDEBUG -I"/home/biocbuild/bbs-3.16-bioc/R/site-library/TMB/include" -I"/home/biocbuild/bbs-3.16-bioc/R/site-library/RcppEigen/include" -DTMB_EIGEN_DISABLE_WARNINGS -DTMB_LIB_INIT=R_init_general_Exp_1sse -DCPPAD_FRAMEWORK -I/usr/local/include -fpic -g -O2 -Wall -c general_Exp_1sse.cpp -o general_Exp_1sse.o
g++ -std=gnu++14 -shared -L/home/biocbuild/bbs-3.16-bioc/R/lib -L/usr/local/lib -o general_Exp_1sse.so general_Exp_1sse.o -L/home/biocbuild/bbs-3.16-bioc/R/lib -lR
make[1]: Leaving directory '/home/biocbuild/bbs-3.16-bioc/meat/RNAdecay/src'
[1] 0
Warning message:
In checkMatrixPackageVersion() : Package version inconsistency detected.
TMB was built with Matrix version 1.5.3
Current Matrix version is 1.5.4
Please re-install 'TMB' from source using install.packages('TMB', type = 'source') or ask CRAN for a binary version of 'TMB' matching CRAN's 'Matrix' package
/home/biocbuild/bbs-3.16-bioc/R/bin/Rscript --vanilla -e "TMB::compile('general_dExp_2sse.cpp',safebounds=FALSE,safeunload=FALSE)"
make[1]: Entering directory '/home/biocbuild/bbs-3.16-bioc/meat/RNAdecay/src'
g++ -std=gnu++14 -I"/home/biocbuild/bbs-3.16-bioc/R/include" -DNDEBUG -I"/home/biocbuild/bbs-3.16-bioc/R/site-library/TMB/include" -I"/home/biocbuild/bbs-3.16-bioc/R/site-library/RcppEigen/include" -DTMB_EIGEN_DISABLE_WARNINGS -DTMB_LIB_INIT=R_init_general_dExp_2sse -DCPPAD_FRAMEWORK -I/usr/local/include -fpic -g -O2 -Wall -c general_dExp_2sse.cpp -o general_dExp_2sse.o
g++ -std=gnu++14 -shared -L/home/biocbuild/bbs-3.16-bioc/R/lib -L/usr/local/lib -o general_dExp_2sse.so general_dExp_2sse.o -L/home/biocbuild/bbs-3.16-bioc/R/lib -lR
make[1]: Leaving directory '/home/biocbuild/bbs-3.16-bioc/meat/RNAdecay/src'
[1] 0
Warning message:
In checkMatrixPackageVersion() : Package version inconsistency detected.
TMB was built with Matrix version 1.5.3
Current Matrix version is 1.5.4
Please re-install 'TMB' from source using install.packages('TMB', type = 'source') or ask CRAN for a binary version of 'TMB' matching CRAN's 'Matrix' package
/home/biocbuild/bbs-3.16-bioc/R/bin/Rscript --vanilla -e "TMB::compile('general_Exp_2sse.cpp',safebounds=FALSE,safeunload=FALSE)"
make[1]: Entering directory '/home/biocbuild/bbs-3.16-bioc/meat/RNAdecay/src'
g++ -std=gnu++14 -I"/home/biocbuild/bbs-3.16-bioc/R/include" -DNDEBUG -I"/home/biocbuild/bbs-3.16-bioc/R/site-library/TMB/include" -I"/home/biocbuild/bbs-3.16-bioc/R/site-library/RcppEigen/include" -DTMB_EIGEN_DISABLE_WARNINGS -DTMB_LIB_INIT=R_init_general_Exp_2sse -DCPPAD_FRAMEWORK -I/usr/local/include -fpic -g -O2 -Wall -c general_Exp_2sse.cpp -o general_Exp_2sse.o
g++ -std=gnu++14 -shared -L/home/biocbuild/bbs-3.16-bioc/R/lib -L/usr/local/lib -o general_Exp_2sse.so general_Exp_2sse.o -L/home/biocbuild/bbs-3.16-bioc/R/lib -lR
make[1]: Leaving directory '/home/biocbuild/bbs-3.16-bioc/meat/RNAdecay/src'
[1] 0
Warning message:
In checkMatrixPackageVersion() : Package version inconsistency detected.
TMB was built with Matrix version 1.5.3
Current Matrix version is 1.5.4
Please re-install 'TMB' from source using install.packages('TMB', type = 'source') or ask CRAN for a binary version of 'TMB' matching CRAN's 'Matrix' package
/home/biocbuild/bbs-3.16-bioc/R/bin/Rscript --vanilla -e "TMB::compile('general_dExp_3sse.cpp',safebounds=FALSE,safeunload=FALSE)"
make[1]: Entering directory '/home/biocbuild/bbs-3.16-bioc/meat/RNAdecay/src'
g++ -std=gnu++14 -I"/home/biocbuild/bbs-3.16-bioc/R/include" -DNDEBUG -I"/home/biocbuild/bbs-3.16-bioc/R/site-library/TMB/include" -I"/home/biocbuild/bbs-3.16-bioc/R/site-library/RcppEigen/include" -DTMB_EIGEN_DISABLE_WARNINGS -DTMB_LIB_INIT=R_init_general_dExp_3sse -DCPPAD_FRAMEWORK -I/usr/local/include -fpic -g -O2 -Wall -c general_dExp_3sse.cpp -o general_dExp_3sse.o
g++ -std=gnu++14 -shared -L/home/biocbuild/bbs-3.16-bioc/R/lib -L/usr/local/lib -o general_dExp_3sse.so general_dExp_3sse.o -L/home/biocbuild/bbs-3.16-bioc/R/lib -lR
make[1]: Leaving directory '/home/biocbuild/bbs-3.16-bioc/meat/RNAdecay/src'
[1] 0
Warning message:
In checkMatrixPackageVersion() : Package version inconsistency detected.
TMB was built with Matrix version 1.5.3
Current Matrix version is 1.5.4
Please re-install 'TMB' from source using install.packages('TMB', type = 'source') or ask CRAN for a binary version of 'TMB' matching CRAN's 'Matrix' package
/home/biocbuild/bbs-3.16-bioc/R/bin/Rscript --vanilla -e "TMB::compile('general_Exp_3sse.cpp',safebounds=FALSE,safeunload=FALSE)"
make[1]: Entering directory '/home/biocbuild/bbs-3.16-bioc/meat/RNAdecay/src'
g++ -std=gnu++14 -I"/home/biocbuild/bbs-3.16-bioc/R/include" -DNDEBUG -I"/home/biocbuild/bbs-3.16-bioc/R/site-library/TMB/include" -I"/home/biocbuild/bbs-3.16-bioc/R/site-library/RcppEigen/include" -DTMB_EIGEN_DISABLE_WARNINGS -DTMB_LIB_INIT=R_init_general_Exp_3sse -DCPPAD_FRAMEWORK -I/usr/local/include -fpic -g -O2 -Wall -c general_Exp_3sse.cpp -o general_Exp_3sse.o
g++ -std=gnu++14 -shared -L/home/biocbuild/bbs-3.16-bioc/R/lib -L/usr/local/lib -o general_Exp_3sse.so general_Exp_3sse.o -L/home/biocbuild/bbs-3.16-bioc/R/lib -lR
make[1]: Leaving directory '/home/biocbuild/bbs-3.16-bioc/meat/RNAdecay/src'
[1] 0
Warning message:
In checkMatrixPackageVersion() : Package version inconsistency detected.
TMB was built with Matrix version 1.5.3
Current Matrix version is 1.5.4
Please re-install 'TMB' from source using install.packages('TMB', type = 'source') or ask CRAN for a binary version of 'TMB' matching CRAN's 'Matrix' package
/home/biocbuild/bbs-3.16-bioc/R/bin/Rscript --vanilla -e "TMB::compile('general_dExp_4sse.cpp',safebounds=FALSE,safeunload=FALSE)"
make[1]: Entering directory '/home/biocbuild/bbs-3.16-bioc/meat/RNAdecay/src'
g++ -std=gnu++14 -I"/home/biocbuild/bbs-3.16-bioc/R/include" -DNDEBUG -I"/home/biocbuild/bbs-3.16-bioc/R/site-library/TMB/include" -I"/home/biocbuild/bbs-3.16-bioc/R/site-library/RcppEigen/include" -DTMB_EIGEN_DISABLE_WARNINGS -DTMB_LIB_INIT=R_init_general_dExp_4sse -DCPPAD_FRAMEWORK -I/usr/local/include -fpic -g -O2 -Wall -c general_dExp_4sse.cpp -o general_dExp_4sse.o
g++ -std=gnu++14 -shared -L/home/biocbuild/bbs-3.16-bioc/R/lib -L/usr/local/lib -o general_dExp_4sse.so general_dExp_4sse.o -L/home/biocbuild/bbs-3.16-bioc/R/lib -lR
make[1]: Leaving directory '/home/biocbuild/bbs-3.16-bioc/meat/RNAdecay/src'
[1] 0
Warning message:
In checkMatrixPackageVersion() : Package version inconsistency detected.
TMB was built with Matrix version 1.5.3
Current Matrix version is 1.5.4
Please re-install 'TMB' from source using install.packages('TMB', type = 'source') or ask CRAN for a binary version of 'TMB' matching CRAN's 'Matrix' package
/home/biocbuild/bbs-3.16-bioc/R/bin/Rscript --vanilla -e "TMB::compile('general_Exp_4sse.cpp',safebounds=FALSE,safeunload=FALSE)"
make[1]: Entering directory '/home/biocbuild/bbs-3.16-bioc/meat/RNAdecay/src'
g++ -std=gnu++14 -I"/home/biocbuild/bbs-3.16-bioc/R/include" -DNDEBUG -I"/home/biocbuild/bbs-3.16-bioc/R/site-library/TMB/include" -I"/home/biocbuild/bbs-3.16-bioc/R/site-library/RcppEigen/include" -DTMB_EIGEN_DISABLE_WARNINGS -DTMB_LIB_INIT=R_init_general_Exp_4sse -DCPPAD_FRAMEWORK -I/usr/local/include -fpic -g -O2 -Wall -c general_Exp_4sse.cpp -o general_Exp_4sse.o
g++ -std=gnu++14 -shared -L/home/biocbuild/bbs-3.16-bioc/R/lib -L/usr/local/lib -o general_Exp_4sse.so general_Exp_4sse.o -L/home/biocbuild/bbs-3.16-bioc/R/lib -lR
make[1]: Leaving directory '/home/biocbuild/bbs-3.16-bioc/meat/RNAdecay/src'
[1] 0
Warning message:
In checkMatrixPackageVersion() : Package version inconsistency detected.
TMB was built with Matrix version 1.5.3
Current Matrix version is 1.5.4
Please re-install 'TMB' from source using install.packages('TMB', type = 'source') or ask CRAN for a binary version of 'TMB' matching CRAN's 'Matrix' package
installing to /home/biocbuild/bbs-3.16-bioc/R/site-library/00LOCK-RNAdecay/00new/RNAdecay/libs
** R
** data
*** moving datasets to lazyload DB
** inst
** byte-compile and prepare package for lazy loading
** help
*** installing help indices
** building package indices
** installing vignettes
** testing if installed package can be loaded from temporary location
** checking absolute paths in shared objects and dynamic libraries
** testing if installed package can be loaded from final location
** testing if installed package keeps a record of temporary installation path
* DONE (RNAdecay)