| Back to Multiple platform build/check report for BioC 3.16: simplified long |
|
This page was generated on 2023-04-12 11:06:23 -0400 (Wed, 12 Apr 2023).
| Hostname | OS | Arch (*) | R version | Installed pkgs |
|---|---|---|---|---|
| nebbiolo2 | Linux (Ubuntu 20.04.5 LTS) | x86_64 | 4.2.3 (2023-03-15) -- "Shortstop Beagle" | 4502 |
| palomino4 | Windows Server 2022 Datacenter | x64 | 4.2.3 (2023-03-15 ucrt) -- "Shortstop Beagle" | 4282 |
| lconway | macOS 12.5.1 Monterey | x86_64 | 4.2.3 (2023-03-15) -- "Shortstop Beagle" | 4310 |
| Click on any hostname to see more info about the system (e.g. compilers) (*) as reported by 'uname -p', except on Windows and Mac OS X | ||||
|
To the developers/maintainers of the RNAdecay package: - Please allow up to 24 hours (and sometimes 48 hours) for your latest push to git@git.bioconductor.org:packages/RNAdecay.git to reflect on this report. See How and When does the builder pull? When will my changes propagate? for more information. - Make sure to use the following settings in order to reproduce any error or warning you see on this page. |
| Package 1699/2183 | Hostname | OS / Arch | INSTALL | BUILD | CHECK | BUILD BIN | ||||||||
| RNAdecay 1.18.0 (landing page) Reed Sorenson
| nebbiolo2 | Linux (Ubuntu 20.04.5 LTS) / x86_64 | OK | OK | OK | |||||||||
| palomino4 | Windows Server 2022 Datacenter / x64 | OK | OK | OK | OK | |||||||||
| lconway | macOS 12.5.1 Monterey / x86_64 | OK | OK | OK | OK | |||||||||
| Package: RNAdecay |
| Version: 1.18.0 |
| Command: /Library/Frameworks/R.framework/Resources/bin/R CMD check --install=check:RNAdecay.install-out.txt --library=/Library/Frameworks/R.framework/Resources/library --no-vignettes --timings RNAdecay_1.18.0.tar.gz |
| StartedAt: 2023-04-10 22:17:32 -0400 (Mon, 10 Apr 2023) |
| EndedAt: 2023-04-10 22:18:05 -0400 (Mon, 10 Apr 2023) |
| EllapsedTime: 33.5 seconds |
| RetCode: 0 |
| Status: OK |
| CheckDir: RNAdecay.Rcheck |
| Warnings: 0 |
##############################################################################
##############################################################################
###
### Running command:
###
### /Library/Frameworks/R.framework/Resources/bin/R CMD check --install=check:RNAdecay.install-out.txt --library=/Library/Frameworks/R.framework/Resources/library --no-vignettes --timings RNAdecay_1.18.0.tar.gz
###
##############################################################################
##############################################################################
* using log directory ‘/Users/biocbuild/bbs-3.16-bioc/meat/RNAdecay.Rcheck’
* using R version 4.2.3 (2023-03-15)
* using platform: x86_64-apple-darwin17.0 (64-bit)
* using session charset: UTF-8
* using option ‘--no-vignettes’
* checking for file ‘RNAdecay/DESCRIPTION’ ... OK
* this is package ‘RNAdecay’ version ‘1.18.0’
* package encoding: UTF-8
* checking package namespace information ... OK
* checking package dependencies ... OK
* checking if this is a source package ... OK
* checking if there is a namespace ... OK
* checking for hidden files and directories ... OK
* checking for portable file names ... OK
* checking for sufficient/correct file permissions ... OK
* checking whether package ‘RNAdecay’ can be installed ... OK
* checking installed package size ... NOTE
installed size is 98.0Mb
sub-directories of 1Mb or more:
data 2.7Mb
libs 95.2Mb
* checking package directory ... OK
* checking ‘build’ directory ... OK
* checking DESCRIPTION meta-information ... OK
* checking top-level files ... OK
* checking for left-over files ... OK
* checking index information ... OK
* checking package subdirectories ... OK
* checking R files for non-ASCII characters ... OK
* checking R files for syntax errors ... OK
* checking whether the package can be loaded ... OK
* checking whether the package can be loaded with stated dependencies ... OK
* checking whether the package can be unloaded cleanly ... OK
* checking whether the namespace can be loaded with stated dependencies ... OK
* checking whether the namespace can be unloaded cleanly ... OK
* checking dependencies in R code ... OK
* checking S3 generic/method consistency ... OK
* checking replacement functions ... OK
* checking foreign function calls ... OK
* checking R code for possible problems ... NOTE
decay_plot: no visible binding for global variable ‘text’
decay_plot: no visible binding for global variable ‘x’
decay_plot: no visible binding for global variable ‘y’
decay_plot: no visible binding for global variable ‘treatment’
decay_plot: no visible binding for global variable ‘t.decay’
decay_plot: no visible binding for global variable ‘value’
hl_plot: no visible binding for global variable ‘x’
hl_plot: no visible binding for global variable ‘y’
Undefined global functions or variables:
t.decay text treatment value x y
Consider adding
importFrom("graphics", "text")
to your NAMESPACE file.
* checking Rd files ... OK
* checking Rd metadata ... OK
* checking Rd cross-references ... OK
* checking for missing documentation entries ... OK
* checking for code/documentation mismatches ... OK
* checking Rd \usage sections ... OK
* checking Rd contents ... OK
* checking for unstated dependencies in examples ... OK
* checking contents of ‘data’ directory ... OK
* checking data for non-ASCII characters ... OK
* checking LazyData ... OK
* checking data for ASCII and uncompressed saves ... OK
* checking line endings in C/C++/Fortran sources/headers ... OK
* checking line endings in Makefiles ... OK
* checking for GNU extensions in Makefiles ... OK
* checking for portable use of $(BLAS_LIBS) and $(LAPACK_LIBS) ... OK
* checking use of PKG_*FLAGS in Makefiles ... OK
* checking include directives in Makefiles ... OK
* checking compiled code ... NOTE
Note: information on .o files is not available
* checking files in ‘vignettes’ ... OK
* checking examples ... OK
* checking for unstated dependencies in vignettes ... OK
* checking package vignettes in ‘inst/doc’ ... OK
* checking running R code from vignettes ... SKIPPED
* checking re-building of vignette outputs ... SKIPPED
* checking PDF version of manual ... OK
* DONE
Status: 3 NOTEs
See
‘/Users/biocbuild/bbs-3.16-bioc/meat/RNAdecay.Rcheck/00check.log’
for details.
RNAdecay.Rcheck/00install.out
##############################################################################
##############################################################################
###
### Running command:
###
### /Library/Frameworks/R.framework/Resources/bin/R CMD INSTALL RNAdecay
###
##############################################################################
##############################################################################
* installing to library ‘/Library/Frameworks/R.framework/Versions/4.2/Resources/library’
* installing *source* package ‘RNAdecay’ ...
** using staged installation
** libs
** arch -
/Library/Frameworks/R.framework/Resources/bin/Rscript --vanilla -e "TMB::compile('general_dExp_1sse.cpp',safebounds=FALSE,safeunload=FALSE)"
clang++ -mmacosx-version-min=10.13 -std=gnu++14 -I"/Library/Frameworks/R.framework/Resources/include" -DNDEBUG -I"/Library/Frameworks/R.framework/Versions/4.2/Resources/library/TMB/include" -I"/Library/Frameworks/R.framework/Versions/4.2/Resources/library/RcppEigen/include" -DTMB_EIGEN_DISABLE_WARNINGS -DTMB_LIB_INIT=R_init_general_dExp_1sse -DCPPAD_FRAMEWORK -I/usr/local/include -fPIC -Wall -g -O2 -c general_dExp_1sse.cpp -o general_dExp_1sse.o
In file included from general_dExp_1sse.cpp:2:
In file included from /Library/Frameworks/R.framework/Versions/4.2/Resources/library/TMB/include/TMB.hpp:112:
In file included from /Library/Frameworks/R.framework/Versions/4.2/Resources/library/TMB/include/cppad/cppad.hpp:34:
/Library/Frameworks/R.framework/Versions/4.2/Resources/library/TMB/include/cppad/ode_gear.hpp:489:6: warning: variable 'sign' set but not used [-Wunused-but-set-variable]
int sign;
^
In file included from general_dExp_1sse.cpp:2:
In file included from /Library/Frameworks/R.framework/Versions/4.2/Resources/library/TMB/include/TMB.hpp:112:
In file included from /Library/Frameworks/R.framework/Versions/4.2/Resources/library/TMB/include/cppad/cppad.hpp:39:
/Library/Frameworks/R.framework/Versions/4.2/Resources/library/TMB/include/cppad/romberg_mul.hpp:277:10: warning: variable 'pow2' set but not used [-Wunused-but-set-variable]
size_t pow2 = 1;
^
2 warnings generated.
clang++ -mmacosx-version-min=10.13 -std=gnu++14 -dynamiclib -Wl,-headerpad_max_install_names -undefined dynamic_lookup -single_module -multiply_defined suppress -L/Library/Frameworks/R.framework/Resources/lib -L/usr/local/lib -o general_dExp_1sse.so general_dExp_1sse.o -F/Library/Frameworks/R.framework/.. -framework R -Wl,-framework -Wl,CoreFoundation
[1] 0
Warning message:
In checkMatrixPackageVersion() : Package version inconsistency detected.
TMB was built with Matrix version 1.5.3
Current Matrix version is 1.5.4
Please re-install 'TMB' from source using install.packages('TMB', type = 'source') or ask CRAN for a binary version of 'TMB' matching CRAN's 'Matrix' package
/Library/Frameworks/R.framework/Resources/bin/Rscript --vanilla -e "TMB::compile('general_Exp_1sse.cpp',safebounds=FALSE,safeunload=FALSE)"
clang++ -mmacosx-version-min=10.13 -std=gnu++14 -I"/Library/Frameworks/R.framework/Resources/include" -DNDEBUG -I"/Library/Frameworks/R.framework/Versions/4.2/Resources/library/TMB/include" -I"/Library/Frameworks/R.framework/Versions/4.2/Resources/library/RcppEigen/include" -DTMB_EIGEN_DISABLE_WARNINGS -DTMB_LIB_INIT=R_init_general_Exp_1sse -DCPPAD_FRAMEWORK -I/usr/local/include -fPIC -Wall -g -O2 -c general_Exp_1sse.cpp -o general_Exp_1sse.o
In file included from general_Exp_1sse.cpp:2:
In file included from /Library/Frameworks/R.framework/Versions/4.2/Resources/library/TMB/include/TMB.hpp:112:
In file included from /Library/Frameworks/R.framework/Versions/4.2/Resources/library/TMB/include/cppad/cppad.hpp:34:
/Library/Frameworks/R.framework/Versions/4.2/Resources/library/TMB/include/cppad/ode_gear.hpp:489:6: warning: variable 'sign' set but not used [-Wunused-but-set-variable]
int sign;
^
In file included from general_Exp_1sse.cpp:2:
In file included from /Library/Frameworks/R.framework/Versions/4.2/Resources/library/TMB/include/TMB.hpp:112:
In file included from /Library/Frameworks/R.framework/Versions/4.2/Resources/library/TMB/include/cppad/cppad.hpp:39:
/Library/Frameworks/R.framework/Versions/4.2/Resources/library/TMB/include/cppad/romberg_mul.hpp:277:10: warning: variable 'pow2' set but not used [-Wunused-but-set-variable]
size_t pow2 = 1;
^
2 warnings generated.
clang++ -mmacosx-version-min=10.13 -std=gnu++14 -dynamiclib -Wl,-headerpad_max_install_names -undefined dynamic_lookup -single_module -multiply_defined suppress -L/Library/Frameworks/R.framework/Resources/lib -L/usr/local/lib -o general_Exp_1sse.so general_Exp_1sse.o -F/Library/Frameworks/R.framework/.. -framework R -Wl,-framework -Wl,CoreFoundation
[1] 0
Warning message:
In checkMatrixPackageVersion() : Package version inconsistency detected.
TMB was built with Matrix version 1.5.3
Current Matrix version is 1.5.4
Please re-install 'TMB' from source using install.packages('TMB', type = 'source') or ask CRAN for a binary version of 'TMB' matching CRAN's 'Matrix' package
/Library/Frameworks/R.framework/Resources/bin/Rscript --vanilla -e "TMB::compile('general_dExp_2sse.cpp',safebounds=FALSE,safeunload=FALSE)"
clang++ -mmacosx-version-min=10.13 -std=gnu++14 -I"/Library/Frameworks/R.framework/Resources/include" -DNDEBUG -I"/Library/Frameworks/R.framework/Versions/4.2/Resources/library/TMB/include" -I"/Library/Frameworks/R.framework/Versions/4.2/Resources/library/RcppEigen/include" -DTMB_EIGEN_DISABLE_WARNINGS -DTMB_LIB_INIT=R_init_general_dExp_2sse -DCPPAD_FRAMEWORK -I/usr/local/include -fPIC -Wall -g -O2 -c general_dExp_2sse.cpp -o general_dExp_2sse.o
In file included from general_dExp_2sse.cpp:2:
In file included from /Library/Frameworks/R.framework/Versions/4.2/Resources/library/TMB/include/TMB.hpp:112:
In file included from /Library/Frameworks/R.framework/Versions/4.2/Resources/library/TMB/include/cppad/cppad.hpp:34:
/Library/Frameworks/R.framework/Versions/4.2/Resources/library/TMB/include/cppad/ode_gear.hpp:489:6: warning: variable 'sign' set but not used [-Wunused-but-set-variable]
int sign;
^
In file included from general_dExp_2sse.cpp:2:
In file included from /Library/Frameworks/R.framework/Versions/4.2/Resources/library/TMB/include/TMB.hpp:112:
In file included from /Library/Frameworks/R.framework/Versions/4.2/Resources/library/TMB/include/cppad/cppad.hpp:39:
/Library/Frameworks/R.framework/Versions/4.2/Resources/library/TMB/include/cppad/romberg_mul.hpp:277:10: warning: variable 'pow2' set but not used [-Wunused-but-set-variable]
size_t pow2 = 1;
^
2 warnings generated.
clang++ -mmacosx-version-min=10.13 -std=gnu++14 -dynamiclib -Wl,-headerpad_max_install_names -undefined dynamic_lookup -single_module -multiply_defined suppress -L/Library/Frameworks/R.framework/Resources/lib -L/usr/local/lib -o general_dExp_2sse.so general_dExp_2sse.o -F/Library/Frameworks/R.framework/.. -framework R -Wl,-framework -Wl,CoreFoundation
[1] 0
Warning message:
In checkMatrixPackageVersion() : Package version inconsistency detected.
TMB was built with Matrix version 1.5.3
Current Matrix version is 1.5.4
Please re-install 'TMB' from source using install.packages('TMB', type = 'source') or ask CRAN for a binary version of 'TMB' matching CRAN's 'Matrix' package
/Library/Frameworks/R.framework/Resources/bin/Rscript --vanilla -e "TMB::compile('general_Exp_2sse.cpp',safebounds=FALSE,safeunload=FALSE)"
clang++ -mmacosx-version-min=10.13 -std=gnu++14 -I"/Library/Frameworks/R.framework/Resources/include" -DNDEBUG -I"/Library/Frameworks/R.framework/Versions/4.2/Resources/library/TMB/include" -I"/Library/Frameworks/R.framework/Versions/4.2/Resources/library/RcppEigen/include" -DTMB_EIGEN_DISABLE_WARNINGS -DTMB_LIB_INIT=R_init_general_Exp_2sse -DCPPAD_FRAMEWORK -I/usr/local/include -fPIC -Wall -g -O2 -c general_Exp_2sse.cpp -o general_Exp_2sse.o
In file included from general_Exp_2sse.cpp:2:
In file included from /Library/Frameworks/R.framework/Versions/4.2/Resources/library/TMB/include/TMB.hpp:112:
In file included from /Library/Frameworks/R.framework/Versions/4.2/Resources/library/TMB/include/cppad/cppad.hpp:34:
/Library/Frameworks/R.framework/Versions/4.2/Resources/library/TMB/include/cppad/ode_gear.hpp:489:6: warning: variable 'sign' set but not used [-Wunused-but-set-variable]
int sign;
^
In file included from general_Exp_2sse.cpp:2:
In file included from /Library/Frameworks/R.framework/Versions/4.2/Resources/library/TMB/include/TMB.hpp:112:
In file included from /Library/Frameworks/R.framework/Versions/4.2/Resources/library/TMB/include/cppad/cppad.hpp:39:
/Library/Frameworks/R.framework/Versions/4.2/Resources/library/TMB/include/cppad/romberg_mul.hpp:277:10: warning: variable 'pow2' set but not used [-Wunused-but-set-variable]
size_t pow2 = 1;
^
2 warnings generated.
clang++ -mmacosx-version-min=10.13 -std=gnu++14 -dynamiclib -Wl,-headerpad_max_install_names -undefined dynamic_lookup -single_module -multiply_defined suppress -L/Library/Frameworks/R.framework/Resources/lib -L/usr/local/lib -o general_Exp_2sse.so general_Exp_2sse.o -F/Library/Frameworks/R.framework/.. -framework R -Wl,-framework -Wl,CoreFoundation
[1] 0
Warning message:
In checkMatrixPackageVersion() : Package version inconsistency detected.
TMB was built with Matrix version 1.5.3
Current Matrix version is 1.5.4
Please re-install 'TMB' from source using install.packages('TMB', type = 'source') or ask CRAN for a binary version of 'TMB' matching CRAN's 'Matrix' package
/Library/Frameworks/R.framework/Resources/bin/Rscript --vanilla -e "TMB::compile('general_dExp_3sse.cpp',safebounds=FALSE,safeunload=FALSE)"
clang++ -mmacosx-version-min=10.13 -std=gnu++14 -I"/Library/Frameworks/R.framework/Resources/include" -DNDEBUG -I"/Library/Frameworks/R.framework/Versions/4.2/Resources/library/TMB/include" -I"/Library/Frameworks/R.framework/Versions/4.2/Resources/library/RcppEigen/include" -DTMB_EIGEN_DISABLE_WARNINGS -DTMB_LIB_INIT=R_init_general_dExp_3sse -DCPPAD_FRAMEWORK -I/usr/local/include -fPIC -Wall -g -O2 -c general_dExp_3sse.cpp -o general_dExp_3sse.o
In file included from general_dExp_3sse.cpp:2:
In file included from /Library/Frameworks/R.framework/Versions/4.2/Resources/library/TMB/include/TMB.hpp:112:
In file included from /Library/Frameworks/R.framework/Versions/4.2/Resources/library/TMB/include/cppad/cppad.hpp:34:
/Library/Frameworks/R.framework/Versions/4.2/Resources/library/TMB/include/cppad/ode_gear.hpp:489:6: warning: variable 'sign' set but not used [-Wunused-but-set-variable]
int sign;
^
In file included from general_dExp_3sse.cpp:2:
In file included from /Library/Frameworks/R.framework/Versions/4.2/Resources/library/TMB/include/TMB.hpp:112:
In file included from /Library/Frameworks/R.framework/Versions/4.2/Resources/library/TMB/include/cppad/cppad.hpp:39:
/Library/Frameworks/R.framework/Versions/4.2/Resources/library/TMB/include/cppad/romberg_mul.hpp:277:10: warning: variable 'pow2' set but not used [-Wunused-but-set-variable]
size_t pow2 = 1;
^
2 warnings generated.
clang++ -mmacosx-version-min=10.13 -std=gnu++14 -dynamiclib -Wl,-headerpad_max_install_names -undefined dynamic_lookup -single_module -multiply_defined suppress -L/Library/Frameworks/R.framework/Resources/lib -L/usr/local/lib -o general_dExp_3sse.so general_dExp_3sse.o -F/Library/Frameworks/R.framework/.. -framework R -Wl,-framework -Wl,CoreFoundation
[1] 0
Warning message:
In checkMatrixPackageVersion() : Package version inconsistency detected.
TMB was built with Matrix version 1.5.3
Current Matrix version is 1.5.4
Please re-install 'TMB' from source using install.packages('TMB', type = 'source') or ask CRAN for a binary version of 'TMB' matching CRAN's 'Matrix' package
/Library/Frameworks/R.framework/Resources/bin/Rscript --vanilla -e "TMB::compile('general_Exp_3sse.cpp',safebounds=FALSE,safeunload=FALSE)"
clang++ -mmacosx-version-min=10.13 -std=gnu++14 -I"/Library/Frameworks/R.framework/Resources/include" -DNDEBUG -I"/Library/Frameworks/R.framework/Versions/4.2/Resources/library/TMB/include" -I"/Library/Frameworks/R.framework/Versions/4.2/Resources/library/RcppEigen/include" -DTMB_EIGEN_DISABLE_WARNINGS -DTMB_LIB_INIT=R_init_general_Exp_3sse -DCPPAD_FRAMEWORK -I/usr/local/include -fPIC -Wall -g -O2 -c general_Exp_3sse.cpp -o general_Exp_3sse.o
In file included from general_Exp_3sse.cpp:2:
In file included from /Library/Frameworks/R.framework/Versions/4.2/Resources/library/TMB/include/TMB.hpp:112:
In file included from /Library/Frameworks/R.framework/Versions/4.2/Resources/library/TMB/include/cppad/cppad.hpp:34:
/Library/Frameworks/R.framework/Versions/4.2/Resources/library/TMB/include/cppad/ode_gear.hpp:489:6: warning: variable 'sign' set but not used [-Wunused-but-set-variable]
int sign;
^
In file included from general_Exp_3sse.cpp:2:
In file included from /Library/Frameworks/R.framework/Versions/4.2/Resources/library/TMB/include/TMB.hpp:112:
In file included from /Library/Frameworks/R.framework/Versions/4.2/Resources/library/TMB/include/cppad/cppad.hpp:39:
/Library/Frameworks/R.framework/Versions/4.2/Resources/library/TMB/include/cppad/romberg_mul.hpp:277:10: warning: variable 'pow2' set but not used [-Wunused-but-set-variable]
size_t pow2 = 1;
^
2 warnings generated.
clang++ -mmacosx-version-min=10.13 -std=gnu++14 -dynamiclib -Wl,-headerpad_max_install_names -undefined dynamic_lookup -single_module -multiply_defined suppress -L/Library/Frameworks/R.framework/Resources/lib -L/usr/local/lib -o general_Exp_3sse.so general_Exp_3sse.o -F/Library/Frameworks/R.framework/.. -framework R -Wl,-framework -Wl,CoreFoundation
[1] 0
Warning message:
In checkMatrixPackageVersion() : Package version inconsistency detected.
TMB was built with Matrix version 1.5.3
Current Matrix version is 1.5.4
Please re-install 'TMB' from source using install.packages('TMB', type = 'source') or ask CRAN for a binary version of 'TMB' matching CRAN's 'Matrix' package
/Library/Frameworks/R.framework/Resources/bin/Rscript --vanilla -e "TMB::compile('general_dExp_4sse.cpp',safebounds=FALSE,safeunload=FALSE)"
clang++ -mmacosx-version-min=10.13 -std=gnu++14 -I"/Library/Frameworks/R.framework/Resources/include" -DNDEBUG -I"/Library/Frameworks/R.framework/Versions/4.2/Resources/library/TMB/include" -I"/Library/Frameworks/R.framework/Versions/4.2/Resources/library/RcppEigen/include" -DTMB_EIGEN_DISABLE_WARNINGS -DTMB_LIB_INIT=R_init_general_dExp_4sse -DCPPAD_FRAMEWORK -I/usr/local/include -fPIC -Wall -g -O2 -c general_dExp_4sse.cpp -o general_dExp_4sse.o
In file included from general_dExp_4sse.cpp:2:
In file included from /Library/Frameworks/R.framework/Versions/4.2/Resources/library/TMB/include/TMB.hpp:112:
In file included from /Library/Frameworks/R.framework/Versions/4.2/Resources/library/TMB/include/cppad/cppad.hpp:34:
/Library/Frameworks/R.framework/Versions/4.2/Resources/library/TMB/include/cppad/ode_gear.hpp:489:6: warning: variable 'sign' set but not used [-Wunused-but-set-variable]
int sign;
^
In file included from general_dExp_4sse.cpp:2:
In file included from /Library/Frameworks/R.framework/Versions/4.2/Resources/library/TMB/include/TMB.hpp:112:
In file included from /Library/Frameworks/R.framework/Versions/4.2/Resources/library/TMB/include/cppad/cppad.hpp:39:
/Library/Frameworks/R.framework/Versions/4.2/Resources/library/TMB/include/cppad/romberg_mul.hpp:277:10: warning: variable 'pow2' set but not used [-Wunused-but-set-variable]
size_t pow2 = 1;
^
2 warnings generated.
clang++ -mmacosx-version-min=10.13 -std=gnu++14 -dynamiclib -Wl,-headerpad_max_install_names -undefined dynamic_lookup -single_module -multiply_defined suppress -L/Library/Frameworks/R.framework/Resources/lib -L/usr/local/lib -o general_dExp_4sse.so general_dExp_4sse.o -F/Library/Frameworks/R.framework/.. -framework R -Wl,-framework -Wl,CoreFoundation
[1] 0
Warning message:
In checkMatrixPackageVersion() : Package version inconsistency detected.
TMB was built with Matrix version 1.5.3
Current Matrix version is 1.5.4
Please re-install 'TMB' from source using install.packages('TMB', type = 'source') or ask CRAN for a binary version of 'TMB' matching CRAN's 'Matrix' package
/Library/Frameworks/R.framework/Resources/bin/Rscript --vanilla -e "TMB::compile('general_Exp_4sse.cpp',safebounds=FALSE,safeunload=FALSE)"
clang++ -mmacosx-version-min=10.13 -std=gnu++14 -I"/Library/Frameworks/R.framework/Resources/include" -DNDEBUG -I"/Library/Frameworks/R.framework/Versions/4.2/Resources/library/TMB/include" -I"/Library/Frameworks/R.framework/Versions/4.2/Resources/library/RcppEigen/include" -DTMB_EIGEN_DISABLE_WARNINGS -DTMB_LIB_INIT=R_init_general_Exp_4sse -DCPPAD_FRAMEWORK -I/usr/local/include -fPIC -Wall -g -O2 -c general_Exp_4sse.cpp -o general_Exp_4sse.o
In file included from general_Exp_4sse.cpp:2:
In file included from /Library/Frameworks/R.framework/Versions/4.2/Resources/library/TMB/include/TMB.hpp:112:
In file included from /Library/Frameworks/R.framework/Versions/4.2/Resources/library/TMB/include/cppad/cppad.hpp:34:
/Library/Frameworks/R.framework/Versions/4.2/Resources/library/TMB/include/cppad/ode_gear.hpp:489:6: warning: variable 'sign' set but not used [-Wunused-but-set-variable]
int sign;
^
In file included from general_Exp_4sse.cpp:2:
In file included from /Library/Frameworks/R.framework/Versions/4.2/Resources/library/TMB/include/TMB.hpp:112:
In file included from /Library/Frameworks/R.framework/Versions/4.2/Resources/library/TMB/include/cppad/cppad.hpp:39:
/Library/Frameworks/R.framework/Versions/4.2/Resources/library/TMB/include/cppad/romberg_mul.hpp:277:10: warning: variable 'pow2' set but not used [-Wunused-but-set-variable]
size_t pow2 = 1;
^
2 warnings generated.
clang++ -mmacosx-version-min=10.13 -std=gnu++14 -dynamiclib -Wl,-headerpad_max_install_names -undefined dynamic_lookup -single_module -multiply_defined suppress -L/Library/Frameworks/R.framework/Resources/lib -L/usr/local/lib -o general_Exp_4sse.so general_Exp_4sse.o -F/Library/Frameworks/R.framework/.. -framework R -Wl,-framework -Wl,CoreFoundation
[1] 0
Warning message:
In checkMatrixPackageVersion() : Package version inconsistency detected.
TMB was built with Matrix version 1.5.3
Current Matrix version is 1.5.4
Please re-install 'TMB' from source using install.packages('TMB', type = 'source') or ask CRAN for a binary version of 'TMB' matching CRAN's 'Matrix' package
installing to /Library/Frameworks/R.framework/Versions/4.2/Resources/library/00LOCK-RNAdecay/00new/RNAdecay/libs
** R
** data
*** moving datasets to lazyload DB
** inst
** byte-compile and prepare package for lazy loading
** help
*** installing help indices
** building package indices
** installing vignettes
** testing if installed package can be loaded from temporary location
** checking absolute paths in shared objects and dynamic libraries
** testing if installed package can be loaded from final location
** testing if installed package keeps a record of temporary installation path
* DONE (RNAdecay)
RNAdecay.Rcheck/RNAdecay-Ex.timings
| name | user | system | elapsed | |
| a_high | 0.001 | 0.000 | 0.000 | |
| aic | 0 | 0 | 0 | |
| cols | 0.002 | 0.001 | 0.003 | |
| comb_cv | 0.001 | 0.000 | 0.002 | |
| const_decay | 0.001 | 0.001 | 0.001 | |
| constraint_fun_list_maker | 0.001 | 0.000 | 0.002 | |
| decay_plot | 0.883 | 0.047 | 0.932 | |
| fit_var | 0 | 0 | 0 | |
| group_map | 0.037 | 0.007 | 0.045 | |
| groupings | 0.001 | 0.001 | 0.002 | |
| hl_plot | 0.921 | 0.013 | 0.936 | |
| log_lik | 0.001 | 0.000 | 0.000 | |
| mod_optimization | 1.352 | 0.060 | 1.417 | |
| n_par | 0.000 | 0.000 | 0.001 | |
| plain_theme | 0.241 | 0.006 | 0.247 | |
| sse_null_decaying_decay | 0.001 | 0.000 | 0.000 | |