| Back to Multiple platform build/check report for BioC 3.16: simplified long |
|
This page was generated on 2023-04-12 11:05:48 -0400 (Wed, 12 Apr 2023).
| Hostname | OS | Arch (*) | R version | Installed pkgs |
|---|---|---|---|---|
| nebbiolo2 | Linux (Ubuntu 20.04.5 LTS) | x86_64 | 4.2.3 (2023-03-15) -- "Shortstop Beagle" | 4502 |
| palomino4 | Windows Server 2022 Datacenter | x64 | 4.2.3 (2023-03-15 ucrt) -- "Shortstop Beagle" | 4282 |
| lconway | macOS 12.5.1 Monterey | x86_64 | 4.2.3 (2023-03-15) -- "Shortstop Beagle" | 4310 |
| Click on any hostname to see more info about the system (e.g. compilers) (*) as reported by 'uname -p', except on Windows and Mac OS X | ||||
|
To the developers/maintainers of the RESOLVE package: - Please allow up to 24 hours (and sometimes 48 hours) for your latest push to git@git.bioconductor.org:packages/RESOLVE.git to reflect on this report. See How and When does the builder pull? When will my changes propagate? for more information. - Make sure to use the following settings in order to reproduce any error or warning you see on this page. |
| Package 1654/2183 | Hostname | OS / Arch | INSTALL | BUILD | CHECK | BUILD BIN | ||||||||
| RESOLVE 1.0.0 (landing page) Luca De Sano
| nebbiolo2 | Linux (Ubuntu 20.04.5 LTS) / x86_64 | OK | OK | OK | |||||||||
| palomino4 | Windows Server 2022 Datacenter / x64 | OK | OK | OK | OK | |||||||||
| lconway | macOS 12.5.1 Monterey / x86_64 | OK | OK | OK | OK | |||||||||
| Package: RESOLVE |
| Version: 1.0.0 |
| Command: F:\biocbuild\bbs-3.16-bioc\R\bin\R.exe CMD check --no-multiarch --install=check:RESOLVE.install-out.txt --library=F:\biocbuild\bbs-3.16-bioc\R\library --no-vignettes --timings RESOLVE_1.0.0.tar.gz |
| StartedAt: 2023-04-11 05:08:15 -0400 (Tue, 11 Apr 2023) |
| EndedAt: 2023-04-11 05:14:57 -0400 (Tue, 11 Apr 2023) |
| EllapsedTime: 402.2 seconds |
| RetCode: 0 |
| Status: OK |
| CheckDir: RESOLVE.Rcheck |
| Warnings: 0 |
##############################################################################
##############################################################################
###
### Running command:
###
### F:\biocbuild\bbs-3.16-bioc\R\bin\R.exe CMD check --no-multiarch --install=check:RESOLVE.install-out.txt --library=F:\biocbuild\bbs-3.16-bioc\R\library --no-vignettes --timings RESOLVE_1.0.0.tar.gz
###
##############################################################################
##############################################################################
* using log directory 'F:/biocbuild/bbs-3.16-bioc/meat/RESOLVE.Rcheck'
* using R version 4.2.3 (2023-03-15 ucrt)
* using platform: x86_64-w64-mingw32 (64-bit)
* using session charset: UTF-8
* using option '--no-vignettes'
* checking for file 'RESOLVE/DESCRIPTION' ... OK
* this is package 'RESOLVE' version '1.0.0'
* package encoding: UTF-8
* checking package namespace information ... OK
* checking package dependencies ... OK
* checking if this is a source package ... OK
* checking if there is a namespace ... OK
* checking for hidden files and directories ... OK
* checking for portable file names ... OK
* checking whether package 'RESOLVE' can be installed ... OK
* checking installed package size ... OK
* checking package directory ... OK
* checking 'build' directory ... OK
* checking DESCRIPTION meta-information ... OK
* checking top-level files ... OK
* checking for left-over files ... OK
* checking index information ... OK
* checking package subdirectories ... OK
* checking R files for non-ASCII characters ... OK
* checking R files for syntax errors ... OK
* checking whether the package can be loaded ... OK
* checking whether the package can be loaded with stated dependencies ... OK
* checking whether the package can be unloaded cleanly ... OK
* checking whether the namespace can be loaded with stated dependencies ... OK
* checking whether the namespace can be unloaded cleanly ... OK
* checking dependencies in R code ... OK
* checking S3 generic/method consistency ... OK
* checking replacement functions ... OK
* checking foreign function calls ... OK
* checking R code for possible problems ... OK
* checking Rd files ... OK
* checking Rd metadata ... OK
* checking Rd cross-references ... OK
* checking for missing documentation entries ... OK
* checking for code/documentation mismatches ... OK
* checking Rd \usage sections ... OK
* checking Rd contents ... OK
* checking for unstated dependencies in examples ... OK
* checking contents of 'data' directory ... OK
* checking data for non-ASCII characters ... OK
* checking data for ASCII and uncompressed saves ... OK
* checking files in 'vignettes' ... OK
* checking examples ... OK
Examples with CPU (user + system) or elapsed time > 5s
user system elapsed
signaturesCV 39.83 0.03 39.90
signaturesSignificance 21.25 0.05 21.31
signaturesDecomposition 21.14 0.04 21.21
signaturesAssignment 12.37 0.00 12.38
getSBSCounts 2.43 0.67 7.17
* checking for unstated dependencies in 'tests' ... OK
* checking tests ...
Running 'testthat.R'
OK
* checking for unstated dependencies in vignettes ... OK
* checking package vignettes in 'inst/doc' ... OK
* checking running R code from vignettes ... SKIPPED
* checking re-building of vignette outputs ... SKIPPED
* checking PDF version of manual ... OK
* DONE
Status: OK
RESOLVE.Rcheck/00install.out
############################################################################## ############################################################################## ### ### Running command: ### ### F:\biocbuild\bbs-3.16-bioc\R\bin\R.exe CMD INSTALL RESOLVE ### ############################################################################## ############################################################################## * installing to library 'F:/biocbuild/bbs-3.16-bioc/R/library' * installing *source* package 'RESOLVE' ... ** using staged installation ** R ** data ** inst ** byte-compile and prepare package for lazy loading ** help *** installing help indices ** building package indices ** installing vignettes ** testing if installed package can be loaded from temporary location ** testing if installed package can be loaded from final location ** testing if installed package keeps a record of temporary installation path * DONE (RESOLVE)
RESOLVE.Rcheck/tests/testthat.Rout
R version 4.2.3 (2023-03-15 ucrt) -- "Shortstop Beagle"
Copyright (C) 2023 The R Foundation for Statistical Computing
Platform: x86_64-w64-mingw32/x64 (64-bit)
R is free software and comes with ABSOLUTELY NO WARRANTY.
You are welcome to redistribute it under certain conditions.
Type 'license()' or 'licence()' for distribution details.
R is a collaborative project with many contributors.
Type 'contributors()' for more information and
'citation()' on how to cite R or R packages in publications.
Type 'demo()' for some demos, 'help()' for on-line help, or
'help.start()' for an HTML browser interface to help.
Type 'q()' to quit R.
> Sys.setenv("R_TESTS" = "")
>
> library("testthat")
> library("RESOLVE")
Loading required package: NMF
Loading required package: registry
Loading required package: rngtools
Loading required package: cluster
NMF - BioConductor layer [OK] | Shared memory capabilities [NO: windows] | Cores 2/2
Attaching package: 'NMF'
The following object is masked from 'package:testthat':
compare
>
> test_check("RESOLVE")
[ FAIL 0 | WARN 3 | SKIP 0 | PASS 6 ]
[ FAIL 0 | WARN 3 | SKIP 0 | PASS 6 ]
>
> proc.time()
user system elapsed
56.76 1.29 58.25
RESOLVE.Rcheck/RESOLVE-Ex.timings
| name | user | system | elapsed | |
| getMNVCounts | 0.14 | 0.04 | 0.17 | |
| getSBSCounts | 2.43 | 0.67 | 7.17 | |
| groupsCNPlot | 2.70 | 0.06 | 2.76 | |
| groupsCXPlot | 1.72 | 0.02 | 1.74 | |
| groupsMNVPlot | 3.10 | 0.06 | 3.17 | |
| groupsSBSPlot | 3.11 | 0.06 | 3.17 | |
| patientsCNPlot | 1.07 | 0.03 | 1.11 | |
| patientsCXPlot | 0.49 | 0.03 | 0.52 | |
| patientsMNVPlot | 1.03 | 0.00 | 1.03 | |
| patientsSBSPlot | 0.72 | 0.02 | 0.73 | |
| signaturesAssignment | 12.37 | 0.00 | 12.38 | |
| signaturesCNPlot | 1.47 | 0.05 | 1.53 | |
| signaturesCV | 39.83 | 0.03 | 39.90 | |
| signaturesCXPlot | 0.75 | 0.00 | 0.75 | |
| signaturesDecomposition | 21.14 | 0.04 | 21.21 | |
| signaturesMNVPlot | 1.55 | 0.06 | 1.61 | |
| signaturesSBSPlot | 1 | 0 | 1 | |
| signaturesSignificance | 21.25 | 0.05 | 21.31 | |