| Back to Multiple platform build/check report for BioC 3.16: simplified long |
|
This page was generated on 2023-04-12 11:06:22 -0400 (Wed, 12 Apr 2023).
| Hostname | OS | Arch (*) | R version | Installed pkgs |
|---|---|---|---|---|
| nebbiolo2 | Linux (Ubuntu 20.04.5 LTS) | x86_64 | 4.2.3 (2023-03-15) -- "Shortstop Beagle" | 4502 |
| palomino4 | Windows Server 2022 Datacenter | x64 | 4.2.3 (2023-03-15 ucrt) -- "Shortstop Beagle" | 4282 |
| lconway | macOS 12.5.1 Monterey | x86_64 | 4.2.3 (2023-03-15) -- "Shortstop Beagle" | 4310 |
| Click on any hostname to see more info about the system (e.g. compilers) (*) as reported by 'uname -p', except on Windows and Mac OS X | ||||
|
To the developers/maintainers of the RESOLVE package: - Please allow up to 24 hours (and sometimes 48 hours) for your latest push to git@git.bioconductor.org:packages/RESOLVE.git to reflect on this report. See How and When does the builder pull? When will my changes propagate? for more information. - Make sure to use the following settings in order to reproduce any error or warning you see on this page. |
| Package 1654/2183 | Hostname | OS / Arch | INSTALL | BUILD | CHECK | BUILD BIN | ||||||||
| RESOLVE 1.0.0 (landing page) Luca De Sano
| nebbiolo2 | Linux (Ubuntu 20.04.5 LTS) / x86_64 | OK | OK | OK | |||||||||
| palomino4 | Windows Server 2022 Datacenter / x64 | OK | OK | OK | OK | |||||||||
| lconway | macOS 12.5.1 Monterey / x86_64 | OK | OK | OK | OK | |||||||||
| Package: RESOLVE |
| Version: 1.0.0 |
| Command: /Library/Frameworks/R.framework/Resources/bin/R CMD check --install=check:RESOLVE.install-out.txt --library=/Library/Frameworks/R.framework/Resources/library --no-vignettes --timings RESOLVE_1.0.0.tar.gz |
| StartedAt: 2023-04-10 22:11:39 -0400 (Mon, 10 Apr 2023) |
| EndedAt: 2023-04-10 22:17:51 -0400 (Mon, 10 Apr 2023) |
| EllapsedTime: 372.4 seconds |
| RetCode: 0 |
| Status: OK |
| CheckDir: RESOLVE.Rcheck |
| Warnings: 0 |
##############################################################################
##############################################################################
###
### Running command:
###
### /Library/Frameworks/R.framework/Resources/bin/R CMD check --install=check:RESOLVE.install-out.txt --library=/Library/Frameworks/R.framework/Resources/library --no-vignettes --timings RESOLVE_1.0.0.tar.gz
###
##############################################################################
##############################################################################
* using log directory ‘/Users/biocbuild/bbs-3.16-bioc/meat/RESOLVE.Rcheck’
* using R version 4.2.3 (2023-03-15)
* using platform: x86_64-apple-darwin17.0 (64-bit)
* using session charset: UTF-8
* using option ‘--no-vignettes’
* checking for file ‘RESOLVE/DESCRIPTION’ ... OK
* this is package ‘RESOLVE’ version ‘1.0.0’
* package encoding: UTF-8
* checking package namespace information ... OK
* checking package dependencies ... OK
* checking if this is a source package ... OK
* checking if there is a namespace ... OK
* checking for hidden files and directories ... OK
* checking for portable file names ... OK
* checking for sufficient/correct file permissions ... OK
* checking whether package ‘RESOLVE’ can be installed ... OK
* checking installed package size ... OK
* checking package directory ... OK
* checking ‘build’ directory ... OK
* checking DESCRIPTION meta-information ... OK
* checking top-level files ... OK
* checking for left-over files ... OK
* checking index information ... OK
* checking package subdirectories ... OK
* checking R files for non-ASCII characters ... OK
* checking R files for syntax errors ... OK
* checking whether the package can be loaded ... OK
* checking whether the package can be loaded with stated dependencies ... OK
* checking whether the package can be unloaded cleanly ... OK
* checking whether the namespace can be loaded with stated dependencies ... OK
* checking whether the namespace can be unloaded cleanly ... OK
* checking dependencies in R code ... OK
* checking S3 generic/method consistency ... OK
* checking replacement functions ... OK
* checking foreign function calls ... OK
* checking R code for possible problems ... OK
* checking Rd files ... OK
* checking Rd metadata ... OK
* checking Rd cross-references ... OK
* checking for missing documentation entries ... OK
* checking for code/documentation mismatches ... OK
* checking Rd \usage sections ... OK
* checking Rd contents ... OK
* checking for unstated dependencies in examples ... OK
* checking contents of ‘data’ directory ... OK
* checking data for non-ASCII characters ... OK
* checking data for ASCII and uncompressed saves ... OK
* checking files in ‘vignettes’ ... OK
* checking examples ... OK
Examples with CPU (user + system) or elapsed time > 5s
user system elapsed
signaturesCV 35.617 0.173 35.919
signaturesSignificance 19.242 0.152 19.431
signaturesDecomposition 19.025 0.162 19.268
signaturesAssignment 11.280 0.045 11.347
getSBSCounts 2.158 0.828 5.047
* checking for unstated dependencies in ‘tests’ ... OK
* checking tests ...
Running ‘testthat.R’
OK
* checking for unstated dependencies in vignettes ... OK
* checking package vignettes in ‘inst/doc’ ... OK
* checking running R code from vignettes ... SKIPPED
* checking re-building of vignette outputs ... SKIPPED
* checking PDF version of manual ... OK
* DONE
Status: OK
RESOLVE.Rcheck/00install.out
############################################################################## ############################################################################## ### ### Running command: ### ### /Library/Frameworks/R.framework/Resources/bin/R CMD INSTALL RESOLVE ### ############################################################################## ############################################################################## * installing to library ‘/Library/Frameworks/R.framework/Versions/4.2/Resources/library’ * installing *source* package ‘RESOLVE’ ... ** using staged installation ** R ** data ** inst ** byte-compile and prepare package for lazy loading ** help *** installing help indices ** building package indices ** installing vignettes ** testing if installed package can be loaded from temporary location ** testing if installed package can be loaded from final location ** testing if installed package keeps a record of temporary installation path * DONE (RESOLVE)
RESOLVE.Rcheck/tests/testthat.Rout
R version 4.2.3 (2023-03-15) -- "Shortstop Beagle"
Copyright (C) 2023 The R Foundation for Statistical Computing
Platform: x86_64-apple-darwin17.0 (64-bit)
R is free software and comes with ABSOLUTELY NO WARRANTY.
You are welcome to redistribute it under certain conditions.
Type 'license()' or 'licence()' for distribution details.
R is a collaborative project with many contributors.
Type 'contributors()' for more information and
'citation()' on how to cite R or R packages in publications.
Type 'demo()' for some demos, 'help()' for on-line help, or
'help.start()' for an HTML browser interface to help.
Type 'q()' to quit R.
> Sys.setenv("R_TESTS" = "")
>
> library("testthat")
> library("RESOLVE")
Loading required package: NMF
Loading required package: registry
Loading required package: rngtools
Loading required package: cluster
NMF - BioConductor layer [OK] | Shared memory capabilities [NO: synchronicity] | Cores 2/2
To enable shared memory capabilities, try: install.extras('
NMF
')
Attaching package: 'NMF'
The following object is masked from 'package:testthat':
compare
>
> test_check("RESOLVE")
[ FAIL 0 | WARN 3 | SKIP 0 | PASS 6 ]
[ FAIL 0 | WARN 3 | SKIP 0 | PASS 6 ]
>
> proc.time()
user system elapsed
53.247 0.881 54.264
RESOLVE.Rcheck/RESOLVE-Ex.timings
| name | user | system | elapsed | |
| getMNVCounts | 0.143 | 0.019 | 0.163 | |
| getSBSCounts | 2.158 | 0.828 | 5.047 | |
| groupsCNPlot | 2.066 | 0.069 | 2.156 | |
| groupsCXPlot | 1.365 | 0.031 | 1.402 | |
| groupsMNVPlot | 2.711 | 0.202 | 2.918 | |
| groupsSBSPlot | 2.546 | 0.045 | 2.597 | |
| patientsCNPlot | 0.905 | 0.005 | 0.913 | |
| patientsCXPlot | 0.414 | 0.003 | 0.418 | |
| patientsMNVPlot | 0.875 | 0.006 | 0.884 | |
| patientsSBSPlot | 0.621 | 0.005 | 0.628 | |
| signaturesAssignment | 11.280 | 0.045 | 11.347 | |
| signaturesCNPlot | 1.209 | 0.037 | 1.246 | |
| signaturesCV | 35.617 | 0.173 | 35.919 | |
| signaturesCXPlot | 0.703 | 0.007 | 0.712 | |
| signaturesDecomposition | 19.025 | 0.162 | 19.268 | |
| signaturesMNVPlot | 1.216 | 0.012 | 1.230 | |
| signaturesSBSPlot | 1.579 | 0.006 | 1.587 | |
| signaturesSignificance | 19.242 | 0.152 | 19.431 | |