| Back to Multiple platform build/check report for BioC 3.16: simplified long |
|
This page was generated on 2023-04-12 11:05:14 -0400 (Wed, 12 Apr 2023).
| Hostname | OS | Arch (*) | R version | Installed pkgs |
|---|---|---|---|---|
| nebbiolo2 | Linux (Ubuntu 20.04.5 LTS) | x86_64 | 4.2.3 (2023-03-15) -- "Shortstop Beagle" | 4502 |
| palomino4 | Windows Server 2022 Datacenter | x64 | 4.2.3 (2023-03-15 ucrt) -- "Shortstop Beagle" | 4282 |
| lconway | macOS 12.5.1 Monterey | x86_64 | 4.2.3 (2023-03-15) -- "Shortstop Beagle" | 4310 |
| Click on any hostname to see more info about the system (e.g. compilers) (*) as reported by 'uname -p', except on Windows and Mac OS X | ||||
|
To the developers/maintainers of the PhyloProfile package: - Please allow up to 24 hours (and sometimes 48 hours) for your latest push to git@git.bioconductor.org:packages/PhyloProfile.git to reflect on this report. See How and When does the builder pull? When will my changes propagate? for more information. - Make sure to use the following settings in order to reproduce any error or warning you see on this page. |
| Package 1480/2183 | Hostname | OS / Arch | INSTALL | BUILD | CHECK | BUILD BIN | ||||||||
| PhyloProfile 1.12.6 (landing page) Vinh Tran
| nebbiolo2 | Linux (Ubuntu 20.04.5 LTS) / x86_64 | OK | OK | OK | |||||||||
| palomino4 | Windows Server 2022 Datacenter / x64 | OK | OK | OK | OK | |||||||||
| lconway | macOS 12.5.1 Monterey / x86_64 | OK | OK | OK | OK | |||||||||
| Package: PhyloProfile |
| Version: 1.12.6 |
| Command: /home/biocbuild/bbs-3.16-bioc/R/bin/R CMD check --install=check:PhyloProfile.install-out.txt --library=/home/biocbuild/bbs-3.16-bioc/R/site-library --timings PhyloProfile_1.12.6.tar.gz |
| StartedAt: 2023-04-10 22:52:38 -0400 (Mon, 10 Apr 2023) |
| EndedAt: 2023-04-10 22:57:24 -0400 (Mon, 10 Apr 2023) |
| EllapsedTime: 286.3 seconds |
| RetCode: 0 |
| Status: OK |
| CheckDir: PhyloProfile.Rcheck |
| Warnings: 0 |
############################################################################## ############################################################################## ### ### Running command: ### ### /home/biocbuild/bbs-3.16-bioc/R/bin/R CMD check --install=check:PhyloProfile.install-out.txt --library=/home/biocbuild/bbs-3.16-bioc/R/site-library --timings PhyloProfile_1.12.6.tar.gz ### ############################################################################## ############################################################################## * using log directory ‘/home/biocbuild/bbs-3.16-bioc/meat/PhyloProfile.Rcheck’ * using R version 4.2.3 (2023-03-15) * using platform: x86_64-pc-linux-gnu (64-bit) * using session charset: UTF-8 * checking for file ‘PhyloProfile/DESCRIPTION’ ... OK * this is package ‘PhyloProfile’ version ‘1.12.6’ * package encoding: UTF-8 * checking package namespace information ... OK * checking package dependencies ... OK * checking if this is a source package ... OK * checking if there is a namespace ... OK * checking for hidden files and directories ... OK * checking for portable file names ... OK * checking for sufficient/correct file permissions ... OK * checking whether package ‘PhyloProfile’ can be installed ... OK * checking installed package size ... OK * checking package directory ... OK * checking ‘build’ directory ... OK * checking DESCRIPTION meta-information ... OK * checking top-level files ... OK * checking for left-over files ... OK * checking index information ... OK * checking package subdirectories ... OK * checking R files for non-ASCII characters ... OK * checking R files for syntax errors ... OK * checking whether the package can be loaded ... OK * checking whether the package can be loaded with stated dependencies ... OK * checking whether the package can be unloaded cleanly ... OK * checking whether the namespace can be loaded with stated dependencies ... OK * checking whether the namespace can be unloaded cleanly ... OK * checking loading without being on the library search path ... OK * checking dependencies in R code ... OK * checking S3 generic/method consistency ... OK * checking replacement functions ... OK * checking foreign function calls ... OK * checking R code for possible problems ... OK * checking Rd files ... OK * checking Rd metadata ... OK * checking Rd cross-references ... OK * checking for missing documentation entries ... OK * checking for code/documentation mismatches ... OK * checking Rd \usage sections ... OK * checking Rd contents ... OK * checking for unstated dependencies in examples ... OK * checking contents of ‘data’ directory ... OK * checking data for non-ASCII characters ... OK * checking data for ASCII and uncompressed saves ... OK * checking files in ‘vignettes’ ... OK * checking examples ... OK * checking for unstated dependencies in ‘tests’ ... OK * checking tests ... Running ‘testthat.R’ OK * checking for unstated dependencies in vignettes ... OK * checking package vignettes in ‘inst/doc’ ... OK * checking running R code from vignettes ... ‘PhyloProfile-vignette.Rmd’ using ‘UTF-8’... OK NONE * checking re-building of vignette outputs ... OK * checking PDF version of manual ... OK * DONE Status: OK
PhyloProfile.Rcheck/00install.out
############################################################################## ############################################################################## ### ### Running command: ### ### /home/biocbuild/bbs-3.16-bioc/R/bin/R CMD INSTALL PhyloProfile ### ############################################################################## ############################################################################## * installing to library ‘/home/biocbuild/bbs-3.16-bioc/R/site-library’ * installing *source* package ‘PhyloProfile’ ... ** using staged installation ** R ** data ** inst ** byte-compile and prepare package for lazy loading ** help *** installing help indices ** building package indices ** installing vignettes ** testing if installed package can be loaded from temporary location ** testing if installed package can be loaded from final location ** testing if installed package keeps a record of temporary installation path * DONE (PhyloProfile)
PhyloProfile.Rcheck/tests/testthat.Rout
R version 4.2.3 (2023-03-15) -- "Shortstop Beagle"
Copyright (C) 2023 The R Foundation for Statistical Computing
Platform: x86_64-pc-linux-gnu (64-bit)
R is free software and comes with ABSOLUTELY NO WARRANTY.
You are welcome to redistribute it under certain conditions.
Type 'license()' or 'licence()' for distribution details.
R is a collaborative project with many contributors.
Type 'contributors()' for more information and
'citation()' on how to cite R or R packages in publications.
Type 'demo()' for some demos, 'help()' for on-line help, or
'help.start()' for an HTML browser interface to help.
Type 'q()' to quit R.
> library(testthat)
> library(PhyloProfile)
>
> test_check("PhyloProfile")
[ FAIL 0 | WARN 0 | SKIP 0 | PASS 20 ]
>
> proc.time()
user system elapsed
11.112 0.614 14.525
PhyloProfile.Rcheck/PhyloProfile-Ex.timings
| name | user | system | elapsed | |
| calcPresSpec | 0.025 | 0.004 | 0.030 | |
| checkInputValidity | 0.007 | 0.000 | 0.008 | |
| checkNewick | 0.003 | 0.000 | 0.003 | |
| checkOmaID | 0 | 0 | 0 | |
| clusterDataDend | 0.024 | 0.004 | 0.028 | |
| compareMedianTaxonGroups | 0.028 | 0.000 | 0.028 | |
| compareTaxonGroups | 0.059 | 0.003 | 0.063 | |
| createArchiPlot | 1.435 | 0.017 | 1.451 | |
| createGeneAgePlot | 0.173 | 0.035 | 0.209 | |
| createLongMatrix | 0.013 | 0.008 | 0.021 | |
| createPercentageDistributionData | 0.120 | 0.008 | 0.129 | |
| createProfileFromOma | 0 | 0 | 0 | |
| createRootedTree | 0.008 | 0.004 | 0.011 | |
| createVarDistPlot | 0.171 | 0.000 | 0.171 | |
| createVariableDistributionData | 0.007 | 0.000 | 0.007 | |
| createVariableDistributionDataSubset | 0.007 | 0.000 | 0.007 | |
| dataCustomizedPlot | 0.012 | 0.000 | 0.012 | |
| dataFeatureTaxGroup | 0.014 | 0.000 | 0.013 | |
| dataMainPlot | 0.024 | 0.003 | 0.028 | |
| dataVarDistTaxGroup | 0.001 | 0.003 | 0.005 | |
| estimateGeneAge | 0.117 | 0.004 | 0.121 | |
| fastaParser | 0.041 | 0.001 | 0.041 | |
| featureDistTaxPlot | 0.199 | 0.000 | 0.200 | |
| filterProfileData | 0.104 | 0.000 | 0.105 | |
| fromInputToProfile | 0.114 | 0.000 | 0.114 | |
| geneAgePlotDf | 0.001 | 0.003 | 0.004 | |
| generateSinglePlot | 0.48 | 0.00 | 0.48 | |
| getAllDomainsOma | 0 | 0 | 0 | |
| getAllFastaOma | 0 | 0 | 0 | |
| getCommonAncestor | 0.027 | 0.000 | 0.026 | |
| getCoreGene | 0.068 | 0.008 | 0.076 | |
| getDataClustering | 0.007 | 0.004 | 0.010 | |
| getDataForOneOma | 0 | 0 | 0 | |
| getDendrogram | 0.045 | 0.001 | 0.045 | |
| getDistanceMatrix | 0.011 | 0.000 | 0.011 | |
| getDomainFolder | 0 | 0 | 0 | |
| getFastaFromFasInput | 0.014 | 0.000 | 0.014 | |
| getFastaFromFile | 0.009 | 0.000 | 0.009 | |
| getFastaFromFolder | 0.007 | 0.000 | 0.007 | |
| getIDsRank | 0.024 | 0.000 | 0.024 | |
| getInputTaxaID | 0.002 | 0.000 | 0.002 | |
| getInputTaxaName | 0.009 | 0.000 | 0.009 | |
| getNameList | 0.013 | 0.003 | 0.017 | |
| getOmaDataForOneOrtholog | 0 | 0 | 0 | |
| getOmaDomainFromURL | 0 | 0 | 0 | |
| getOmaMembers | 0 | 0 | 0 | |
| getQualColForVector | 0.001 | 0.000 | 0.000 | |
| getSelectedFastaOma | 0 | 0 | 0 | |
| getSelectedTaxonNames | 0.015 | 0.000 | 0.015 | |
| getTaxonomyInfo | 0.012 | 0.000 | 0.012 | |
| getTaxonomyMatrix | 0.077 | 0.015 | 0.093 | |
| getTaxonomyRanks | 0.001 | 0.001 | 0.001 | |
| gridArrangeSharedLegend | 0.602 | 0.003 | 0.606 | |
| heatmapPlotting | 0.254 | 0.000 | 0.254 | |
| highlightProfilePlot | 0.989 | 0.036 | 1.025 | |
| mainTaxonomyRank | 0 | 0 | 0 | |
| pairDomainPlotting | 0.000 | 0.000 | 0.001 | |
| parseDomainInput | 0.008 | 0.004 | 0.011 | |
| parseInfoProfile | 0.069 | 0.020 | 0.089 | |
| processNcbiTaxonomy | 0.070 | 0.009 | 0.105 | |
| qualitativeColours | 0 | 0 | 0 | |
| rankIndexing | 0.001 | 0.000 | 0.000 | |
| reduceProfile | 0.013 | 0.001 | 0.013 | |
| runPhyloProfile | 0.065 | 0.000 | 0.065 | |
| singleDomainPlotting | 0 | 0 | 0 | |
| sortDomains | 0.000 | 0.000 | 0.001 | |
| sortInputTaxa | 0.057 | 0.000 | 0.057 | |
| sortTaxaFromTree | 0.009 | 0.000 | 0.010 | |
| taxonomyTableCreator | 0.09 | 0.00 | 0.09 | |
| varDistTaxPlot | 0.695 | 0.031 | 0.727 | |
| wideToLong | 0.010 | 0.000 | 0.011 | |
| xmlParser | 0.016 | 0.000 | 0.017 | |