| Back to Multiple platform build/check report for BioC 3.16: simplified long |
|
This page was generated on 2023-04-12 11:06:19 -0400 (Wed, 12 Apr 2023).
| Hostname | OS | Arch (*) | R version | Installed pkgs |
|---|---|---|---|---|
| nebbiolo2 | Linux (Ubuntu 20.04.5 LTS) | x86_64 | 4.2.3 (2023-03-15) -- "Shortstop Beagle" | 4502 |
| palomino4 | Windows Server 2022 Datacenter | x64 | 4.2.3 (2023-03-15 ucrt) -- "Shortstop Beagle" | 4282 |
| lconway | macOS 12.5.1 Monterey | x86_64 | 4.2.3 (2023-03-15) -- "Shortstop Beagle" | 4310 |
| Click on any hostname to see more info about the system (e.g. compilers) (*) as reported by 'uname -p', except on Windows and Mac OS X | ||||
|
To the developers/maintainers of the PhyloProfile package: - Please allow up to 24 hours (and sometimes 48 hours) for your latest push to git@git.bioconductor.org:packages/PhyloProfile.git to reflect on this report. See How and When does the builder pull? When will my changes propagate? for more information. - Make sure to use the following settings in order to reproduce any error or warning you see on this page. |
| Package 1480/2183 | Hostname | OS / Arch | INSTALL | BUILD | CHECK | BUILD BIN | ||||||||
| PhyloProfile 1.12.6 (landing page) Vinh Tran
| nebbiolo2 | Linux (Ubuntu 20.04.5 LTS) / x86_64 | OK | OK | OK | |||||||||
| palomino4 | Windows Server 2022 Datacenter / x64 | OK | OK | OK | OK | |||||||||
| lconway | macOS 12.5.1 Monterey / x86_64 | OK | OK | OK | OK | |||||||||
| Package: PhyloProfile |
| Version: 1.12.6 |
| Command: /Library/Frameworks/R.framework/Resources/bin/R CMD check --install=check:PhyloProfile.install-out.txt --library=/Library/Frameworks/R.framework/Resources/library --no-vignettes --timings PhyloProfile_1.12.6.tar.gz |
| StartedAt: 2023-04-10 21:51:08 -0400 (Mon, 10 Apr 2023) |
| EndedAt: 2023-04-10 21:53:33 -0400 (Mon, 10 Apr 2023) |
| EllapsedTime: 144.9 seconds |
| RetCode: 0 |
| Status: OK |
| CheckDir: PhyloProfile.Rcheck |
| Warnings: 0 |
############################################################################## ############################################################################## ### ### Running command: ### ### /Library/Frameworks/R.framework/Resources/bin/R CMD check --install=check:PhyloProfile.install-out.txt --library=/Library/Frameworks/R.framework/Resources/library --no-vignettes --timings PhyloProfile_1.12.6.tar.gz ### ############################################################################## ############################################################################## * using log directory ‘/Users/biocbuild/bbs-3.16-bioc/meat/PhyloProfile.Rcheck’ * using R version 4.2.3 (2023-03-15) * using platform: x86_64-apple-darwin17.0 (64-bit) * using session charset: UTF-8 * using option ‘--no-vignettes’ * checking for file ‘PhyloProfile/DESCRIPTION’ ... OK * this is package ‘PhyloProfile’ version ‘1.12.6’ * package encoding: UTF-8 * checking package namespace information ... OK * checking package dependencies ... OK * checking if this is a source package ... OK * checking if there is a namespace ... OK * checking for hidden files and directories ... OK * checking for portable file names ... OK * checking for sufficient/correct file permissions ... OK * checking whether package ‘PhyloProfile’ can be installed ... OK * checking installed package size ... OK * checking package directory ... OK * checking ‘build’ directory ... OK * checking DESCRIPTION meta-information ... OK * checking top-level files ... OK * checking for left-over files ... OK * checking index information ... OK * checking package subdirectories ... OK * checking R files for non-ASCII characters ... OK * checking R files for syntax errors ... OK * checking whether the package can be loaded ... OK * checking whether the package can be loaded with stated dependencies ... OK * checking whether the package can be unloaded cleanly ... OK * checking whether the namespace can be loaded with stated dependencies ... OK * checking whether the namespace can be unloaded cleanly ... OK * checking dependencies in R code ... OK * checking S3 generic/method consistency ... OK * checking replacement functions ... OK * checking foreign function calls ... OK * checking R code for possible problems ... OK * checking Rd files ... OK * checking Rd metadata ... OK * checking Rd cross-references ... OK * checking for missing documentation entries ... OK * checking for code/documentation mismatches ... OK * checking Rd \usage sections ... OK * checking Rd contents ... OK * checking for unstated dependencies in examples ... OK * checking contents of ‘data’ directory ... OK * checking data for non-ASCII characters ... OK * checking data for ASCII and uncompressed saves ... OK * checking files in ‘vignettes’ ... OK * checking examples ... OK * checking for unstated dependencies in ‘tests’ ... OK * checking tests ... Running ‘testthat.R’ OK * checking for unstated dependencies in vignettes ... OK * checking package vignettes in ‘inst/doc’ ... OK * checking running R code from vignettes ... SKIPPED * checking re-building of vignette outputs ... SKIPPED * checking PDF version of manual ... OK * DONE Status: OK
PhyloProfile.Rcheck/00install.out
############################################################################## ############################################################################## ### ### Running command: ### ### /Library/Frameworks/R.framework/Resources/bin/R CMD INSTALL PhyloProfile ### ############################################################################## ############################################################################## * installing to library ‘/Library/Frameworks/R.framework/Versions/4.2/Resources/library’ * installing *source* package ‘PhyloProfile’ ... ** using staged installation ** R ** data ** inst ** byte-compile and prepare package for lazy loading ** help *** installing help indices ** building package indices ** installing vignettes ** testing if installed package can be loaded from temporary location ** testing if installed package can be loaded from final location ** testing if installed package keeps a record of temporary installation path * DONE (PhyloProfile)
PhyloProfile.Rcheck/tests/testthat.Rout
R version 4.2.3 (2023-03-15) -- "Shortstop Beagle"
Copyright (C) 2023 The R Foundation for Statistical Computing
Platform: x86_64-apple-darwin17.0 (64-bit)
R is free software and comes with ABSOLUTELY NO WARRANTY.
You are welcome to redistribute it under certain conditions.
Type 'license()' or 'licence()' for distribution details.
R is a collaborative project with many contributors.
Type 'contributors()' for more information and
'citation()' on how to cite R or R packages in publications.
Type 'demo()' for some demos, 'help()' for on-line help, or
'help.start()' for an HTML browser interface to help.
Type 'q()' to quit R.
> library(testthat)
> library(PhyloProfile)
>
> test_check("PhyloProfile")
[ FAIL 0 | WARN 0 | SKIP 0 | PASS 20 ]
>
> proc.time()
user system elapsed
6.392 0.482 6.884
PhyloProfile.Rcheck/PhyloProfile-Ex.timings
| name | user | system | elapsed | |
| calcPresSpec | 0.029 | 0.004 | 0.033 | |
| checkInputValidity | 0.009 | 0.001 | 0.011 | |
| checkNewick | 0.003 | 0.001 | 0.003 | |
| checkOmaID | 0 | 0 | 0 | |
| clusterDataDend | 0.045 | 0.001 | 0.047 | |
| compareMedianTaxonGroups | 0.022 | 0.002 | 0.026 | |
| compareTaxonGroups | 0.035 | 0.002 | 0.038 | |
| createArchiPlot | 0.987 | 0.019 | 1.008 | |
| createGeneAgePlot | 0.203 | 0.020 | 0.224 | |
| createLongMatrix | 0.025 | 0.008 | 0.032 | |
| createPercentageDistributionData | 0.105 | 0.029 | 0.135 | |
| createProfileFromOma | 0 | 0 | 0 | |
| createRootedTree | 0.013 | 0.002 | 0.014 | |
| createVarDistPlot | 0.178 | 0.006 | 0.184 | |
| createVariableDistributionData | 0.007 | 0.007 | 0.014 | |
| createVariableDistributionDataSubset | 0.008 | 0.001 | 0.010 | |
| dataCustomizedPlot | 0.011 | 0.003 | 0.014 | |
| dataFeatureTaxGroup | 0.017 | 0.003 | 0.018 | |
| dataMainPlot | 0.014 | 0.013 | 0.026 | |
| dataVarDistTaxGroup | 0.006 | 0.003 | 0.009 | |
| estimateGeneAge | 0.122 | 0.027 | 0.149 | |
| fastaParser | 0.038 | 0.001 | 0.039 | |
| featureDistTaxPlot | 0.179 | 0.003 | 0.183 | |
| filterProfileData | 0.102 | 0.046 | 0.149 | |
| fromInputToProfile | 0.118 | 0.029 | 0.149 | |
| geneAgePlotDf | 0.005 | 0.000 | 0.005 | |
| generateSinglePlot | 0.486 | 0.008 | 0.495 | |
| getAllDomainsOma | 0 | 0 | 0 | |
| getAllFastaOma | 0 | 0 | 0 | |
| getCommonAncestor | 0.022 | 0.002 | 0.025 | |
| getCoreGene | 0.078 | 0.016 | 0.095 | |
| getDataClustering | 0.010 | 0.002 | 0.013 | |
| getDataForOneOma | 0 | 0 | 0 | |
| getDendrogram | 0.041 | 0.002 | 0.044 | |
| getDistanceMatrix | 0.010 | 0.001 | 0.011 | |
| getDomainFolder | 0.000 | 0.001 | 0.000 | |
| getFastaFromFasInput | 0.018 | 0.001 | 0.019 | |
| getFastaFromFile | 0.011 | 0.001 | 0.013 | |
| getFastaFromFolder | 0.007 | 0.002 | 0.009 | |
| getIDsRank | 0.029 | 0.003 | 0.033 | |
| getInputTaxaID | 0.002 | 0.001 | 0.002 | |
| getInputTaxaName | 0.008 | 0.002 | 0.010 | |
| getNameList | 0.020 | 0.025 | 0.045 | |
| getOmaDataForOneOrtholog | 0.000 | 0.000 | 0.001 | |
| getOmaDomainFromURL | 0.000 | 0.001 | 0.000 | |
| getOmaMembers | 0 | 0 | 0 | |
| getQualColForVector | 0.000 | 0.001 | 0.000 | |
| getSelectedFastaOma | 0.001 | 0.000 | 0.000 | |
| getSelectedTaxonNames | 0.017 | 0.005 | 0.021 | |
| getTaxonomyInfo | 0.016 | 0.002 | 0.017 | |
| getTaxonomyMatrix | 0.085 | 0.101 | 0.187 | |
| getTaxonomyRanks | 0 | 0 | 0 | |
| gridArrangeSharedLegend | 1.027 | 0.020 | 1.049 | |
| heatmapPlotting | 0.210 | 0.002 | 0.213 | |
| highlightProfilePlot | 0.253 | 0.015 | 0.269 | |
| mainTaxonomyRank | 0.000 | 0.000 | 0.001 | |
| pairDomainPlotting | 0 | 0 | 0 | |
| parseDomainInput | 0.011 | 0.008 | 0.019 | |
| parseInfoProfile | 0.086 | 0.036 | 0.123 | |
| processNcbiTaxonomy | 0.084 | 0.054 | 0.188 | |
| qualitativeColours | 0 | 0 | 0 | |
| rankIndexing | 0 | 0 | 0 | |
| reduceProfile | 0.012 | 0.005 | 0.016 | |
| runPhyloProfile | 0.076 | 0.041 | 0.132 | |
| singleDomainPlotting | 0.001 | 0.001 | 0.001 | |
| sortDomains | 0 | 0 | 0 | |
| sortInputTaxa | 0.055 | 0.020 | 0.075 | |
| sortTaxaFromTree | 0.012 | 0.001 | 0.013 | |
| taxonomyTableCreator | 0.099 | 0.006 | 0.106 | |
| varDistTaxPlot | 0.692 | 0.014 | 0.708 | |
| wideToLong | 0.011 | 0.007 | 0.019 | |
| xmlParser | 0.019 | 0.005 | 0.024 | |