| Back to Multiple platform build/check report for BioC 3.16: simplified long |
|
This page was generated on 2023-04-12 11:05:13 -0400 (Wed, 12 Apr 2023).
| Hostname | OS | Arch (*) | R version | Installed pkgs |
|---|---|---|---|---|
| nebbiolo2 | Linux (Ubuntu 20.04.5 LTS) | x86_64 | 4.2.3 (2023-03-15) -- "Shortstop Beagle" | 4502 |
| palomino4 | Windows Server 2022 Datacenter | x64 | 4.2.3 (2023-03-15 ucrt) -- "Shortstop Beagle" | 4282 |
| lconway | macOS 12.5.1 Monterey | x86_64 | 4.2.3 (2023-03-15) -- "Shortstop Beagle" | 4310 |
| Click on any hostname to see more info about the system (e.g. compilers) (*) as reported by 'uname -p', except on Windows and Mac OS X | ||||
|
To the developers/maintainers of the PharmacoGx package: - Please allow up to 24 hours (and sometimes 48 hours) for your latest push to git@git.bioconductor.org:packages/PharmacoGx.git to reflect on this report. See How and When does the builder pull? When will my changes propagate? for more information. - Make sure to use the following settings in order to reproduce any error or warning you see on this page. |
| Package 1469/2183 | Hostname | OS / Arch | INSTALL | BUILD | CHECK | BUILD BIN | ||||||||
| PharmacoGx 3.2.0 (landing page) Benjamin Haibe-Kains
| nebbiolo2 | Linux (Ubuntu 20.04.5 LTS) / x86_64 | OK | OK | OK | |||||||||
| palomino4 | Windows Server 2022 Datacenter / x64 | OK | OK | OK | OK | |||||||||
| lconway | macOS 12.5.1 Monterey / x86_64 | OK | OK | OK | OK | |||||||||
| Package: PharmacoGx |
| Version: 3.2.0 |
| Command: /home/biocbuild/bbs-3.16-bioc/R/bin/R CMD check --install=check:PharmacoGx.install-out.txt --library=/home/biocbuild/bbs-3.16-bioc/R/site-library --timings PharmacoGx_3.2.0.tar.gz |
| StartedAt: 2023-04-10 22:50:12 -0400 (Mon, 10 Apr 2023) |
| EndedAt: 2023-04-10 23:00:52 -0400 (Mon, 10 Apr 2023) |
| EllapsedTime: 640.8 seconds |
| RetCode: 0 |
| Status: OK |
| CheckDir: PharmacoGx.Rcheck |
| Warnings: 0 |
##############################################################################
##############################################################################
###
### Running command:
###
### /home/biocbuild/bbs-3.16-bioc/R/bin/R CMD check --install=check:PharmacoGx.install-out.txt --library=/home/biocbuild/bbs-3.16-bioc/R/site-library --timings PharmacoGx_3.2.0.tar.gz
###
##############################################################################
##############################################################################
* using log directory ‘/home/biocbuild/bbs-3.16-bioc/meat/PharmacoGx.Rcheck’
* using R version 4.2.3 (2023-03-15)
* using platform: x86_64-pc-linux-gnu (64-bit)
* using session charset: UTF-8
* checking for file ‘PharmacoGx/DESCRIPTION’ ... OK
* checking extension type ... Package
* this is package ‘PharmacoGx’ version ‘3.2.0’
* package encoding: UTF-8
* checking package namespace information ... OK
* checking package dependencies ... OK
* checking if this is a source package ... OK
* checking if there is a namespace ... OK
* checking for hidden files and directories ... OK
* checking for portable file names ... OK
* checking for sufficient/correct file permissions ... OK
* checking whether package ‘PharmacoGx’ can be installed ... OK
* checking installed package size ... OK
* checking package directory ... OK
* checking ‘build’ directory ... OK
* checking DESCRIPTION meta-information ... OK
* checking top-level files ... OK
* checking for left-over files ... OK
* checking index information ... OK
* checking package subdirectories ... OK
* checking R files for non-ASCII characters ... OK
* checking R files for syntax errors ... OK
* checking whether the package can be loaded ... OK
* checking whether the package can be loaded with stated dependencies ... OK
* checking whether the package can be unloaded cleanly ... OK
* checking whether the namespace can be loaded with stated dependencies ... OK
* checking whether the namespace can be unloaded cleanly ... OK
* checking loading without being on the library search path ... OK
* checking dependencies in R code ... NOTE
There are ::: calls to the package's namespace in its code. A package
almost never needs to use ::: for its own objects:
‘.Hill’ ‘.summarizeSensitivityNumbers’ ‘partialCorQUICKSTOP’
* checking S3 generic/method consistency ... OK
* checking replacement functions ... OK
* checking foreign function calls ... OK
* checking R code for possible problems ... NOTE
.computeZIPdelta: no visible binding for global variable
‘EC50_proj_1_to_2’
.computeZIPdelta: no visible binding for global variable
‘EC50_proj_2_to_1’
.computeZIPdelta: no visible binding for global variable
‘HS_proj_1_to_2’
.computeZIPdelta: no visible binding for global variable
‘HS_proj_2_to_1’
.computeZIPdelta: no visible binding for global variable
‘E_inf_proj_2_to_1’
.computeZIPdelta: no visible binding for global variable
‘E_inf_proj_1_to_2’
.computeZIPdelta: no visible binding for global variable ‘Rsqr_1_to_2’
.computeZIPdelta: no visible binding for global variable ‘Rsqr_2_to_1’
.plotProjHill: no visible binding for global variable ‘treatment1id’
.plotProjHill: no visible binding for global variable ‘treatment2id’
.plotProjHill: no visible binding for global variable ‘treatment2dose’
.plotProjHill: no visible binding for global variable
‘EC50_proj_2_to_1’
.plotProjHill: no visible binding for global variable ‘HS_proj_2_to_1’
.plotProjHill: no visible binding for global variable ‘EC50_2’
.plotProjHill: no visible binding for global variable ‘E_inf_2’
.plotProjHill: no visible binding for global variable
‘E_inf_proj_2_to_1’
.plotProjHill: no visible binding for global variable ‘HS_2’
.plotProjHill: no visible binding for global variable ‘treatment1dose’
.plotProjHill: no visible binding for global variable ‘combo_viability’
.plotProjHill: no visible binding for global variable ‘x’
.plotProjHill: no visible binding for global variable
‘EC50_proj_1_to_2’
.plotProjHill: no visible binding for global variable ‘HS_proj_1_to_2’
.plotProjHill: no visible binding for global variable ‘EC50_1’
.plotProjHill: no visible binding for global variable ‘HS_1’
.plotProjHill: no visible binding for global variable ‘E_inf_1’
.plotProjHill: no visible binding for global variable
‘E_inf_proj_1_to_2’
fitTwowayZIP: no visible binding for global variable ‘treatment1dose’
fitTwowayZIP: no visible binding for global variable ‘combo_viability’
fitTwowayZIP: no visible binding for global variable ‘treatment2dose’
fitTwowayZIP: no visible binding for global variable ‘EC50_2’
fitTwowayZIP: no visible binding for global variable ‘HS_2’
fitTwowayZIP: no visible binding for global variable ‘E_inf_2’
fitTwowayZIP: no visible binding for global variable ‘EC50_1’
fitTwowayZIP: no visible binding for global variable ‘HS_1’
fitTwowayZIP: no visible binding for global variable ‘E_inf_1’
mergePSets: no visible global function definition for
‘checkPSetStructure’
computeZIPdelta,TreatmentResponseExperiment: no visible binding for
global variable ‘ZIP’
computeZIPdelta,TreatmentResponseExperiment: no visible binding for
global variable ‘EC50_proj_1_to_2’
computeZIPdelta,TreatmentResponseExperiment: no visible binding for
global variable ‘EC50_proj_2_to_1’
computeZIPdelta,TreatmentResponseExperiment: no visible binding for
global variable ‘EC50_1’
computeZIPdelta,TreatmentResponseExperiment: no visible binding for
global variable ‘EC50_2’
computeZIPdelta,TreatmentResponseExperiment: no visible binding for
global variable ‘HS_proj_1_to_2’
computeZIPdelta,TreatmentResponseExperiment: no visible binding for
global variable ‘HS_proj_2_to_1’
computeZIPdelta,TreatmentResponseExperiment: no visible binding for
global variable ‘HS_1’
computeZIPdelta,TreatmentResponseExperiment: no visible binding for
global variable ‘HS_2’
computeZIPdelta,TreatmentResponseExperiment: no visible binding for
global variable ‘E_inf_1’
computeZIPdelta,TreatmentResponseExperiment: no visible binding for
global variable ‘E_inf_2’
computeZIPdelta,TreatmentResponseExperiment: no visible binding for
global variable ‘E_inf_proj_2_to_1’
computeZIPdelta,TreatmentResponseExperiment: no visible binding for
global variable ‘E_inf_proj_1_to_2’
computeZIPdelta,TreatmentResponseExperiment: no visible binding for
global variable ‘treatment1dose’
computeZIPdelta,TreatmentResponseExperiment: no visible binding for
global variable ‘treatment2dose’
computeZIPdelta,TreatmentResponseExperiment: no visible binding for
global variable ‘Rsqr_1_to_2’
computeZIPdelta,TreatmentResponseExperiment: no visible binding for
global variable ‘Rsqr_2_to_1’
Undefined global functions or variables:
EC50_1 EC50_2 EC50_proj_1_to_2 EC50_proj_2_to_1 E_inf_1 E_inf_2
E_inf_proj_1_to_2 E_inf_proj_2_to_1 HS_1 HS_2 HS_proj_1_to_2
HS_proj_2_to_1 Rsqr_1_to_2 Rsqr_2_to_1 ZIP checkPSetStructure
combo_viability treatment1dose treatment1id treatment2dose
treatment2id x
* checking Rd files ... OK
* checking Rd metadata ... OK
* checking Rd cross-references ... OK
* checking for missing documentation entries ... OK
* checking for code/documentation mismatches ... OK
* checking Rd \usage sections ... OK
* checking Rd contents ... OK
* checking for unstated dependencies in examples ... OK
* checking contents of ‘data’ directory ... OK
* checking data for non-ASCII characters ... NOTE
Note: found 2251 marked UTF-8 strings
* checking data for ASCII and uncompressed saves ... OK
* checking line endings in C/C++/Fortran sources/headers ... OK
* checking compiled code ... NOTE
Note: information on .o files is not available
* checking files in ‘vignettes’ ... OK
* checking examples ... OK
Examples with CPU (user + system) or elapsed time > 5s
user system elapsed
PharmacoSet-accessors 4.862 1.678 6.539
* checking for unstated dependencies in ‘tests’ ... OK
* checking tests ...
Running ‘testthat.R’
OK
* checking for unstated dependencies in vignettes ... OK
* checking package vignettes in ‘inst/doc’ ... OK
* checking running R code from vignettes ...
‘CreatingPharmacoSet.Rmd’ using ‘UTF-8’... OK
‘PharmacoGx.Rmd’ using ‘UTF-8’... OK
NONE
* checking re-building of vignette outputs ... OK
* checking PDF version of manual ... OK
* DONE
Status: 4 NOTEs
See
‘/home/biocbuild/bbs-3.16-bioc/meat/PharmacoGx.Rcheck/00check.log’
for details.
PharmacoGx.Rcheck/00install.out
##############################################################################
##############################################################################
###
### Running command:
###
### /home/biocbuild/bbs-3.16-bioc/R/bin/R CMD INSTALL PharmacoGx
###
##############################################################################
##############################################################################
* installing to library ‘/home/biocbuild/bbs-3.16-bioc/R/site-library’
* installing *source* package ‘PharmacoGx’ ...
** using staged installation
** libs
g++ -std=gnu++14 -I"/home/biocbuild/bbs-3.16-bioc/R/include" -DNDEBUG -I'/home/biocbuild/bbs-3.16-bioc/R/site-library/Rcpp/include' -I/usr/local/include -fpic -g -O2 -Wall -c RcppExports.cpp -o RcppExports.o
gcc -I"/home/biocbuild/bbs-3.16-bioc/R/include" -DNDEBUG -I'/home/biocbuild/bbs-3.16-bioc/R/site-library/Rcpp/include' -I/usr/local/include -fpic -g -O2 -Wall -c metaPermC.c -o metaPermC.o
metaPermC.c: In function ‘runPerm’:
metaPermC.c:143:12: warning: unused variable ‘num_larger’ [-Wunused-variable]
143 | uint64_t num_larger = 0;
| ^~~~~~~~~~
metaPermC.c: In function ‘partialCorQUICKSTOP’:
metaPermC.c:328:10: warning: unused variable ‘temp’ [-Wunused-variable]
328 | double temp;
| ^~~~
g++ -std=gnu++14 -I"/home/biocbuild/bbs-3.16-bioc/R/include" -DNDEBUG -I'/home/biocbuild/bbs-3.16-bioc/R/site-library/Rcpp/include' -I/usr/local/include -fpic -g -O2 -Wall -c rCPP_bridge.cpp -o rCPP_bridge.o
g++ -std=gnu++14 -shared -L/home/biocbuild/bbs-3.16-bioc/R/lib -L/usr/local/lib -o PharmacoGx.so RcppExports.o metaPermC.o rCPP_bridge.o -L/home/biocbuild/bbs-3.16-bioc/R/lib -lR
installing to /home/biocbuild/bbs-3.16-bioc/R/site-library/00LOCK-PharmacoGx/00new/PharmacoGx/libs
** R
** data
** inst
** byte-compile and prepare package for lazy loading
** help
*** installing help indices
** building package indices
** installing vignettes
** testing if installed package can be loaded from temporary location
** checking absolute paths in shared objects and dynamic libraries
** testing if installed package can be loaded from final location
** testing if installed package keeps a record of temporary installation path
* DONE (PharmacoGx)
PharmacoGx.Rcheck/tests/testthat.Rout
R version 4.2.3 (2023-03-15) -- "Shortstop Beagle"
Copyright (C) 2023 The R Foundation for Statistical Computing
Platform: x86_64-pc-linux-gnu (64-bit)
R is free software and comes with ABSOLUTELY NO WARRANTY.
You are welcome to redistribute it under certain conditions.
Type 'license()' or 'licence()' for distribution details.
R is a collaborative project with many contributors.
Type 'contributors()' for more information and
'citation()' on how to cite R or R packages in publications.
Type 'demo()' for some demos, 'help()' for on-line help, or
'help.start()' for an HTML browser interface to help.
Type 'q()' to quit R.
> Sys.unsetenv("R_TESTS")
>
> library(testthat)
> library(PharmacoGx)
Loading required package: CoreGx
Loading required package: BiocGenerics
Attaching package: 'BiocGenerics'
The following objects are masked from 'package:stats':
IQR, mad, sd, var, xtabs
The following objects are masked from 'package:base':
Filter, Find, Map, Position, Reduce, anyDuplicated, aperm, append,
as.data.frame, basename, cbind, colnames, dirname, do.call,
duplicated, eval, evalq, get, grep, grepl, intersect, is.unsorted,
lapply, mapply, match, mget, order, paste, pmax, pmax.int, pmin,
pmin.int, rank, rbind, rownames, sapply, setdiff, sort, table,
tapply, union, unique, unsplit, which.max, which.min
Loading required package: SummarizedExperiment
Loading required package: MatrixGenerics
Loading required package: matrixStats
Attaching package: 'MatrixGenerics'
The following objects are masked from 'package:matrixStats':
colAlls, colAnyNAs, colAnys, colAvgsPerRowSet, colCollapse,
colCounts, colCummaxs, colCummins, colCumprods, colCumsums,
colDiffs, colIQRDiffs, colIQRs, colLogSumExps, colMadDiffs,
colMads, colMaxs, colMeans2, colMedians, colMins, colOrderStats,
colProds, colQuantiles, colRanges, colRanks, colSdDiffs, colSds,
colSums2, colTabulates, colVarDiffs, colVars, colWeightedMads,
colWeightedMeans, colWeightedMedians, colWeightedSds,
colWeightedVars, rowAlls, rowAnyNAs, rowAnys, rowAvgsPerColSet,
rowCollapse, rowCounts, rowCummaxs, rowCummins, rowCumprods,
rowCumsums, rowDiffs, rowIQRDiffs, rowIQRs, rowLogSumExps,
rowMadDiffs, rowMads, rowMaxs, rowMeans2, rowMedians, rowMins,
rowOrderStats, rowProds, rowQuantiles, rowRanges, rowRanks,
rowSdDiffs, rowSds, rowSums2, rowTabulates, rowVarDiffs, rowVars,
rowWeightedMads, rowWeightedMeans, rowWeightedMedians,
rowWeightedSds, rowWeightedVars
Loading required package: GenomicRanges
Loading required package: stats4
Loading required package: S4Vectors
Attaching package: 'S4Vectors'
The following objects are masked from 'package:base':
I, expand.grid, unname
Loading required package: IRanges
Loading required package: GenomeInfoDb
Loading required package: Biobase
Welcome to Bioconductor
Vignettes contain introductory material; view with
'browseVignettes()'. To cite Bioconductor, see
'citation("Biobase")', and for packages 'citation("pkgname")'.
Attaching package: 'Biobase'
The following object is masked from 'package:MatrixGenerics':
rowMedians
The following objects are masked from 'package:matrixStats':
anyMissing, rowMedians
Attaching package: 'PharmacoGx'
The following objects are masked from 'package:CoreGx':
.parseToRoxygen, amcc, connectivityScore, cosinePerm, gwc, mcc
>
> test_check("PharmacoGx")
|
| | 0%
|
|======================================================================| 100%
|
| | 0%
|
|======================================================================| 100%
[1] 1 1 -1
[1] 0
[1] 0
[,1] [,2] [,3]
lower_bounds 0 0 0
upper_bounds 1 1 -1
|
| | 0%
|
|======================================================================| 100%
|
| | 0%
|
|======================================================================| 100%
|
| | 0%
|
|======================================================================| 100%
|
| | 0%
|
|======================================================================| 100%
|
| | 0%
|
|======================================================================| 100%
|
| | 0%
|
|======================================================================| 100%
|
| | 0%
|
|======================================================================| 100%
[ FAIL 0 | WARN 3 | SKIP 1 | PASS 129 ]
══ Skipped tests ═══════════════════════════════════════════════════════════════
• empty test (1)
[ FAIL 0 | WARN 3 | SKIP 1 | PASS 129 ]
>
> proc.time()
user system elapsed
100.496 1.746 106.486
PharmacoGx.Rcheck/PharmacoGx-Ex.timings
| name | user | system | elapsed | |
| PharmacoSet-accessors | 4.862 | 1.678 | 6.539 | |
| PharmacoSet-utils | 2.698 | 0.152 | 2.850 | |
| PharmacoSet | 0.003 | 0.000 | 0.003 | |
| PharmacoSet2 | 1.905 | 0.044 | 1.950 | |
| PharmacoSig | 0.034 | 0.008 | 0.041 | |
| amcc | 0.000 | 0.000 | 0.001 | |
| availablePSets | 0 | 0 | 0 | |
| callingWaterfall | 0 | 0 | 0 | |
| checkPsetStructure | 1.881 | 0.089 | 1.970 | |
| computeABC | 1.399 | 0.076 | 1.476 | |
| computeAUC | 0.715 | 0.000 | 0.715 | |
| computeAmax | 0.656 | 0.020 | 0.676 | |
| computeBliss | 0 | 0 | 0 | |
| computeHSA | 0.001 | 0.000 | 0.000 | |
| computeICn | 1.491 | 0.028 | 1.632 | |
| computeLoewe | 0 | 0 | 0 | |
| computeSlope | 0.001 | 0.000 | 0.001 | |
| computeZIP | 0.001 | 0.000 | 0.001 | |
| computeZIPdelta-TreatmentResponseExperiment-method | 0 | 0 | 0 | |
| computeZIPdelta | 0 | 0 | 0 | |
| connectivityScore | 3.436 | 0.216 | 4.008 | |
| cosinePerm | 0.183 | 0.153 | 0.252 | |
| dot-computeZIPdelta | 0.001 | 0.000 | 0.000 | |
| downloadPSet | 0 | 0 | 0 | |
| downloadPertSig | 0 | 0 | 0 | |
| drugDoseResponseCurve | 0.000 | 0.000 | 0.001 | |
| drugPerturbationSig | 2.062 | 0.158 | 2.101 | |
| drugSensitivitySig-PharmacoSet-method | 1.224 | 0.024 | 1.266 | |
| effectToDose | 0 | 0 | 0 | |
| filterNoisyCurves | 1.126 | 0.015 | 1.141 | |
| fitTwowayZIP | 0 | 0 | 0 | |
| geneDrugSensitivity | 0 | 0 | 0 | |
| geneDrugSensitivityPBCorr | 0 | 0 | 0 | |
| geneDrugSensitivityPCorr | 0 | 0 | 0 | |
| gwc | 0.990 | 0.056 | 1.182 | |
| hillCurve | 0 | 0 | 0 | |
| intersectPSet | 1.441 | 0.118 | 1.388 | |
| loeweCI | 0.001 | 0.000 | 0.000 | |
| logLogisticRegression | 0.391 | 0.059 | 0.451 | |
| mcc | 0.017 | 0.029 | 1.877 | |
| plot.PharmacoSig | 3.063 | 0.516 | 1.711 | |
| show-PharmacoSet-method | 0.969 | 0.056 | 1.025 | |
| show-PharmacoSig-method | 1.030 | 0.080 | 1.128 | |
| showSigAnnot-PharmacoSig-method | 1.250 | 0.075 | 1.450 | |
| sub-PharmacoSet-ANY-ANY-ANY-method | 1.722 | 0.053 | 1.789 | |
| subsetTo-PharmacoSet-method | 1.918 | 0.060 | 1.978 | |
| summarizeMolecularProfiles-PharmacoSet-method | 0.337 | 0.016 | 0.409 | |
| summarizeSensitivityProfiles-PharmacoSet-method | 0.111 | 0.012 | 0.123 | |