| Back to Multiple platform build/check report for BioC 3.16: simplified long | 
 | 
This page was generated on 2023-04-12 11:05:45 -0400 (Wed, 12 Apr 2023).
| Hostname | OS | Arch (*) | R version | Installed pkgs | 
|---|---|---|---|---|
| nebbiolo2 | Linux (Ubuntu 20.04.5 LTS) | x86_64 | 4.2.3 (2023-03-15) -- "Shortstop Beagle" | 4502 | 
| palomino4 | Windows Server 2022 Datacenter | x64 | 4.2.3 (2023-03-15 ucrt) -- "Shortstop Beagle" | 4282 | 
| lconway | macOS 12.5.1 Monterey | x86_64 | 4.2.3 (2023-03-15) -- "Shortstop Beagle" | 4310 | 
| Click on any hostname to see more info about the system (e.g. compilers) (*) as reported by 'uname -p', except on Windows and Mac OS X | ||||
| To the developers/maintainers of the PFP package: - Please allow up to 24 hours (and sometimes 48 hours) for your latest push to git@git.bioconductor.org:packages/PFP.git to reflect on this report. See How and When does the builder pull? When will my changes propagate? for more information. - Make sure to use the following settings in order to reproduce any error or warning you see on this page. | 
| Package 1466/2183 | Hostname | OS / Arch | INSTALL | BUILD | CHECK | BUILD BIN | ||||||||
| PFP 1.6.0  (landing page) XC Zhang 
 | nebbiolo2 | Linux (Ubuntu 20.04.5 LTS) / x86_64 | OK | OK | OK |  | ||||||||
| palomino4 | Windows Server 2022 Datacenter / x64 | OK | OK | OK | OK |  | ||||||||
| lconway | macOS 12.5.1 Monterey / x86_64 | OK | OK | OK | OK |  | ||||||||
| Package: PFP | 
| Version: 1.6.0 | 
| Command: F:\biocbuild\bbs-3.16-bioc\R\bin\R.exe CMD check --no-multiarch --install=check:PFP.install-out.txt --library=F:\biocbuild\bbs-3.16-bioc\R\library --no-vignettes --timings PFP_1.6.0.tar.gz | 
| StartedAt: 2023-04-11 04:27:05 -0400 (Tue, 11 Apr 2023) | 
| EndedAt: 2023-04-11 04:30:51 -0400 (Tue, 11 Apr 2023) | 
| EllapsedTime: 226.1 seconds | 
| RetCode: 0 | 
| Status: OK | 
| CheckDir: PFP.Rcheck | 
| Warnings: 0 | 
##############################################################################
##############################################################################
###
### Running command:
###
###   F:\biocbuild\bbs-3.16-bioc\R\bin\R.exe CMD check --no-multiarch --install=check:PFP.install-out.txt --library=F:\biocbuild\bbs-3.16-bioc\R\library --no-vignettes --timings PFP_1.6.0.tar.gz
###
##############################################################################
##############################################################################
* using log directory 'F:/biocbuild/bbs-3.16-bioc/meat/PFP.Rcheck'
* using R version 4.2.3 (2023-03-15 ucrt)
* using platform: x86_64-w64-mingw32 (64-bit)
* using session charset: UTF-8
* using option '--no-vignettes'
* checking for file 'PFP/DESCRIPTION' ... OK
* checking extension type ... Package
* this is package 'PFP' version '1.6.0'
* package encoding: UTF-8
* checking package namespace information ... OK
* checking package dependencies ... OK
* checking if this is a source package ... OK
* checking if there is a namespace ... OK
* checking for hidden files and directories ... OK
* checking for portable file names ... OK
* checking whether package 'PFP' can be installed ... OK
* checking installed package size ... OK
* checking package directory ... OK
* checking 'build' directory ... OK
* checking DESCRIPTION meta-information ... OK
* checking top-level files ... OK
* checking for left-over files ... OK
* checking index information ... OK
* checking package subdirectories ... OK
* checking R files for non-ASCII characters ... OK
* checking R files for syntax errors ... OK
* checking whether the package can be loaded ... OK
* checking whether the package can be loaded with stated dependencies ... OK
* checking whether the package can be unloaded cleanly ... OK
* checking whether the namespace can be loaded with stated dependencies ... OK
* checking whether the namespace can be unloaded cleanly ... OK
* checking dependencies in R code ... OK
* checking S3 generic/method consistency ... OK
* checking replacement functions ... OK
* checking foreign function calls ... OK
* checking R code for possible problems ... OK
* checking Rd files ... OK
* checking Rd metadata ... OK
* checking Rd cross-references ... OK
* checking for missing documentation entries ... OK
* checking for code/documentation mismatches ... OK
* checking Rd \usage sections ... OK
* checking Rd contents ... OK
* checking for unstated dependencies in examples ... OK
* checking contents of 'data' directory ... OK
* checking data for non-ASCII characters ... OK
* checking data for ASCII and uncompressed saves ... OK
* checking files in 'vignettes' ... OK
* checking examples ... OK
Examples with CPU (user + system) or elapsed time > 5s
                user system elapsed
calc_PFP_score 11.71   0.18   11.89
* checking for unstated dependencies in 'tests' ... OK
* checking tests ...
  Running 'testthat.R'
 OK
* checking for unstated dependencies in vignettes ... OK
* checking package vignettes in 'inst/doc' ... OK
* checking running R code from vignettes ... SKIPPED
* checking re-building of vignette outputs ... SKIPPED
* checking PDF version of manual ... OK
* DONE
Status: OK
PFP.Rcheck/00install.out
############################################################################## ############################################################################## ### ### Running command: ### ### F:\biocbuild\bbs-3.16-bioc\R\bin\R.exe CMD INSTALL PFP ### ############################################################################## ############################################################################## * installing to library 'F:/biocbuild/bbs-3.16-bioc/R/library' * installing *source* package 'PFP' ... ** using staged installation ** R ** data ** byte-compile and prepare package for lazy loading ** help *** installing help indices ** building package indices ** installing vignettes ** testing if installed package can be loaded from temporary location ** testing if installed package can be loaded from final location ** testing if installed package keeps a record of temporary installation path * DONE (PFP)
PFP.Rcheck/tests/testthat.Rout
R version 4.2.3 (2023-03-15 ucrt) -- "Shortstop Beagle"
Copyright (C) 2023 The R Foundation for Statistical Computing
Platform: x86_64-w64-mingw32/x64 (64-bit)
R is free software and comes with ABSOLUTELY NO WARRANTY.
You are welcome to redistribute it under certain conditions.
Type 'license()' or 'licence()' for distribution details.
R is a collaborative project with many contributors.
Type 'contributors()' for more information and
'citation()' on how to cite R or R packages in publications.
Type 'demo()' for some demos, 'help()' for on-line help, or
'help.start()' for an HTML browser interface to help.
Type 'q()' to quit R.
> library(testthat)
> library(PFP)
> test_check('PFP')
[ FAIL 0 | WARN 6 | SKIP 0 | PASS 31 ]
[ FAIL 0 | WARN 6 | SKIP 0 | PASS 31 ]
> 
> proc.time()
   user  system elapsed 
   7.93    0.75    8.64 
PFP.Rcheck/PFP-Ex.timings
| name | user | system | elapsed | |
| PFP-class | 0.19 | 0.03 | 0.22 | |
| PFPRefnet-class | 0.62 | 0.03 | 0.65 | |
| PFPRefnet_hsa | 0.24 | 0.00 | 0.23 | |
| PFPRefnet_mmu | 0.31 | 0.01 | 0.33 | |
| PFP_score-methods | 0 | 0 | 0 | |
| PFP_test1 | 0 | 0 | 0 | |
| PFP_test2 | 0 | 0 | 0 | |
| calc_PFP_score | 11.71 | 0.18 | 11.89 | |
| data_std | 0 | 0 | 0 | |
| gene_list_hsa | 0.00 | 0.01 | 0.02 | |
| genes_score-methods | 0 | 0 | 0 | |
| get_PFPRefnet | 0 | 0 | 0 | |
| get_asso_net | 2.35 | 0.03 | 2.38 | |
| get_bg_related_kegg | 1.55 | 0.02 | 1.56 | |
| get_exp_cor_edges | 0.12 | 0.00 | 0.12 | |
| get_pathway_info | 0.06 | 0.00 | 1.61 | |
| group-methods | 0.38 | 0.02 | 0.39 | |
| kegg_download | 0 | 0 | 0 | |
| net_info-methods | 0.26 | 0.00 | 0.26 | |
| net_names-methods | 0.25 | 0.00 | 0.25 | |
| network-methods | 0.23 | 0.00 | 0.23 | |
| pathway_info | 0 | 0 | 0 | |
| pathway_info_hsa | 0.00 | 0.02 | 0.02 | |
| pathways_score-methods | 0 | 0 | 0 | |
| plot_PFP-methods | 0.28 | 0.00 | 0.28 | |
| plot_PFPlist | 0.21 | 0.00 | 0.20 | |
| rank_PFP-methods | 0.14 | 0.01 | 0.16 | |
| refnet_info-methods | 0 | 0 | 0 | |
| refnet_names-methods | 0.01 | 0.00 | 0.02 | |
| result_PFP-methods | 0 | 0 | 0 | |
| show_PFP-methods | 0.02 | 0.00 | 0.01 | |
| show_net-methods | 0.34 | 0.00 | 0.35 | |
| stats_test-methods | 0 | 0 | 0 | |
| sub_PFP-methods | 0.16 | 0.02 | 0.17 | |
| subnet-methods | 0.25 | 0.00 | 0.25 | |
| trans_edges_id | 2.65 | 0.04 | 2.71 | |
| trans_graph2PFPRefnet | 0.53 | 0.00 | 0.53 | |
| trans_xml2graph | 0 | 0 | 0 | |