| Back to Multiple platform build/check report for BioC 3.16: simplified long |
|
This page was generated on 2023-04-12 11:05:13 -0400 (Wed, 12 Apr 2023).
| Hostname | OS | Arch (*) | R version | Installed pkgs |
|---|---|---|---|---|
| nebbiolo2 | Linux (Ubuntu 20.04.5 LTS) | x86_64 | 4.2.3 (2023-03-15) -- "Shortstop Beagle" | 4502 |
| palomino4 | Windows Server 2022 Datacenter | x64 | 4.2.3 (2023-03-15 ucrt) -- "Shortstop Beagle" | 4282 |
| lconway | macOS 12.5.1 Monterey | x86_64 | 4.2.3 (2023-03-15) -- "Shortstop Beagle" | 4310 |
| Click on any hostname to see more info about the system (e.g. compilers) (*) as reported by 'uname -p', except on Windows and Mac OS X | ||||
|
To the developers/maintainers of the PFP package: - Please allow up to 24 hours (and sometimes 48 hours) for your latest push to git@git.bioconductor.org:packages/PFP.git to reflect on this report. See How and When does the builder pull? When will my changes propagate? for more information. - Make sure to use the following settings in order to reproduce any error or warning you see on this page. |
| Package 1466/2183 | Hostname | OS / Arch | INSTALL | BUILD | CHECK | BUILD BIN | ||||||||
| PFP 1.6.0 (landing page) XC Zhang
| nebbiolo2 | Linux (Ubuntu 20.04.5 LTS) / x86_64 | OK | OK | OK | |||||||||
| palomino4 | Windows Server 2022 Datacenter / x64 | OK | OK | OK | OK | |||||||||
| lconway | macOS 12.5.1 Monterey / x86_64 | OK | OK | OK | OK | |||||||||
| Package: PFP |
| Version: 1.6.0 |
| Command: /home/biocbuild/bbs-3.16-bioc/R/bin/R CMD check --install=check:PFP.install-out.txt --library=/home/biocbuild/bbs-3.16-bioc/R/site-library --timings PFP_1.6.0.tar.gz |
| StartedAt: 2023-04-10 22:49:30 -0400 (Mon, 10 Apr 2023) |
| EndedAt: 2023-04-10 22:56:50 -0400 (Mon, 10 Apr 2023) |
| EllapsedTime: 439.5 seconds |
| RetCode: 0 |
| Status: OK |
| CheckDir: PFP.Rcheck |
| Warnings: 0 |
##############################################################################
##############################################################################
###
### Running command:
###
### /home/biocbuild/bbs-3.16-bioc/R/bin/R CMD check --install=check:PFP.install-out.txt --library=/home/biocbuild/bbs-3.16-bioc/R/site-library --timings PFP_1.6.0.tar.gz
###
##############################################################################
##############################################################################
* using log directory ‘/home/biocbuild/bbs-3.16-bioc/meat/PFP.Rcheck’
* using R version 4.2.3 (2023-03-15)
* using platform: x86_64-pc-linux-gnu (64-bit)
* using session charset: UTF-8
* checking for file ‘PFP/DESCRIPTION’ ... OK
* checking extension type ... Package
* this is package ‘PFP’ version ‘1.6.0’
* package encoding: UTF-8
* checking package namespace information ... OK
* checking package dependencies ... OK
* checking if this is a source package ... OK
* checking if there is a namespace ... OK
* checking for hidden files and directories ... OK
* checking for portable file names ... OK
* checking for sufficient/correct file permissions ... OK
* checking whether package ‘PFP’ can be installed ... OK
* checking installed package size ... OK
* checking package directory ... OK
* checking ‘build’ directory ... OK
* checking DESCRIPTION meta-information ... OK
* checking top-level files ... OK
* checking for left-over files ... OK
* checking index information ... OK
* checking package subdirectories ... OK
* checking R files for non-ASCII characters ... OK
* checking R files for syntax errors ... OK
* checking whether the package can be loaded ... OK
* checking whether the package can be loaded with stated dependencies ... OK
* checking whether the package can be unloaded cleanly ... OK
* checking whether the namespace can be loaded with stated dependencies ... OK
* checking whether the namespace can be unloaded cleanly ... OK
* checking loading without being on the library search path ... OK
* checking dependencies in R code ... OK
* checking S3 generic/method consistency ... OK
* checking replacement functions ... OK
* checking foreign function calls ... OK
* checking R code for possible problems ... OK
* checking Rd files ... OK
* checking Rd metadata ... OK
* checking Rd cross-references ... OK
* checking for missing documentation entries ... OK
* checking for code/documentation mismatches ... OK
* checking Rd \usage sections ... OK
* checking Rd contents ... OK
* checking for unstated dependencies in examples ... OK
* checking contents of ‘data’ directory ... OK
* checking data for non-ASCII characters ... OK
* checking data for ASCII and uncompressed saves ... OK
* checking files in ‘vignettes’ ... OK
* checking examples ... OK
Examples with CPU (user + system) or elapsed time > 5s
user system elapsed
calc_PFP_score 12.596 0.287 13.882
get_asso_net 4.831 0.207 7.178
* checking for unstated dependencies in ‘tests’ ... OK
* checking tests ...
Running ‘testthat.R’
OK
* checking for unstated dependencies in vignettes ... OK
* checking package vignettes in ‘inst/doc’ ... OK
* checking running R code from vignettes ...
‘PFP.Rmd’ using ‘UTF-8’... OK
NONE
* checking re-building of vignette outputs ... OK
* checking PDF version of manual ... OK
* DONE
Status: OK
PFP.Rcheck/00install.out
############################################################################## ############################################################################## ### ### Running command: ### ### /home/biocbuild/bbs-3.16-bioc/R/bin/R CMD INSTALL PFP ### ############################################################################## ############################################################################## * installing to library ‘/home/biocbuild/bbs-3.16-bioc/R/site-library’ * installing *source* package ‘PFP’ ... ** using staged installation ** R ** data ** byte-compile and prepare package for lazy loading ** help *** installing help indices ** building package indices ** installing vignettes ** testing if installed package can be loaded from temporary location ** testing if installed package can be loaded from final location ** testing if installed package keeps a record of temporary installation path * DONE (PFP)
PFP.Rcheck/tests/testthat.Rout
R version 4.2.3 (2023-03-15) -- "Shortstop Beagle"
Copyright (C) 2023 The R Foundation for Statistical Computing
Platform: x86_64-pc-linux-gnu (64-bit)
R is free software and comes with ABSOLUTELY NO WARRANTY.
You are welcome to redistribute it under certain conditions.
Type 'license()' or 'licence()' for distribution details.
R is a collaborative project with many contributors.
Type 'contributors()' for more information and
'citation()' on how to cite R or R packages in publications.
Type 'demo()' for some demos, 'help()' for on-line help, or
'help.start()' for an HTML browser interface to help.
Type 'q()' to quit R.
> library(testthat)
> library(PFP)
> test_check('PFP')
[ FAIL 0 | WARN 6 | SKIP 0 | PASS 31 ]
[ FAIL 0 | WARN 6 | SKIP 0 | PASS 31 ]
>
> proc.time()
user system elapsed
16.962 1.575 21.287
PFP.Rcheck/PFP-Ex.timings
| name | user | system | elapsed | |
| PFP-class | 0.104 | 0.008 | 0.112 | |
| PFPRefnet-class | 0.457 | 0.028 | 0.485 | |
| PFPRefnet_hsa | 0.408 | 0.000 | 0.409 | |
| PFPRefnet_mmu | 0.323 | 0.012 | 0.336 | |
| PFP_score-methods | 0.004 | 0.000 | 0.004 | |
| PFP_test1 | 0.004 | 0.000 | 0.004 | |
| PFP_test2 | 0.003 | 0.000 | 0.004 | |
| calc_PFP_score | 12.596 | 0.287 | 13.882 | |
| data_std | 0.016 | 0.000 | 0.016 | |
| gene_list_hsa | 0.001 | 0.000 | 0.002 | |
| genes_score-methods | 0.007 | 0.000 | 0.007 | |
| get_PFPRefnet | 0.000 | 0.001 | 0.001 | |
| get_asso_net | 4.831 | 0.207 | 7.178 | |
| get_bg_related_kegg | 3.197 | 0.016 | 3.723 | |
| get_exp_cor_edges | 0.257 | 0.015 | 0.335 | |
| get_pathway_info | 0.149 | 0.052 | 3.430 | |
| group-methods | 0.416 | 0.026 | 0.441 | |
| kegg_download | 0.001 | 0.000 | 0.002 | |
| net_info-methods | 0.542 | 0.068 | 0.612 | |
| net_names-methods | 0.534 | 0.051 | 0.717 | |
| network-methods | 0.582 | 0.072 | 0.993 | |
| pathway_info | 0.007 | 0.000 | 0.006 | |
| pathway_info_hsa | 0.003 | 0.000 | 0.003 | |
| pathways_score-methods | 0.008 | 0.000 | 0.007 | |
| plot_PFP-methods | 0.684 | 0.048 | 0.732 | |
| plot_PFPlist | 0.506 | 0.044 | 0.551 | |
| rank_PFP-methods | 0.231 | 0.016 | 0.247 | |
| refnet_info-methods | 0.009 | 0.000 | 0.009 | |
| refnet_names-methods | 0.008 | 0.000 | 0.008 | |
| result_PFP-methods | 0.01 | 0.00 | 0.01 | |
| show_PFP-methods | 0.012 | 0.000 | 0.012 | |
| show_net-methods | 0.540 | 0.028 | 0.568 | |
| stats_test-methods | 0.004 | 0.005 | 0.009 | |
| sub_PFP-methods | 0.202 | 0.024 | 0.282 | |
| subnet-methods | 0.686 | 0.168 | 0.854 | |
| trans_edges_id | 3.103 | 0.259 | 3.949 | |
| trans_graph2PFPRefnet | 0.823 | 0.032 | 0.875 | |
| trans_xml2graph | 0.001 | 0.000 | 0.001 | |