| Back to Multiple platform build/check report for BioC 3.16: simplified long |
|
This page was generated on 2023-04-12 11:05:44 -0400 (Wed, 12 Apr 2023).
| Hostname | OS | Arch (*) | R version | Installed pkgs |
|---|---|---|---|---|
| nebbiolo2 | Linux (Ubuntu 20.04.5 LTS) | x86_64 | 4.2.3 (2023-03-15) -- "Shortstop Beagle" | 4502 |
| palomino4 | Windows Server 2022 Datacenter | x64 | 4.2.3 (2023-03-15 ucrt) -- "Shortstop Beagle" | 4282 |
| lconway | macOS 12.5.1 Monterey | x86_64 | 4.2.3 (2023-03-15) -- "Shortstop Beagle" | 4310 |
| Click on any hostname to see more info about the system (e.g. compilers) (*) as reported by 'uname -p', except on Windows and Mac OS X | ||||
|
To the developers/maintainers of the OpenStats package: - Please allow up to 24 hours (and sometimes 48 hours) for your latest push to git@git.bioconductor.org:packages/OpenStats.git to reflect on this report. See How and When does the builder pull? When will my changes propagate? for more information. - Make sure to use the following settings in order to reproduce any error or warning you see on this page. |
| Package 1405/2183 | Hostname | OS / Arch | INSTALL | BUILD | CHECK | BUILD BIN | ||||||||
| OpenStats 1.10.0 (landing page) Hamed Haseli Mashhadi
| nebbiolo2 | Linux (Ubuntu 20.04.5 LTS) / x86_64 | OK | OK | OK | |||||||||
| palomino4 | Windows Server 2022 Datacenter / x64 | OK | OK | OK | OK | |||||||||
| lconway | macOS 12.5.1 Monterey / x86_64 | OK | OK | OK | OK | |||||||||
| Package: OpenStats |
| Version: 1.10.0 |
| Command: F:\biocbuild\bbs-3.16-bioc\R\bin\R.exe CMD check --no-multiarch --install=check:OpenStats.install-out.txt --library=F:\biocbuild\bbs-3.16-bioc\R\library --no-vignettes --timings OpenStats_1.10.0.tar.gz |
| StartedAt: 2023-04-11 04:11:10 -0400 (Tue, 11 Apr 2023) |
| EndedAt: 2023-04-11 04:13:04 -0400 (Tue, 11 Apr 2023) |
| EllapsedTime: 113.9 seconds |
| RetCode: 0 |
| Status: OK |
| CheckDir: OpenStats.Rcheck |
| Warnings: 0 |
############################################################################## ############################################################################## ### ### Running command: ### ### F:\biocbuild\bbs-3.16-bioc\R\bin\R.exe CMD check --no-multiarch --install=check:OpenStats.install-out.txt --library=F:\biocbuild\bbs-3.16-bioc\R\library --no-vignettes --timings OpenStats_1.10.0.tar.gz ### ############################################################################## ############################################################################## * using log directory 'F:/biocbuild/bbs-3.16-bioc/meat/OpenStats.Rcheck' * using R version 4.2.3 (2023-03-15 ucrt) * using platform: x86_64-w64-mingw32 (64-bit) * using session charset: UTF-8 * using option '--no-vignettes' * checking for file 'OpenStats/DESCRIPTION' ... OK * checking extension type ... Package * this is package 'OpenStats' version '1.10.0' * package encoding: UTF-8 * checking package namespace information ... OK * checking package dependencies ... OK * checking if this is a source package ... OK * checking if there is a namespace ... OK * checking for hidden files and directories ... OK * checking for portable file names ... OK * checking whether package 'OpenStats' can be installed ... OK * checking installed package size ... OK * checking package directory ... OK * checking 'build' directory ... OK * checking DESCRIPTION meta-information ... OK * checking top-level files ... OK * checking for left-over files ... OK * checking index information ... OK * checking package subdirectories ... OK * checking R files for non-ASCII characters ... OK * checking R files for syntax errors ... OK * checking whether the package can be loaded ... OK * checking whether the package can be loaded with stated dependencies ... OK * checking whether the package can be unloaded cleanly ... OK * checking whether the namespace can be loaded with stated dependencies ... OK * checking whether the namespace can be unloaded cleanly ... OK * checking dependencies in R code ... OK * checking S3 generic/method consistency ... OK * checking replacement functions ... OK * checking foreign function calls ... OK * checking R code for possible problems ... OK * checking Rd files ... OK * checking Rd metadata ... OK * checking Rd cross-references ... OK * checking for missing documentation entries ... OK * checking for code/documentation mismatches ... OK * checking Rd \usage sections ... OK * checking Rd contents ... OK * checking for unstated dependencies in examples ... OK * checking files in 'vignettes' ... OK * checking examples ... OK * checking for unstated dependencies in vignettes ... OK * checking package vignettes in 'inst/doc' ... OK * checking running R code from vignettes ... SKIPPED * checking re-building of vignette outputs ... SKIPPED * checking PDF version of manual ... OK * DONE Status: OK
OpenStats.Rcheck/00install.out
############################################################################## ############################################################################## ### ### Running command: ### ### F:\biocbuild\bbs-3.16-bioc\R\bin\R.exe CMD INSTALL OpenStats ### ############################################################################## ############################################################################## * installing to library 'F:/biocbuild/bbs-3.16-bioc/R/library' * installing *source* package 'OpenStats' ... ** using staged installation ** R ** inst ** byte-compile and prepare package for lazy loading ** help *** installing help indices ** building package indices ** installing vignettes ** testing if installed package can be loaded from temporary location ** testing if installed package can be loaded from final location ** testing if installed package keeps a record of temporary installation path * DONE (OpenStats)
OpenStats.Rcheck/OpenStats-Ex.timings
| name | user | system | elapsed | |
| OpenStatsAnalysis | 2.12 | 0.14 | 2.53 | |
| OpenStatsBuilder | 0 | 0 | 0 | |
| OpenStatsComplementarySplit | 1.78 | 0.04 | 1.83 | |
| OpenStatsList | 0.85 | 0.10 | 1.06 | |
| OpenStatsReport | 2.31 | 0.06 | 2.37 | |
| plot.OpenStats | 0.44 | 0.03 | 0.53 | |
| plot.OpenStatsComplementarySplit | 1.68 | 0.05 | 1.74 | |
| plot.OpenStatsFE | 0.07 | 0.00 | 0.06 | |
| plot.OpenStatsMM | 0.50 | 0.01 | 0.52 | |
| plot.OpenStatsRR | 0.57 | 0.00 | 0.57 | |
| print.OpenStats | 0.39 | 0.05 | 0.47 | |
| print.OpenStatsComplementarySplit | 1.47 | 0.05 | 1.52 | |
| print.OpenStatsFE | 0.07 | 0.00 | 0.06 | |
| print.OpenStatsMM | 0.51 | 0.01 | 0.53 | |
| print.OpenStatsRR | 0.28 | 0.00 | 0.28 | |
| summary.OpenStats | 0.41 | 0.00 | 0.49 | |
| summary.OpenStatsComplementarySplit | 1.47 | 0.05 | 1.51 | |
| summary.OpenStatsFE | 0.06 | 0.00 | 0.07 | |
| summary.OpenStatsMM | 0.52 | 0.00 | 0.51 | |
| summary.OpenStatsRR | 0.31 | 0.00 | 0.31 | |