| Back to Multiple platform build/check report for BioC 3.16: simplified long |
|
This page was generated on 2023-04-12 11:06:18 -0400 (Wed, 12 Apr 2023).
| Hostname | OS | Arch (*) | R version | Installed pkgs |
|---|---|---|---|---|
| nebbiolo2 | Linux (Ubuntu 20.04.5 LTS) | x86_64 | 4.2.3 (2023-03-15) -- "Shortstop Beagle" | 4502 |
| palomino4 | Windows Server 2022 Datacenter | x64 | 4.2.3 (2023-03-15 ucrt) -- "Shortstop Beagle" | 4282 |
| lconway | macOS 12.5.1 Monterey | x86_64 | 4.2.3 (2023-03-15) -- "Shortstop Beagle" | 4310 |
| Click on any hostname to see more info about the system (e.g. compilers) (*) as reported by 'uname -p', except on Windows and Mac OS X | ||||
|
To the developers/maintainers of the OpenStats package: - Please allow up to 24 hours (and sometimes 48 hours) for your latest push to git@git.bioconductor.org:packages/OpenStats.git to reflect on this report. See How and When does the builder pull? When will my changes propagate? for more information. - Make sure to use the following settings in order to reproduce any error or warning you see on this page. |
| Package 1405/2183 | Hostname | OS / Arch | INSTALL | BUILD | CHECK | BUILD BIN | ||||||||
| OpenStats 1.10.0 (landing page) Hamed Haseli Mashhadi
| nebbiolo2 | Linux (Ubuntu 20.04.5 LTS) / x86_64 | OK | OK | OK | |||||||||
| palomino4 | Windows Server 2022 Datacenter / x64 | OK | OK | OK | OK | |||||||||
| lconway | macOS 12.5.1 Monterey / x86_64 | OK | OK | OK | OK | |||||||||
| Package: OpenStats |
| Version: 1.10.0 |
| Command: /Library/Frameworks/R.framework/Resources/bin/R CMD check --install=check:OpenStats.install-out.txt --library=/Library/Frameworks/R.framework/Resources/library --no-vignettes --timings OpenStats_1.10.0.tar.gz |
| StartedAt: 2023-04-10 21:38:46 -0400 (Mon, 10 Apr 2023) |
| EndedAt: 2023-04-10 21:40:25 -0400 (Mon, 10 Apr 2023) |
| EllapsedTime: 98.4 seconds |
| RetCode: 0 |
| Status: OK |
| CheckDir: OpenStats.Rcheck |
| Warnings: 0 |
############################################################################## ############################################################################## ### ### Running command: ### ### /Library/Frameworks/R.framework/Resources/bin/R CMD check --install=check:OpenStats.install-out.txt --library=/Library/Frameworks/R.framework/Resources/library --no-vignettes --timings OpenStats_1.10.0.tar.gz ### ############################################################################## ############################################################################## * using log directory ‘/Users/biocbuild/bbs-3.16-bioc/meat/OpenStats.Rcheck’ * using R version 4.2.3 (2023-03-15) * using platform: x86_64-apple-darwin17.0 (64-bit) * using session charset: UTF-8 * using option ‘--no-vignettes’ * checking for file ‘OpenStats/DESCRIPTION’ ... OK * checking extension type ... Package * this is package ‘OpenStats’ version ‘1.10.0’ * package encoding: UTF-8 * checking package namespace information ... OK * checking package dependencies ... OK * checking if this is a source package ... OK * checking if there is a namespace ... OK * checking for hidden files and directories ... OK * checking for portable file names ... OK * checking for sufficient/correct file permissions ... OK * checking whether package ‘OpenStats’ can be installed ... OK * checking installed package size ... OK * checking package directory ... OK * checking ‘build’ directory ... OK * checking DESCRIPTION meta-information ... OK * checking top-level files ... OK * checking for left-over files ... OK * checking index information ... OK * checking package subdirectories ... OK * checking R files for non-ASCII characters ... OK * checking R files for syntax errors ... OK * checking whether the package can be loaded ... OK * checking whether the package can be loaded with stated dependencies ... OK * checking whether the package can be unloaded cleanly ... OK * checking whether the namespace can be loaded with stated dependencies ... OK * checking whether the namespace can be unloaded cleanly ... OK * checking dependencies in R code ... OK * checking S3 generic/method consistency ... OK * checking replacement functions ... OK * checking foreign function calls ... OK * checking R code for possible problems ... OK * checking Rd files ... OK * checking Rd metadata ... OK * checking Rd cross-references ... OK * checking for missing documentation entries ... OK * checking for code/documentation mismatches ... OK * checking Rd \usage sections ... OK * checking Rd contents ... OK * checking for unstated dependencies in examples ... OK * checking files in ‘vignettes’ ... OK * checking examples ... OK * checking for unstated dependencies in vignettes ... OK * checking package vignettes in ‘inst/doc’ ... OK * checking running R code from vignettes ... SKIPPED * checking re-building of vignette outputs ... SKIPPED * checking PDF version of manual ... OK * DONE Status: OK
OpenStats.Rcheck/00install.out
############################################################################## ############################################################################## ### ### Running command: ### ### /Library/Frameworks/R.framework/Resources/bin/R CMD INSTALL OpenStats ### ############################################################################## ############################################################################## * installing to library ‘/Library/Frameworks/R.framework/Versions/4.2/Resources/library’ * installing *source* package ‘OpenStats’ ... ** using staged installation ** R ** inst ** byte-compile and prepare package for lazy loading ** help *** installing help indices ** building package indices ** installing vignettes ** testing if installed package can be loaded from temporary location ** testing if installed package can be loaded from final location ** testing if installed package keeps a record of temporary installation path * DONE (OpenStats)
OpenStats.Rcheck/OpenStats-Ex.timings
| name | user | system | elapsed | |
| OpenStatsAnalysis | 1.599 | 0.090 | 1.704 | |
| OpenStatsBuilder | 0.000 | 0.001 | 0.001 | |
| OpenStatsComplementarySplit | 1.189 | 0.028 | 1.221 | |
| OpenStatsList | 0.828 | 0.090 | 0.942 | |
| OpenStatsReport | 2.027 | 0.312 | 2.339 | |
| plot.OpenStats | 0.503 | 0.088 | 0.596 | |
| plot.OpenStatsComplementarySplit | 1.752 | 0.265 | 2.016 | |
| plot.OpenStatsFE | 0.074 | 0.009 | 0.082 | |
| plot.OpenStatsMM | 0.550 | 0.082 | 0.631 | |
| plot.OpenStatsRR | 0.295 | 0.042 | 0.337 | |
| print.OpenStats | 0.460 | 0.072 | 0.538 | |
| print.OpenStatsComplementarySplit | 1.666 | 0.268 | 1.931 | |
| print.OpenStatsFE | 0.074 | 0.010 | 0.086 | |
| print.OpenStatsMM | 0.591 | 0.089 | 0.681 | |
| print.OpenStatsRR | 0.309 | 0.041 | 0.349 | |
| summary.OpenStats | 0.466 | 0.068 | 0.534 | |
| summary.OpenStatsComplementarySplit | 2.169 | 0.310 | 2.470 | |
| summary.OpenStatsFE | 0.062 | 0.010 | 0.072 | |
| summary.OpenStatsMM | 0.545 | 0.087 | 0.631 | |
| summary.OpenStatsRR | 0.273 | 0.039 | 0.311 | |