| Back to Multiple platform build/check report for BioC 3.16 |
|
This page was generated on 2022-07-07 11:11:40 -0400 (Thu, 07 Jul 2022).
| Hostname | OS | Arch (*) | R version | Installed pkgs |
|---|---|---|---|---|
| nebbiolo2 | Linux (Ubuntu 20.04.4 LTS) | x86_64 | 4.2.0 Patched (2022-06-02 r82447) -- "Vigorous Calisthenics" | 4343 |
| palomino4 | Windows Server 2022 Datacenter | x64 | 4.2.0 Patched (2022-06-02 r82447 ucrt) -- "Vigorous Calisthenics" | 4148 |
| lconway | macOS 12.2.1 Monterey | x86_64 | 4.2.0 Patched (2022-05-29 r82424) -- "Vigorous Calisthenics" | 4160 |
| kjohnson | macOS 12.4 Monterey | arm64 | 4.2.0 Patched (2022-06-09 r82473) -- "Vigorous Calisthenics" | 3115 |
| Click on any hostname to see more info about the system (e.g. compilers) (*) as reported by 'uname -p', except on Windows and Mac OS X | ||||
|
To the developers/maintainers of the OUTRIDER package: - Please allow up to 24 hours (and sometimes 48 hours) for your latest push to git@git.bioconductor.org:packages/OUTRIDER.git to reflect on this report. See How and When does the builder pull? When will my changes propagate? for more information. - Make sure to use the following settings in order to reproduce any error or warning you see on this page. |
| Package 1383/2124 | Hostname | OS / Arch | INSTALL | BUILD | CHECK | BUILD BIN | ||||||||
| OUTRIDER 1.15.0 (landing page) Christian Mertes
| nebbiolo2 | Linux (Ubuntu 20.04.4 LTS) / x86_64 | OK | OK | OK | |||||||||
| palomino4 | Windows Server 2022 Datacenter / x64 | OK | OK | OK | OK | |||||||||
| lconway | macOS 12.2.1 Monterey / x86_64 | OK | OK | OK | OK | |||||||||
| kjohnson | macOS 12.4 Monterey / arm64 | ERROR | ERROR | skipped | skipped | |||||||||
| Package: OUTRIDER |
| Version: 1.15.0 |
| Command: /Library/Frameworks/R.framework/Resources/bin/R CMD build --keep-empty-dirs --no-resave-data OUTRIDER |
| StartedAt: 2022-07-07 01:44:32 -0400 (Thu, 07 Jul 2022) |
| EndedAt: 2022-07-07 01:44:34 -0400 (Thu, 07 Jul 2022) |
| EllapsedTime: 2.1 seconds |
| RetCode: 1 |
| Status: ERROR |
| PackageFile: None |
| PackageFileSize: NA |
##############################################################################
##############################################################################
###
### Running command:
###
### /Library/Frameworks/R.framework/Resources/bin/R CMD build --keep-empty-dirs --no-resave-data OUTRIDER
###
##############################################################################
##############################################################################
* checking for file ‘OUTRIDER/DESCRIPTION’ ... OK
* preparing ‘OUTRIDER’:
* checking DESCRIPTION meta-information ... OK
* cleaning src
* installing the package to build vignettes
-----------------------------------
ERROR: dependencies ‘GenomicFeatures’, ‘DESeq2’ are not available for package ‘OUTRIDER’
* removing ‘/private/tmp/Rtmpua5On7/Rinst142a68b1a79e/OUTRIDER’
-----------------------------------
ERROR: package installation failed