| Back to Multiple platform build/check report for BioC 3.16: simplified long |
|
This page was generated on 2023-04-12 11:05:13 -0400 (Wed, 12 Apr 2023).
| Hostname | OS | Arch (*) | R version | Installed pkgs |
|---|---|---|---|---|
| nebbiolo2 | Linux (Ubuntu 20.04.5 LTS) | x86_64 | 4.2.3 (2023-03-15) -- "Shortstop Beagle" | 4502 |
| palomino4 | Windows Server 2022 Datacenter | x64 | 4.2.3 (2023-03-15 ucrt) -- "Shortstop Beagle" | 4282 |
| lconway | macOS 12.5.1 Monterey | x86_64 | 4.2.3 (2023-03-15) -- "Shortstop Beagle" | 4310 |
| Click on any hostname to see more info about the system (e.g. compilers) (*) as reported by 'uname -p', except on Windows and Mac OS X | ||||
|
To the developers/maintainers of the OUTRIDER package: - Please allow up to 24 hours (and sometimes 48 hours) for your latest push to git@git.bioconductor.org:packages/OUTRIDER.git to reflect on this report. See How and When does the builder pull? When will my changes propagate? for more information. - Make sure to use the following settings in order to reproduce any error or warning you see on this page. |
| Package 1420/2183 | Hostname | OS / Arch | INSTALL | BUILD | CHECK | BUILD BIN | ||||||||
| OUTRIDER 1.16.3 (landing page) Christian Mertes
| nebbiolo2 | Linux (Ubuntu 20.04.5 LTS) / x86_64 | OK | OK | OK | |||||||||
| palomino4 | Windows Server 2022 Datacenter / x64 | OK | OK | OK | OK | |||||||||
| lconway | macOS 12.5.1 Monterey / x86_64 | OK | OK | OK | OK | |||||||||
| Package: OUTRIDER |
| Version: 1.16.3 |
| Command: /home/biocbuild/bbs-3.16-bioc/R/bin/R CMD check --install=check:OUTRIDER.install-out.txt --library=/home/biocbuild/bbs-3.16-bioc/R/site-library --timings OUTRIDER_1.16.3.tar.gz |
| StartedAt: 2023-04-10 22:33:45 -0400 (Mon, 10 Apr 2023) |
| EndedAt: 2023-04-10 23:11:32 -0400 (Mon, 10 Apr 2023) |
| EllapsedTime: 2266.6 seconds |
| RetCode: 0 |
| Status: OK |
| CheckDir: OUTRIDER.Rcheck |
| Warnings: 0 |
##############################################################################
##############################################################################
###
### Running command:
###
### /home/biocbuild/bbs-3.16-bioc/R/bin/R CMD check --install=check:OUTRIDER.install-out.txt --library=/home/biocbuild/bbs-3.16-bioc/R/site-library --timings OUTRIDER_1.16.3.tar.gz
###
##############################################################################
##############################################################################
* using log directory ‘/home/biocbuild/bbs-3.16-bioc/meat/OUTRIDER.Rcheck’
* using R version 4.2.3 (2023-03-15)
* using platform: x86_64-pc-linux-gnu (64-bit)
* using session charset: UTF-8
* checking for file ‘OUTRIDER/DESCRIPTION’ ... OK
* checking extension type ... Package
* this is package ‘OUTRIDER’ version ‘1.16.3’
* package encoding: UTF-8
* checking package namespace information ... OK
* checking package dependencies ... OK
* checking if this is a source package ... OK
* checking if there is a namespace ... OK
* checking for hidden files and directories ... OK
* checking for portable file names ... OK
* checking for sufficient/correct file permissions ... OK
* checking whether package ‘OUTRIDER’ can be installed ... OK
* checking installed package size ... OK
* checking package directory ... OK
* checking ‘build’ directory ... OK
* checking DESCRIPTION meta-information ... OK
* checking top-level files ... OK
* checking for left-over files ... OK
* checking index information ... OK
* checking package subdirectories ... OK
* checking R files for non-ASCII characters ... OK
* checking R files for syntax errors ... OK
* checking whether the package can be loaded ... OK
* checking whether the package can be loaded with stated dependencies ... OK
* checking whether the package can be unloaded cleanly ... OK
* checking whether the namespace can be loaded with stated dependencies ... OK
* checking whether the namespace can be unloaded cleanly ... OK
* checking loading without being on the library search path ... OK
* checking dependencies in R code ... OK
* checking S3 generic/method consistency ... OK
* checking replacement functions ... OK
* checking foreign function calls ... OK
* checking R code for possible problems ... OK
* checking Rd files ... OK
* checking Rd metadata ... OK
* checking Rd cross-references ... OK
* checking for missing documentation entries ... OK
* checking for code/documentation mismatches ... OK
* checking Rd \usage sections ... OK
* checking Rd contents ... OK
* checking for unstated dependencies in examples ... OK
* checking line endings in C/C++/Fortran sources/headers ... OK
* checking line endings in Makefiles ... OK
* checking compilation flags in Makevars ... OK
* checking for GNU extensions in Makefiles ... OK
* checking for portable use of $(BLAS_LIBS) and $(LAPACK_LIBS) ... OK
* checking use of PKG_*FLAGS in Makefiles ... OK
* checking compiled code ... NOTE
Note: information on .o files is not available
* checking files in ‘vignettes’ ... OK
* checking examples ... OK
Examples with CPU (user + system) or elapsed time > 5s
user system elapsed
OUTRIDER 22.954 6.078 51.776
findEncodingDim 19.095 0.863 22.564
aberrant 9.917 3.514 6.008
computePvalues 4.926 6.408 4.352
plotFunctions 7.709 0.236 7.878
* checking for unstated dependencies in ‘tests’ ... OK
* checking tests ...
Running ‘testthat.R’
OK
* checking for unstated dependencies in vignettes ... OK
* checking package vignettes in ‘inst/doc’ ... OK
* checking running R code from vignettes ...
‘OUTRIDER.Rnw’ using ‘UTF-8’... OK
NONE
* checking re-building of vignette outputs ... OK
* checking PDF version of manual ... OK
* DONE
Status: 1 NOTE
See
‘/home/biocbuild/bbs-3.16-bioc/meat/OUTRIDER.Rcheck/00check.log’
for details.
OUTRIDER.Rcheck/00install.out
############################################################################## ############################################################################## ### ### Running command: ### ### /home/biocbuild/bbs-3.16-bioc/R/bin/R CMD INSTALL OUTRIDER ### ############################################################################## ############################################################################## * installing to library ‘/home/biocbuild/bbs-3.16-bioc/R/site-library’ * installing *source* package ‘OUTRIDER’ ... ** using staged installation ** libs g++ -std=gnu++11 -I"/home/biocbuild/bbs-3.16-bioc/R/include" -DNDEBUG -I'/home/biocbuild/bbs-3.16-bioc/R/site-library/Rcpp/include' -I'/home/biocbuild/bbs-3.16-bioc/R/site-library/RcppArmadillo/include' -I/usr/local/include -fopenmp -DARMA_DONT_USE_OPENMP -fpic -g -O2 -Wall -c RcppExports.cpp -o RcppExports.o g++ -std=gnu++11 -I"/home/biocbuild/bbs-3.16-bioc/R/include" -DNDEBUG -I'/home/biocbuild/bbs-3.16-bioc/R/site-library/Rcpp/include' -I'/home/biocbuild/bbs-3.16-bioc/R/site-library/RcppArmadillo/include' -I/usr/local/include -fopenmp -DARMA_DONT_USE_OPENMP -fpic -g -O2 -Wall -c loss_n_gradient_functions.cpp -o loss_n_gradient_functions.o g++ -std=gnu++11 -shared -L/home/biocbuild/bbs-3.16-bioc/R/lib -L/usr/local/lib -o OUTRIDER.so RcppExports.o loss_n_gradient_functions.o -fopenmp -L/home/biocbuild/bbs-3.16-bioc/R/lib -lRlapack -L/home/biocbuild/bbs-3.16-bioc/R/lib -lRblas -lgfortran -lm -lquadmath -L/home/biocbuild/bbs-3.16-bioc/R/lib -lR installing to /home/biocbuild/bbs-3.16-bioc/R/site-library/00LOCK-OUTRIDER/00new/OUTRIDER/libs ** R ** inst ** byte-compile and prepare package for lazy loading ** help *** installing help indices ** building package indices ** installing vignettes ** testing if installed package can be loaded from temporary location ** checking absolute paths in shared objects and dynamic libraries ** testing if installed package can be loaded from final location ** testing if installed package keeps a record of temporary installation path * DONE (OUTRIDER)
OUTRIDER.Rcheck/tests/testthat.Rout
R version 4.2.3 (2023-03-15) -- "Shortstop Beagle"
Copyright (C) 2023 The R Foundation for Statistical Computing
Platform: x86_64-pc-linux-gnu (64-bit)
R is free software and comes with ABSOLUTELY NO WARRANTY.
You are welcome to redistribute it under certain conditions.
Type 'license()' or 'licence()' for distribution details.
R is a collaborative project with many contributors.
Type 'contributors()' for more information and
'citation()' on how to cite R or R packages in publications.
Type 'demo()' for some demos, 'help()' for on-line help, or
'help.start()' for an HTML browser interface to help.
Type 'q()' to quit R.
> library(testthat)
> library(OUTRIDER)
Loading required package: BiocParallel
Loading required package: GenomicFeatures
Loading required package: BiocGenerics
Attaching package: 'BiocGenerics'
The following objects are masked from 'package:stats':
IQR, mad, sd, var, xtabs
The following objects are masked from 'package:base':
Filter, Find, Map, Position, Reduce, anyDuplicated, aperm, append,
as.data.frame, basename, cbind, colnames, dirname, do.call,
duplicated, eval, evalq, get, grep, grepl, intersect, is.unsorted,
lapply, mapply, match, mget, order, paste, pmax, pmax.int, pmin,
pmin.int, rank, rbind, rownames, sapply, setdiff, sort, table,
tapply, union, unique, unsplit, which.max, which.min
Loading required package: S4Vectors
Loading required package: stats4
Attaching package: 'S4Vectors'
The following objects are masked from 'package:base':
I, expand.grid, unname
Loading required package: IRanges
Loading required package: GenomeInfoDb
Loading required package: GenomicRanges
Loading required package: AnnotationDbi
Loading required package: Biobase
Welcome to Bioconductor
Vignettes contain introductory material; view with
'browseVignettes()'. To cite Bioconductor, see
'citation("Biobase")', and for packages 'citation("pkgname")'.
Loading required package: SummarizedExperiment
Loading required package: MatrixGenerics
Loading required package: matrixStats
Attaching package: 'matrixStats'
The following objects are masked from 'package:Biobase':
anyMissing, rowMedians
Attaching package: 'MatrixGenerics'
The following objects are masked from 'package:matrixStats':
colAlls, colAnyNAs, colAnys, colAvgsPerRowSet, colCollapse,
colCounts, colCummaxs, colCummins, colCumprods, colCumsums,
colDiffs, colIQRDiffs, colIQRs, colLogSumExps, colMadDiffs,
colMads, colMaxs, colMeans2, colMedians, colMins, colOrderStats,
colProds, colQuantiles, colRanges, colRanks, colSdDiffs, colSds,
colSums2, colTabulates, colVarDiffs, colVars, colWeightedMads,
colWeightedMeans, colWeightedMedians, colWeightedSds,
colWeightedVars, rowAlls, rowAnyNAs, rowAnys, rowAvgsPerColSet,
rowCollapse, rowCounts, rowCummaxs, rowCummins, rowCumprods,
rowCumsums, rowDiffs, rowIQRDiffs, rowIQRs, rowLogSumExps,
rowMadDiffs, rowMads, rowMaxs, rowMeans2, rowMedians, rowMins,
rowOrderStats, rowProds, rowQuantiles, rowRanges, rowRanks,
rowSdDiffs, rowSds, rowSums2, rowTabulates, rowVarDiffs, rowVars,
rowWeightedMads, rowWeightedMeans, rowWeightedMedians,
rowWeightedSds, rowWeightedVars
The following object is masked from 'package:Biobase':
rowMedians
Loading required package: data.table
Attaching package: 'data.table'
The following object is masked from 'package:SummarizedExperiment':
shift
The following object is masked from 'package:GenomicRanges':
shift
The following object is masked from 'package:IRanges':
shift
The following objects are masked from 'package:S4Vectors':
first, second
>
> register(SerialParam())
>
> test_check("OUTRIDER")
[1] "Mon Apr 10 22:46:08 2023: Initial PCA loss: 6.10443435292047"
[1] "Mon Apr 10 22:46:10 2023: Iteration: 1 loss: 4.39263770478999"
[1] "Mon Apr 10 22:46:11 2023: Iteration: 2 loss: 4.30528313559089"
[1] "Mon Apr 10 22:46:11 2023: Iteration: 3 loss: 4.25624716261933"
[1] "Mon Apr 10 22:46:12 2023: Iteration: 4 loss: 4.22934776152419"
[1] "Mon Apr 10 22:46:14 2023: Iteration: 5 loss: 4.22169370914419"
[1] "Mon Apr 10 22:46:15 2023: Iteration: 6 loss: 4.2132180185875"
Time difference of 5.597947 secs
[1] "Mon Apr 10 22:46:15 2023: 6 Final nb-AE loss: 4.2132180185875"
[1] "Mon Apr 10 22:46:18 2023: Initial PCA loss: 6.10443435292047"
[1] "Mon Apr 10 22:46:22 2023: Iteration: 1 loss: 4.39263770478999"
[1] "Mon Apr 10 22:46:25 2023: Iteration: 2 loss: 4.30528313559089"
[1] "Mon Apr 10 22:46:27 2023: Iteration: 3 loss: 4.25624716261933"
[1] "Mon Apr 10 22:46:30 2023: Iteration: 4 loss: 4.22934776152419"
[1] "Mon Apr 10 22:46:32 2023: Iteration: 5 loss: 4.22169370914419"
[1] "Mon Apr 10 22:46:34 2023: Iteration: 6 loss: 4.2132180185875"
Time difference of 13.79509 secs
[1] "Mon Apr 10 22:46:34 2023: 6 Final nb-AE loss: 4.2132180185875"
class: OutriderDataSet
class: RangedSummarizedExperiment
dim: 100 50
metadata(1): version
assays(1): counts
rownames(100): ENSG00000223972.4 ENSG00000227232.4 ...
ENSG00000107404.13 ENSG00000162576.12
rowData names(0):
colnames(50): GTEX.UPK5.0426.SM.3GAEK GTEX.WFG7.2026.SM.3GIL7 ...
GTEX.11UD2.2526.SM.5CVNU GTEX.13O61.1426.SM.5KM3D
colData names(1): sampleID
[1] "Mon Apr 10 22:46:52 2023: Initial PCA loss: 4.45420130352032"
[1] "Mon Apr 10 22:46:53 2023: Iteration: 1 loss: 4.13971092999574"
[1] "Mon Apr 10 22:46:54 2023: Iteration: 2 loss: 4.12393477882061"
Time difference of 1.131319 secs
[1] "Mon Apr 10 22:46:54 2023: 2 Final nb-AE loss: 4.12393477882061"
[1] "Evaluation loss: 0.592935467028928 for q=3"
[1] "Mon Apr 10 22:46:55 2023: Initial PCA loss: 4.43072148992175"
[1] "Mon Apr 10 22:46:56 2023: Iteration: 1 loss: 4.06844712322704"
[1] "Mon Apr 10 22:46:57 2023: Iteration: 2 loss: 4.05225504143613"
Time difference of 1.784974 secs
[1] "Mon Apr 10 22:46:57 2023: 2 Final nb-AE loss: 4.05225504143613"
[1] "Evaluation loss: 0.548437254243609 for q=4"
[1] "Mon Apr 10 22:46:59 2023: Initial PCA loss: 4.40868652993197"
[1] "Mon Apr 10 22:47:02 2023: Iteration: 1 loss: 3.9939949714128"
[1] "Mon Apr 10 22:47:04 2023: Iteration: 2 loss: 3.97218535816483"
Time difference of 3.528 secs
[1] "Mon Apr 10 22:47:04 2023: 2 Final nb-AE loss: 3.97218535816483"
[1] "Evaluation loss: 0.58077749978672 for q=5"
[1] "Mon Apr 10 22:47:28 2023: Initial PCA loss: 6.46616282459584"
[1] "Mon Apr 10 22:47:32 2023: Iteration: 1 loss: 4.8154560320664"
[1] "Mon Apr 10 22:47:33 2023: Iteration: 2 loss: 4.78986580095756"
Time difference of 1.794096 secs
[1] "Mon Apr 10 22:47:33 2023: 2 Final nb-AE loss: 4.78986580095756"
[ FAIL 0 | WARN 32 | SKIP 0 | PASS 103 ]
[ FAIL 0 | WARN 32 | SKIP 0 | PASS 103 ]
>
> proc.time()
user system elapsed
111.837 2.517 132.423
OUTRIDER.Rcheck/OUTRIDER-Ex.timings
| name | user | system | elapsed | |
| OUTRIDER | 22.954 | 6.078 | 51.776 | |
| OutriderDataSet-class | 1.696 | 0.176 | 1.889 | |
| aberrant | 9.917 | 3.514 | 6.008 | |
| computeGeneLength | 1.825 | 0.324 | 2.149 | |
| computeLatentSpace | 0.816 | 0.076 | 0.892 | |
| computePvalues | 4.926 | 6.408 | 4.352 | |
| computeZscores | 0.790 | 0.168 | 0.957 | |
| controlForConfounders | 0.976 | 0.092 | 1.069 | |
| counts | 0.513 | 0.024 | 0.537 | |
| estimateBestQ | 0.354 | 0.016 | 0.370 | |
| filterExpression | 1.363 | 0.112 | 1.475 | |
| findEncodingDim | 19.095 | 0.863 | 22.564 | |
| fit | 0.902 | 0.024 | 0.926 | |
| fpkm | 0.674 | 0.036 | 0.709 | |
| getter_setter_functions | 2.677 | 0.072 | 2.749 | |
| makeExampleOutriderDataSet | 1.030 | 0.016 | 1.046 | |
| normalizationFactors | 0.658 | 0.004 | 0.662 | |
| plotFunctions | 7.709 | 0.236 | 7.878 | |
| results | 3.008 | 0.040 | 3.049 | |
| sampleExclusionMask | 0.409 | 0.008 | 0.416 | |
| sizeFactors | 0.617 | 0.020 | 0.637 | |