| Back to Multiple platform build/check report for BioC 3.16 |
|
This page was generated on 2022-07-08 11:58:10 -0400 (Fri, 08 Jul 2022).
| Hostname | OS | Arch (*) | R version | Installed pkgs |
|---|---|---|---|---|
| nebbiolo2 | Linux (Ubuntu 20.04.4 LTS) | x86_64 | 4.2.0 Patched (2022-06-02 r82447) -- "Vigorous Calisthenics" | 4351 |
| palomino4 | Windows Server 2022 Datacenter | x64 | 4.2.0 Patched (2022-06-02 r82447 ucrt) -- "Vigorous Calisthenics" | 4154 |
| lconway | macOS 12.2.1 Monterey | x86_64 | 4.2.0 Patched (2022-05-29 r82424) -- "Vigorous Calisthenics" | 4166 |
| Click on any hostname to see more info about the system (e.g. compilers) (*) as reported by 'uname -p', except on Windows and Mac OS X | ||||
|
To the developers/maintainers of the NBSplice package: - Please allow up to 24 hours (and sometimes 48 hours) for your latest push to git@git.bioconductor.org:packages/NBSplice.git to reflect on this report. See How and When does the builder pull? When will my changes propagate? for more information. - Make sure to use the following settings in order to reproduce any error or warning you see on this page. |
| Package 1299/2130 | Hostname | OS / Arch | INSTALL | BUILD | CHECK | BUILD BIN | ||||||||
| NBSplice 1.15.0 (landing page) Gabriela Merino
| nebbiolo2 | Linux (Ubuntu 20.04.4 LTS) / x86_64 | OK | OK | OK | |||||||||
| palomino4 | Windows Server 2022 Datacenter / x64 | OK | OK | OK | OK | |||||||||
| lconway | macOS 12.2.1 Monterey / x86_64 | OK | OK | OK | OK | |||||||||
| Package: NBSplice |
| Version: 1.15.0 |
| Command: F:\biocbuild\bbs-3.16-bioc\R\bin\R.exe CMD check --force-multiarch --install=check:NBSplice.install-out.txt --library=F:\biocbuild\bbs-3.16-bioc\R\library --no-vignettes --timings NBSplice_1.15.0.tar.gz |
| StartedAt: 2022-07-08 03:57:15 -0400 (Fri, 08 Jul 2022) |
| EndedAt: 2022-07-08 04:00:12 -0400 (Fri, 08 Jul 2022) |
| EllapsedTime: 177.0 seconds |
| RetCode: 0 |
| Status: OK |
| CheckDir: NBSplice.Rcheck |
| Warnings: 0 |
##############################################################################
##############################################################################
###
### Running command:
###
### F:\biocbuild\bbs-3.16-bioc\R\bin\R.exe CMD check --force-multiarch --install=check:NBSplice.install-out.txt --library=F:\biocbuild\bbs-3.16-bioc\R\library --no-vignettes --timings NBSplice_1.15.0.tar.gz
###
##############################################################################
##############################################################################
* using log directory 'F:/biocbuild/bbs-3.16-bioc/meat/NBSplice.Rcheck'
* using R version 4.2.0 Patched (2022-06-02 r82447 ucrt)
* using platform: x86_64-w64-mingw32 (64-bit)
* using session charset: UTF-8
* using option '--no-vignettes'
* checking for file 'NBSplice/DESCRIPTION' ... OK
* checking extension type ... Package
* this is package 'NBSplice' version '1.15.0'
* checking package namespace information ... OK
* checking package dependencies ... OK
* checking if this is a source package ... OK
* checking if there is a namespace ... OK
* checking for hidden files and directories ... OK
* checking for portable file names ... OK
* checking whether package 'NBSplice' can be installed ... OK
* checking installed package size ... OK
* checking package directory ... OK
* checking 'build' directory ... OK
* checking DESCRIPTION meta-information ... OK
* checking top-level files ... OK
* checking for left-over files ... OK
* checking index information ... OK
* checking package subdirectories ... OK
* checking R files for non-ASCII characters ... OK
* checking R files for syntax errors ... OK
* checking whether the package can be loaded ... OK
* checking whether the package can be loaded with stated dependencies ... OK
* checking whether the package can be unloaded cleanly ... OK
* checking whether the namespace can be loaded with stated dependencies ... OK
* checking whether the namespace can be unloaded cleanly ... OK
* checking dependencies in R code ... OK
* checking S3 generic/method consistency ... OK
* checking replacement functions ... OK
* checking foreign function calls ... OK
* checking R code for possible problems ... OK
* checking Rd files ... OK
* checking Rd metadata ... OK
* checking Rd cross-references ... OK
* checking for missing documentation entries ... OK
* checking for code/documentation mismatches ... OK
* checking Rd \usage sections ... OK
* checking Rd contents ... OK
* checking for unstated dependencies in examples ... OK
* checking contents of 'data' directory ... OK
* checking data for non-ASCII characters ... OK
* checking data for ASCII and uncompressed saves ... OK
* checking files in 'vignettes' ... OK
* checking examples ... OK
Examples with CPU (user + system) or elapsed time > 5s
user system elapsed
IsoDataSet-NBTest 1.09 0.16 24.32
IsoDataSet-class 1.05 0.17 31.03
IsoDataSet-core 0.88 0.12 24.48
IsoDataSet-buildLowExpIdx 0.30 0.05 7.75
IsoDataSet-initialize 0.26 0.03 7.10
totalGeneCounts 0.21 0.06 7.26
IsoDataSet-constructor 0.18 0.00 6.97
* checking for unstated dependencies in 'tests' ... OK
* checking tests ...
Running 'runTests.R'
OK
* checking for unstated dependencies in vignettes ... OK
* checking package vignettes in 'inst/doc' ... OK
* checking running R code from vignettes ... SKIPPED
* checking re-building of vignette outputs ... SKIPPED
* checking PDF version of manual ... OK
* DONE
Status: OK
NBSplice.Rcheck/00install.out
##############################################################################
##############################################################################
###
### Running command:
###
### C:\cygwin\bin\curl.exe -O http://155.52.207.166/BBS/3.16/bioc/src/contrib/NBSplice_1.15.0.tar.gz && rm -rf NBSplice.buildbin-libdir && mkdir NBSplice.buildbin-libdir && F:\biocbuild\bbs-3.16-bioc\R\bin\R.exe CMD INSTALL --merge-multiarch --build --library=NBSplice.buildbin-libdir NBSplice_1.15.0.tar.gz && F:\biocbuild\bbs-3.16-bioc\R\bin\R.exe CMD INSTALL NBSplice_1.15.0.zip && rm NBSplice_1.15.0.tar.gz NBSplice_1.15.0.zip
###
##############################################################################
##############################################################################
% Total % Received % Xferd Average Speed Time Time Time Current
Dload Upload Total Spent Left Speed
0 0 0 0 0 0 0 0 --:--:-- --:--:-- --:--:-- 0
100 917k 100 917k 0 0 6524k 0 --:--:-- --:--:-- --:--:-- 6557k
only one architecture so ignoring '--merge-multiarch'
* installing *source* package 'NBSplice' ...
** using staged installation
** R
** data
** inst
** byte-compile and prepare package for lazy loading
** help
*** installing help indices
** building package indices
** installing vignettes
** testing if installed package can be loaded from temporary location
** testing if installed package can be loaded from final location
** testing if installed package keeps a record of temporary installation path
* MD5 sums
packaged installation of 'NBSplice' as NBSplice_1.15.0.zip
* DONE (NBSplice)
* installing to library 'F:/biocbuild/bbs-3.16-bioc/R/library'
package 'NBSplice' successfully unpacked and MD5 sums checked
NBSplice.Rcheck/tests/runTests.Rout
R version 4.2.0 Patched (2022-06-02 r82447 ucrt) -- "Vigorous Calisthenics"
Copyright (C) 2022 The R Foundation for Statistical Computing
Platform: x86_64-w64-mingw32/x64 (64-bit)
R is free software and comes with ABSOLUTELY NO WARRANTY.
You are welcome to redistribute it under certain conditions.
Type 'license()' or 'licence()' for distribution details.
R is a collaborative project with many contributors.
Type 'contributors()' for more information and
'citation()' on how to cite R or R packages in publications.
Type 'demo()' for some demos, 'help()' for on-line help, or
'help.start()' for an HTML browser interface to help.
Type 'q()' to quit R.
> BiocGenerics:::testPackage("NBSplice")
Loading required package: BiocParallel
Loading required package: ggplot2
RUNIT TEST PROTOCOL -- Fri Jul 8 04:00:02 2022
***********************************************
Number of test functions: 20
Number of errors: 0
Number of failures: 0
1 Test Suite :
NBSplice RUnit Tests - 20 test functions, 0 errors, 0 failures
Number of test functions: 20
Number of errors: 0
Number of failures: 0
>
>
> proc.time()
user system elapsed
3.37 0.34 3.65
NBSplice.Rcheck/NBSplice-Ex.timings
| name | user | system | elapsed | |
| IsoDataSet-NBTest | 1.09 | 0.16 | 24.32 | |
| IsoDataSet-buildLowExpIdx | 0.30 | 0.05 | 7.75 | |
| IsoDataSet-class | 1.05 | 0.17 | 31.03 | |
| IsoDataSet-constructor | 0.18 | 0.00 | 6.97 | |
| IsoDataSet-core | 0.88 | 0.12 | 24.48 | |
| IsoDataSet-getters | 0.27 | 0.05 | 0.31 | |
| IsoDataSet-initialize | 0.26 | 0.03 | 7.10 | |
| IsoDataSet-print | 0.11 | 0.05 | 0.15 | |
| IsoDataSet-show | 0.17 | 0.03 | 0.21 | |
| NBSpliceRes-GetDSGenes | 0.02 | 0.00 | 0.01 | |
| NBSpliceRes-GetDSResults | 0.02 | 0.00 | 0.01 | |
| NBSpliceRes-GetGeneResults | 0.03 | 0.00 | 0.03 | |
| NBSpliceRes-class | 0.03 | 0.00 | 0.04 | |
| NBSpliceRes-constructor | 0.02 | 0.00 | 0.01 | |
| NBSpliceRes-getters | 0.03 | 0.00 | 0.03 | |
| NBSpliceRes-initialize | 0.01 | 0.00 | 0.02 | |
| NBSpliceRes-plotGeneResults | 0.07 | 0.00 | 0.06 | |
| NBSpliceRes-plotRatiosDisp | 0.03 | 0.00 | 0.03 | |
| NBSpliceRes-plotVolcano | 0.02 | 0.00 | 0.01 | |
| NBSpliceRes-print | 0.00 | 0.03 | 0.03 | |
| NBSpliceRes-show | 0.01 | 0.02 | 0.04 | |
| totalGeneCounts | 0.21 | 0.06 | 7.26 | |