| Back to Multiple platform build/check report for BioC 3.16 |
|
This page was generated on 2022-07-20 11:07:54 -0400 (Wed, 20 Jul 2022).
| Hostname | OS | Arch (*) | R version | Installed pkgs |
|---|---|---|---|---|
| nebbiolo2 | Linux (Ubuntu 20.04.4 LTS) | x86_64 | 4.2.1 (2022-06-23) -- "Funny-Looking Kid" | 4335 |
| palomino4 | Windows Server 2022 Datacenter | x64 | 4.2.1 (2022-06-23 ucrt) -- "Funny-Looking Kid" | 4145 |
| lconway | macOS 12.2.1 Monterey | x86_64 | 4.2.0 Patched (2022-05-29 r82424) -- "Vigorous Calisthenics" | 4177 |
| Click on any hostname to see more info about the system (e.g. compilers) (*) as reported by 'uname -p', except on Windows and Mac OS X | ||||
|
To the developers/maintainers of the NBSplice package: - Please allow up to 24 hours (and sometimes 48 hours) for your latest push to git@git.bioconductor.org:packages/NBSplice.git to reflect on this report. See How and When does the builder pull? When will my changes propagate? for more information. - Make sure to use the following settings in order to reproduce any error or warning you see on this page. |
| Package 1301/2134 | Hostname | OS / Arch | INSTALL | BUILD | CHECK | BUILD BIN | ||||||||
| NBSplice 1.15.0 (landing page) Gabriela Merino
| nebbiolo2 | Linux (Ubuntu 20.04.4 LTS) / x86_64 | ERROR | ERROR | skipped | |||||||||
| palomino4 | Windows Server 2022 Datacenter / x64 | ERROR | ERROR | skipped | skipped | |||||||||
| lconway | macOS 12.2.1 Monterey / x86_64 | OK | OK | OK | OK | |||||||||
| Package: NBSplice |
| Version: 1.15.0 |
| Command: /Library/Frameworks/R.framework/Resources/bin/R CMD check --install=check:NBSplice.install-out.txt --library=/Library/Frameworks/R.framework/Resources/library --no-vignettes --timings NBSplice_1.15.0.tar.gz |
| StartedAt: 2022-07-19 21:22:43 -0400 (Tue, 19 Jul 2022) |
| EndedAt: 2022-07-19 21:24:57 -0400 (Tue, 19 Jul 2022) |
| EllapsedTime: 133.4 seconds |
| RetCode: 0 |
| Status: OK |
| CheckDir: NBSplice.Rcheck |
| Warnings: 0 |
##############################################################################
##############################################################################
###
### Running command:
###
### /Library/Frameworks/R.framework/Resources/bin/R CMD check --install=check:NBSplice.install-out.txt --library=/Library/Frameworks/R.framework/Resources/library --no-vignettes --timings NBSplice_1.15.0.tar.gz
###
##############################################################################
##############################################################################
* using log directory ‘/Users/biocbuild/bbs-3.16-bioc/meat/NBSplice.Rcheck’
* using R version 4.2.0 Patched (2022-05-29 r82424)
* using platform: x86_64-apple-darwin17.0 (64-bit)
* using session charset: UTF-8
* using option ‘--no-vignettes’
* checking for file ‘NBSplice/DESCRIPTION’ ... OK
* checking extension type ... Package
* this is package ‘NBSplice’ version ‘1.15.0’
* checking package namespace information ... OK
* checking package dependencies ... OK
* checking if this is a source package ... OK
* checking if there is a namespace ... OK
* checking for hidden files and directories ... OK
* checking for portable file names ... OK
* checking for sufficient/correct file permissions ... OK
* checking whether package ‘NBSplice’ can be installed ... OK
* checking installed package size ... OK
* checking package directory ... OK
* checking ‘build’ directory ... OK
* checking DESCRIPTION meta-information ... OK
* checking top-level files ... OK
* checking for left-over files ... OK
* checking index information ... OK
* checking package subdirectories ... OK
* checking R files for non-ASCII characters ... OK
* checking R files for syntax errors ... OK
* checking whether the package can be loaded ... OK
* checking whether the package can be loaded with stated dependencies ... OK
* checking whether the package can be unloaded cleanly ... OK
* checking whether the namespace can be loaded with stated dependencies ... OK
* checking whether the namespace can be unloaded cleanly ... OK
* checking dependencies in R code ... OK
* checking S3 generic/method consistency ... OK
* checking replacement functions ... OK
* checking foreign function calls ... OK
* checking R code for possible problems ... OK
* checking Rd files ... OK
* checking Rd metadata ... OK
* checking Rd cross-references ... OK
* checking for missing documentation entries ... OK
* checking for code/documentation mismatches ... OK
* checking Rd \usage sections ... OK
* checking Rd contents ... OK
* checking for unstated dependencies in examples ... OK
* checking contents of ‘data’ directory ... OK
* checking data for non-ASCII characters ... OK
* checking data for ASCII and uncompressed saves ... OK
* checking files in ‘vignettes’ ... OK
* checking examples ... OK
Examples with CPU (user + system) or elapsed time > 5s
user system elapsed
IsoDataSet-class 29.179 3.785 8.739
IsoDataSet-core 26.616 2.736 7.661
IsoDataSet-NBTest 26.145 2.316 7.775
IsoDataSet-buildLowExpIdx 16.589 0.986 4.516
* checking for unstated dependencies in ‘tests’ ... OK
* checking tests ...
Running ‘runTests.R’
OK
* checking for unstated dependencies in vignettes ... OK
* checking package vignettes in ‘inst/doc’ ... OK
* checking running R code from vignettes ... SKIPPED
* checking re-building of vignette outputs ... SKIPPED
* checking PDF version of manual ... OK
* DONE
Status: OK
NBSplice.Rcheck/00install.out
############################################################################## ############################################################################## ### ### Running command: ### ### /Library/Frameworks/R.framework/Resources/bin/R CMD INSTALL NBSplice ### ############################################################################## ############################################################################## * installing to library ‘/Library/Frameworks/R.framework/Versions/4.2/Resources/library’ * installing *source* package ‘NBSplice’ ... ** using staged installation ** R ** data ** inst ** byte-compile and prepare package for lazy loading ** help *** installing help indices ** building package indices ** installing vignettes ** testing if installed package can be loaded from temporary location ** testing if installed package can be loaded from final location ** testing if installed package keeps a record of temporary installation path * DONE (NBSplice)
NBSplice.Rcheck/tests/runTests.Rout
R version 4.2.0 Patched (2022-05-29 r82424) -- "Vigorous Calisthenics"
Copyright (C) 2022 The R Foundation for Statistical Computing
Platform: x86_64-apple-darwin17.0 (64-bit)
R is free software and comes with ABSOLUTELY NO WARRANTY.
You are welcome to redistribute it under certain conditions.
Type 'license()' or 'licence()' for distribution details.
R is a collaborative project with many contributors.
Type 'contributors()' for more information and
'citation()' on how to cite R or R packages in publications.
Type 'demo()' for some demos, 'help()' for on-line help, or
'help.start()' for an HTML browser interface to help.
Type 'q()' to quit R.
> BiocGenerics:::testPackage("NBSplice")
Loading required package: BiocParallel
Loading required package: ggplot2
RUNIT TEST PROTOCOL -- Tue Jul 19 21:24:48 2022
***********************************************
Number of test functions: 20
Number of errors: 0
Number of failures: 0
1 Test Suite :
NBSplice RUnit Tests - 20 test functions, 0 errors, 0 failures
Number of test functions: 20
Number of errors: 0
Number of failures: 0
>
>
> proc.time()
user system elapsed
35.317 0.368 35.830
NBSplice.Rcheck/NBSplice-Ex.timings
| name | user | system | elapsed | |
| IsoDataSet-NBTest | 26.145 | 2.316 | 7.775 | |
| IsoDataSet-buildLowExpIdx | 16.589 | 0.986 | 4.516 | |
| IsoDataSet-class | 29.179 | 3.785 | 8.739 | |
| IsoDataSet-constructor | 2.618 | 0.879 | 0.951 | |
| IsoDataSet-core | 26.616 | 2.736 | 7.661 | |
| IsoDataSet-getters | 0.272 | 0.024 | 0.299 | |
| IsoDataSet-initialize | 1.366 | 0.463 | 0.945 | |
| IsoDataSet-print | 0.803 | 0.266 | 0.197 | |
| IsoDataSet-show | 0.120 | 0.017 | 0.139 | |
| NBSpliceRes-GetDSGenes | 0.015 | 0.003 | 0.019 | |
| NBSpliceRes-GetDSResults | 0.017 | 0.002 | 0.019 | |
| NBSpliceRes-GetGeneResults | 0.014 | 0.001 | 0.015 | |
| NBSpliceRes-class | 0.023 | 0.004 | 0.027 | |
| NBSpliceRes-constructor | 0.014 | 0.001 | 0.015 | |
| NBSpliceRes-getters | 0.014 | 0.001 | 0.015 | |
| NBSpliceRes-initialize | 0.012 | 0.002 | 0.013 | |
| NBSpliceRes-plotGeneResults | 0.045 | 0.008 | 0.054 | |
| NBSpliceRes-plotRatiosDisp | 0.024 | 0.002 | 0.026 | |
| NBSpliceRes-plotVolcano | 0.021 | 0.001 | 0.024 | |
| NBSpliceRes-print | 0.022 | 0.003 | 0.025 | |
| NBSpliceRes-show | 0.021 | 0.003 | 0.024 | |
| totalGeneCounts | 2.716 | 0.975 | 0.980 | |