| Back to Multiple platform build/check report for BioC 3.16: simplified long |
|
This page was generated on 2023-04-12 11:05:42 -0400 (Wed, 12 Apr 2023).
| Hostname | OS | Arch (*) | R version | Installed pkgs |
|---|---|---|---|---|
| nebbiolo2 | Linux (Ubuntu 20.04.5 LTS) | x86_64 | 4.2.3 (2023-03-15) -- "Shortstop Beagle" | 4502 |
| palomino4 | Windows Server 2022 Datacenter | x64 | 4.2.3 (2023-03-15 ucrt) -- "Shortstop Beagle" | 4282 |
| lconway | macOS 12.5.1 Monterey | x86_64 | 4.2.3 (2023-03-15) -- "Shortstop Beagle" | 4310 |
| Click on any hostname to see more info about the system (e.g. compilers) (*) as reported by 'uname -p', except on Windows and Mac OS X | ||||
|
To the developers/maintainers of the MutationalPatterns package: - Please allow up to 24 hours (and sometimes 48 hours) for your latest push to git@git.bioconductor.org:packages/MutationalPatterns.git to reflect on this report. See How and When does the builder pull? When will my changes propagate? for more information. - Make sure to use the following settings in order to reproduce any error or warning you see on this page. |
| Package 1313/2183 | Hostname | OS / Arch | INSTALL | BUILD | CHECK | BUILD BIN | ||||||||
| MutationalPatterns 3.8.1 (landing page) Mark van Roosmalen
| nebbiolo2 | Linux (Ubuntu 20.04.5 LTS) / x86_64 | OK | OK | OK | |||||||||
| palomino4 | Windows Server 2022 Datacenter / x64 | OK | OK | OK | OK | |||||||||
| lconway | macOS 12.5.1 Monterey / x86_64 | OK | OK | OK | OK | |||||||||
| Package: MutationalPatterns |
| Version: 3.8.1 |
| Command: F:\biocbuild\bbs-3.16-bioc\R\bin\R.exe CMD check --no-multiarch --install=check:MutationalPatterns.install-out.txt --library=F:\biocbuild\bbs-3.16-bioc\R\library --no-vignettes --timings MutationalPatterns_3.8.1.tar.gz |
| StartedAt: 2023-04-11 03:49:33 -0400 (Tue, 11 Apr 2023) |
| EndedAt: 2023-04-11 03:59:41 -0400 (Tue, 11 Apr 2023) |
| EllapsedTime: 608.1 seconds |
| RetCode: 0 |
| Status: OK |
| CheckDir: MutationalPatterns.Rcheck |
| Warnings: 0 |
##############################################################################
##############################################################################
###
### Running command:
###
### F:\biocbuild\bbs-3.16-bioc\R\bin\R.exe CMD check --no-multiarch --install=check:MutationalPatterns.install-out.txt --library=F:\biocbuild\bbs-3.16-bioc\R\library --no-vignettes --timings MutationalPatterns_3.8.1.tar.gz
###
##############################################################################
##############################################################################
* using log directory 'F:/biocbuild/bbs-3.16-bioc/meat/MutationalPatterns.Rcheck'
* using R version 4.2.3 (2023-03-15 ucrt)
* using platform: x86_64-w64-mingw32 (64-bit)
* using session charset: UTF-8
* using option '--no-vignettes'
* checking for file 'MutationalPatterns/DESCRIPTION' ... OK
* checking extension type ... Package
* this is package 'MutationalPatterns' version '3.8.1'
* package encoding: UTF-8
* checking package namespace information ... OK
* checking package dependencies ... OK
* checking if this is a source package ... OK
* checking if there is a namespace ... OK
* checking for hidden files and directories ... OK
* checking for portable file names ... OK
* checking whether package 'MutationalPatterns' can be installed ... OK
* checking installed package size ... OK
* checking package directory ... OK
* checking 'build' directory ... OK
* checking DESCRIPTION meta-information ... OK
* checking top-level files ... OK
* checking for left-over files ... OK
* checking index information ... OK
* checking package subdirectories ... OK
* checking R files for non-ASCII characters ... OK
* checking R files for syntax errors ... OK
* checking whether the package can be loaded ... OK
* checking whether the package can be loaded with stated dependencies ... OK
* checking whether the package can be unloaded cleanly ... OK
* checking whether the namespace can be loaded with stated dependencies ... OK
* checking whether the namespace can be unloaded cleanly ... OK
* checking dependencies in R code ... OK
* checking S3 generic/method consistency ... OK
* checking replacement functions ... OK
* checking foreign function calls ... OK
* checking R code for possible problems ... OK
* checking Rd files ... OK
* checking Rd metadata ... OK
* checking Rd cross-references ... OK
* checking for missing documentation entries ... OK
* checking for code/documentation mismatches ... OK
* checking Rd \usage sections ... OK
* checking Rd contents ... OK
* checking for unstated dependencies in examples ... OK
* checking files in 'vignettes' ... OK
* checking examples ... OK
Examples with CPU (user + system) or elapsed time > 5s
user system elapsed
context_potential_damage_analysis 23.87 0.82 24.69
read_vcfs_as_granges 22.17 1.82 27.89
plot_lesion_segregation 13.26 0.28 13.54
get_mut_type 12.59 0.10 12.70
genomic_distribution 11.00 1.12 12.13
calculate_lesion_segregation 10.72 0.34 11.07
bin_mutation_density 8.60 0.36 8.95
plot_compare_indels 8.72 0.14 8.86
plot_indel_contexts 8.27 0.06 8.33
get_indel_context 6.70 1.10 7.80
plot_spectrum_region 5.66 0.33 5.98
plot_river 5.59 0.11 5.70
fit_to_signatures_bootstrapped 5.23 0.25 5.49
plot_spectrum 5.12 0.19 5.31
plot_compare_dbs 5.01 0.07 5.08
plot_profile_heatmap 4.96 0.12 5.08
* checking for unstated dependencies in 'tests' ... OK
* checking tests ...
Running 'testthat.R'
OK
* checking for unstated dependencies in vignettes ... OK
* checking package vignettes in 'inst/doc' ... OK
* checking running R code from vignettes ... SKIPPED
* checking re-building of vignette outputs ... SKIPPED
* checking PDF version of manual ... OK
* DONE
Status: OK
MutationalPatterns.Rcheck/00install.out
############################################################################## ############################################################################## ### ### Running command: ### ### F:\biocbuild\bbs-3.16-bioc\R\bin\R.exe CMD INSTALL MutationalPatterns ### ############################################################################## ############################################################################## * installing to library 'F:/biocbuild/bbs-3.16-bioc/R/library' * installing *source* package 'MutationalPatterns' ... ** using staged installation ** R ** inst ** byte-compile and prepare package for lazy loading ** help *** installing help indices ** building package indices ** installing vignettes ** testing if installed package can be loaded from temporary location ** testing if installed package can be loaded from final location ** testing if installed package keeps a record of temporary installation path * DONE (MutationalPatterns)
MutationalPatterns.Rcheck/tests/testthat.Rout
R version 4.2.3 (2023-03-15 ucrt) -- "Shortstop Beagle"
Copyright (C) 2023 The R Foundation for Statistical Computing
Platform: x86_64-w64-mingw32/x64 (64-bit)
R is free software and comes with ABSOLUTELY NO WARRANTY.
You are welcome to redistribute it under certain conditions.
Type 'license()' or 'licence()' for distribution details.
R is a collaborative project with many contributors.
Type 'contributors()' for more information and
'citation()' on how to cite R or R packages in publications.
Type 'demo()' for some demos, 'help()' for on-line help, or
'help.start()' for an HTML browser interface to help.
Type 'q()' to quit R.
> library(testthat)
> library(MutationalPatterns)
Loading required package: GenomicRanges
Loading required package: stats4
Loading required package: BiocGenerics
Attaching package: 'BiocGenerics'
The following objects are masked from 'package:stats':
IQR, mad, sd, var, xtabs
The following objects are masked from 'package:base':
Filter, Find, Map, Position, Reduce, anyDuplicated, aperm, append,
as.data.frame, basename, cbind, colnames, dirname, do.call,
duplicated, eval, evalq, get, grep, grepl, intersect, is.unsorted,
lapply, mapply, match, mget, order, paste, pmax, pmax.int, pmin,
pmin.int, rank, rbind, rownames, sapply, setdiff, sort, table,
tapply, union, unique, unsplit, which.max, which.min
Loading required package: S4Vectors
Attaching package: 'S4Vectors'
The following objects are masked from 'package:base':
I, expand.grid, unname
Loading required package: IRanges
Attaching package: 'IRanges'
The following object is masked from 'package:grDevices':
windows
Loading required package: GenomeInfoDb
Loading required package: NMF
Loading required package: registry
Loading required package: rngtools
Loading required package: cluster
NMF - BioConductor layer [OK] | Shared memory capabilities [NO: windows] | Cores 2/2
Attaching package: 'NMF'
The following object is masked from 'package:S4Vectors':
nrun
The following object is masked from 'package:testthat':
compare
>
> test_check("MutationalPatterns")
[ FAIL 0 | WARN 5 | SKIP 0 | PASS 474 ]
[ FAIL 0 | WARN 5 | SKIP 0 | PASS 474 ]
>
> proc.time()
user system elapsed
221.21 16.84 245.76
MutationalPatterns.Rcheck/MutationalPatterns-Ex.timings
| name | user | system | elapsed | |
| bin_mutation_density | 8.60 | 0.36 | 8.95 | |
| binomial_test | 0 | 0 | 0 | |
| calculate_lesion_segregation | 10.72 | 0.34 | 11.07 | |
| cluster_signatures | 0.05 | 0.00 | 0.04 | |
| context_potential_damage_analysis | 23.87 | 0.82 | 24.69 | |
| convert_sigs_to_ref | 0.03 | 0.00 | 0.04 | |
| cos_sim | 0 | 0 | 0 | |
| cos_sim_matrix | 0.03 | 0.00 | 0.03 | |
| count_dbs_contexts | 0.08 | 0.01 | 0.10 | |
| count_indel_contexts | 0.11 | 0.00 | 0.11 | |
| count_mbs_contexts | 0.07 | 0.02 | 0.09 | |
| determine_regional_similarity | 2.96 | 0.42 | 3.38 | |
| enrichment_depletion_test | 0.14 | 0.02 | 0.15 | |
| extract_signatures | 0 | 0 | 0 | |
| fit_to_signatures | 0.06 | 0.03 | 0.10 | |
| fit_to_signatures_bootstrapped | 5.23 | 0.25 | 5.49 | |
| fit_to_signatures_strict | 2.88 | 0.06 | 2.93 | |
| genomic_distribution | 11.00 | 1.12 | 12.13 | |
| get_dbs_context | 0.26 | 0.00 | 0.26 | |
| get_indel_context | 6.7 | 1.1 | 7.8 | |
| get_known_signatures | 0.50 | 0.23 | 0.73 | |
| get_mut_type | 12.59 | 0.10 | 12.70 | |
| lengthen_mut_matrix | 0.03 | 0.00 | 0.04 | |
| merge_signatures | 1.16 | 0.04 | 1.20 | |
| mut_context | 1.24 | 0.18 | 1.41 | |
| mut_matrix | 2.12 | 0.35 | 2.48 | |
| mut_matrix_stranded | 4.27 | 0.71 | 4.97 | |
| mut_strand | 1.03 | 0.03 | 1.06 | |
| mut_type | 0.03 | 0.00 | 0.03 | |
| mut_type_occurrences | 0.98 | 0.11 | 1.10 | |
| mutations_from_vcf | 0.01 | 0.00 | 0.02 | |
| plot_192_profile | 2.88 | 0.03 | 2.90 | |
| plot_96_profile | 2.37 | 0.08 | 2.46 | |
| plot_bootstrapped_contribution | 2.04 | 0.01 | 2.04 | |
| plot_compare_dbs | 5.01 | 0.07 | 5.08 | |
| plot_compare_indels | 8.72 | 0.14 | 8.86 | |
| plot_compare_mbs | 0.97 | 0.07 | 1.05 | |
| plot_compare_profiles | 2.72 | 0.07 | 2.78 | |
| plot_contribution | 3.31 | 0.06 | 3.37 | |
| plot_contribution_heatmap | 1.66 | 0.11 | 1.77 | |
| plot_correlation_bootstrap | 0.61 | 0.00 | 0.61 | |
| plot_cosine_heatmap | 1.93 | 0.05 | 1.98 | |
| plot_dbs_contexts | 4.92 | 0.04 | 4.99 | |
| plot_enrichment_depletion | 3.55 | 0.07 | 3.61 | |
| plot_indel_contexts | 8.27 | 0.06 | 8.33 | |
| plot_lesion_segregation | 13.26 | 0.28 | 13.54 | |
| plot_main_dbs_contexts | 0.47 | 0.05 | 0.52 | |
| plot_main_indel_contexts | 0.60 | 0.01 | 0.61 | |
| plot_mbs_contexts | 0.54 | 0.02 | 0.56 | |
| plot_original_vs_reconstructed | 0.5 | 0.0 | 0.5 | |
| plot_profile_heatmap | 4.96 | 0.12 | 5.08 | |
| plot_profile_region | 1.18 | 0.00 | 1.19 | |
| plot_rainfall | 2.03 | 0.00 | 2.03 | |
| plot_regional_similarity | 1.60 | 0.03 | 1.62 | |
| plot_river | 5.59 | 0.11 | 5.70 | |
| plot_signature_strand_bias | 0.80 | 0.05 | 0.85 | |
| plot_spectrum | 5.12 | 0.19 | 5.31 | |
| plot_spectrum_region | 5.66 | 0.33 | 5.98 | |
| plot_strand | 0.21 | 0.00 | 0.22 | |
| plot_strand_bias | 0.83 | 0.03 | 0.86 | |
| pool_mut_mat | 0.05 | 0.00 | 0.05 | |
| read_vcfs_as_granges | 22.17 | 1.82 | 27.89 | |
| rename_nmf_signatures | 0.03 | 0.04 | 0.06 | |
| signature_potential_damage_analysis | 0.13 | 0.00 | 0.15 | |
| split_muts_region | 4.39 | 0.03 | 4.48 | |
| strand_bias_test | 0.22 | 0.00 | 0.22 | |
| strand_occurrences | 0.15 | 0.05 | 0.20 | |
| type_context | 1.38 | 0.22 | 1.60 | |