| Back to Multiple platform build/check report for BioC 3.16: simplified long |
|
This page was generated on 2023-04-12 11:06:17 -0400 (Wed, 12 Apr 2023).
| Hostname | OS | Arch (*) | R version | Installed pkgs |
|---|---|---|---|---|
| nebbiolo2 | Linux (Ubuntu 20.04.5 LTS) | x86_64 | 4.2.3 (2023-03-15) -- "Shortstop Beagle" | 4502 |
| palomino4 | Windows Server 2022 Datacenter | x64 | 4.2.3 (2023-03-15 ucrt) -- "Shortstop Beagle" | 4282 |
| lconway | macOS 12.5.1 Monterey | x86_64 | 4.2.3 (2023-03-15) -- "Shortstop Beagle" | 4310 |
| Click on any hostname to see more info about the system (e.g. compilers) (*) as reported by 'uname -p', except on Windows and Mac OS X | ||||
|
To the developers/maintainers of the MutationalPatterns package: - Please allow up to 24 hours (and sometimes 48 hours) for your latest push to git@git.bioconductor.org:packages/MutationalPatterns.git to reflect on this report. See How and When does the builder pull? When will my changes propagate? for more information. - Make sure to use the following settings in order to reproduce any error or warning you see on this page. |
| Package 1313/2183 | Hostname | OS / Arch | INSTALL | BUILD | CHECK | BUILD BIN | ||||||||
| MutationalPatterns 3.8.1 (landing page) Mark van Roosmalen
| nebbiolo2 | Linux (Ubuntu 20.04.5 LTS) / x86_64 | OK | OK | OK | |||||||||
| palomino4 | Windows Server 2022 Datacenter / x64 | OK | OK | OK | OK | |||||||||
| lconway | macOS 12.5.1 Monterey / x86_64 | OK | OK | OK | OK | |||||||||
| Package: MutationalPatterns |
| Version: 3.8.1 |
| Command: /Library/Frameworks/R.framework/Resources/bin/R CMD check --install=check:MutationalPatterns.install-out.txt --library=/Library/Frameworks/R.framework/Resources/library --no-vignettes --timings MutationalPatterns_3.8.1.tar.gz |
| StartedAt: 2023-04-10 21:28:17 -0400 (Mon, 10 Apr 2023) |
| EndedAt: 2023-04-10 21:37:14 -0400 (Mon, 10 Apr 2023) |
| EllapsedTime: 537.2 seconds |
| RetCode: 0 |
| Status: OK |
| CheckDir: MutationalPatterns.Rcheck |
| Warnings: 0 |
##############################################################################
##############################################################################
###
### Running command:
###
### /Library/Frameworks/R.framework/Resources/bin/R CMD check --install=check:MutationalPatterns.install-out.txt --library=/Library/Frameworks/R.framework/Resources/library --no-vignettes --timings MutationalPatterns_3.8.1.tar.gz
###
##############################################################################
##############################################################################
* using log directory ‘/Users/biocbuild/bbs-3.16-bioc/meat/MutationalPatterns.Rcheck’
* using R version 4.2.3 (2023-03-15)
* using platform: x86_64-apple-darwin17.0 (64-bit)
* using session charset: UTF-8
* using option ‘--no-vignettes’
* checking for file ‘MutationalPatterns/DESCRIPTION’ ... OK
* checking extension type ... Package
* this is package ‘MutationalPatterns’ version ‘3.8.1’
* package encoding: UTF-8
* checking package namespace information ... OK
* checking package dependencies ... OK
* checking if this is a source package ... OK
* checking if there is a namespace ... OK
* checking for hidden files and directories ... OK
* checking for portable file names ... OK
* checking for sufficient/correct file permissions ... OK
* checking whether package ‘MutationalPatterns’ can be installed ... OK
* checking installed package size ... OK
* checking package directory ... OK
* checking ‘build’ directory ... OK
* checking DESCRIPTION meta-information ... OK
* checking top-level files ... OK
* checking for left-over files ... OK
* checking index information ... OK
* checking package subdirectories ... OK
* checking R files for non-ASCII characters ... OK
* checking R files for syntax errors ... OK
* checking whether the package can be loaded ... OK
* checking whether the package can be loaded with stated dependencies ... OK
* checking whether the package can be unloaded cleanly ... OK
* checking whether the namespace can be loaded with stated dependencies ... OK
* checking whether the namespace can be unloaded cleanly ... OK
* checking dependencies in R code ... OK
* checking S3 generic/method consistency ... OK
* checking replacement functions ... OK
* checking foreign function calls ... OK
* checking R code for possible problems ... OK
* checking Rd files ... OK
* checking Rd metadata ... OK
* checking Rd cross-references ... OK
* checking for missing documentation entries ... OK
* checking for code/documentation mismatches ... OK
* checking Rd \usage sections ... OK
* checking Rd contents ... OK
* checking for unstated dependencies in examples ... OK
* checking files in ‘vignettes’ ... OK
* checking examples ... OK
Examples with CPU (user + system) or elapsed time > 5s
user system elapsed
context_potential_damage_analysis 21.630 0.359 22.028
read_vcfs_as_granges 19.669 1.085 23.263
plot_lesion_segregation 13.644 0.072 13.776
get_mut_type 11.046 0.043 11.109
calculate_lesion_segregation 10.178 0.284 10.496
genomic_distribution 9.590 0.650 10.279
bin_mutation_density 8.278 0.274 8.565
plot_indel_contexts 7.852 0.042 7.929
plot_compare_indels 6.832 0.031 6.889
get_indel_context 6.199 0.533 6.783
fit_to_signatures_bootstrapped 5.589 0.355 5.957
plot_river 5.494 0.097 5.603
plot_spectrum_region 5.279 0.117 5.410
plot_profile_heatmap 5.120 0.165 5.350
plot_spectrum 5.055 0.094 5.158
* checking for unstated dependencies in ‘tests’ ... OK
* checking tests ...
Running ‘testthat.R’
OK
* checking for unstated dependencies in vignettes ... OK
* checking package vignettes in ‘inst/doc’ ... OK
* checking running R code from vignettes ... SKIPPED
* checking re-building of vignette outputs ... SKIPPED
* checking PDF version of manual ... OK
* DONE
Status: OK
MutationalPatterns.Rcheck/00install.out
############################################################################## ############################################################################## ### ### Running command: ### ### /Library/Frameworks/R.framework/Resources/bin/R CMD INSTALL MutationalPatterns ### ############################################################################## ############################################################################## * installing to library ‘/Library/Frameworks/R.framework/Versions/4.2/Resources/library’ * installing *source* package ‘MutationalPatterns’ ... ** using staged installation ** R ** inst ** byte-compile and prepare package for lazy loading ** help *** installing help indices ** building package indices ** installing vignettes ** testing if installed package can be loaded from temporary location ** testing if installed package can be loaded from final location ** testing if installed package keeps a record of temporary installation path * DONE (MutationalPatterns)
MutationalPatterns.Rcheck/tests/testthat.Rout
R version 4.2.3 (2023-03-15) -- "Shortstop Beagle"
Copyright (C) 2023 The R Foundation for Statistical Computing
Platform: x86_64-apple-darwin17.0 (64-bit)
R is free software and comes with ABSOLUTELY NO WARRANTY.
You are welcome to redistribute it under certain conditions.
Type 'license()' or 'licence()' for distribution details.
R is a collaborative project with many contributors.
Type 'contributors()' for more information and
'citation()' on how to cite R or R packages in publications.
Type 'demo()' for some demos, 'help()' for on-line help, or
'help.start()' for an HTML browser interface to help.
Type 'q()' to quit R.
> library(testthat)
> library(MutationalPatterns)
Loading required package: GenomicRanges
Loading required package: stats4
Loading required package: BiocGenerics
Attaching package: 'BiocGenerics'
The following objects are masked from 'package:stats':
IQR, mad, sd, var, xtabs
The following objects are masked from 'package:base':
Filter, Find, Map, Position, Reduce, anyDuplicated, aperm, append,
as.data.frame, basename, cbind, colnames, dirname, do.call,
duplicated, eval, evalq, get, grep, grepl, intersect, is.unsorted,
lapply, mapply, match, mget, order, paste, pmax, pmax.int, pmin,
pmin.int, rank, rbind, rownames, sapply, setdiff, sort, table,
tapply, union, unique, unsplit, which.max, which.min
Loading required package: S4Vectors
Attaching package: 'S4Vectors'
The following objects are masked from 'package:base':
I, expand.grid, unname
Loading required package: IRanges
Loading required package: GenomeInfoDb
Loading required package: NMF
Loading required package: registry
Loading required package: rngtools
Loading required package: cluster
NMF - BioConductor layer [OK] | Shared memory capabilities [NO: synchronicity] | Cores 2/2
To enable shared memory capabilities, try: install.extras('
NMF
')
Attaching package: 'NMF'
The following object is masked from 'package:S4Vectors':
nrun
The following object is masked from 'package:testthat':
compare
>
> test_check("MutationalPatterns")
[ FAIL 0 | WARN 5 | SKIP 0 | PASS 474 ]
[ FAIL 0 | WARN 5 | SKIP 0 | PASS 474 ]
>
> proc.time()
user system elapsed
186.193 9.069 205.915
MutationalPatterns.Rcheck/MutationalPatterns-Ex.timings
| name | user | system | elapsed | |
| bin_mutation_density | 8.278 | 0.274 | 8.565 | |
| binomial_test | 0.010 | 0.000 | 0.011 | |
| calculate_lesion_segregation | 10.178 | 0.284 | 10.496 | |
| cluster_signatures | 0.041 | 0.004 | 0.045 | |
| context_potential_damage_analysis | 21.630 | 0.359 | 22.028 | |
| convert_sigs_to_ref | 0.037 | 0.003 | 0.042 | |
| cos_sim | 0 | 0 | 0 | |
| cos_sim_matrix | 0.019 | 0.004 | 0.024 | |
| count_dbs_contexts | 0.085 | 0.003 | 0.088 | |
| count_indel_contexts | 0.118 | 0.003 | 0.121 | |
| count_mbs_contexts | 0.158 | 0.007 | 0.166 | |
| determine_regional_similarity | 2.859 | 0.232 | 3.105 | |
| enrichment_depletion_test | 0.154 | 0.002 | 0.155 | |
| extract_signatures | 0.001 | 0.000 | 0.001 | |
| fit_to_signatures | 0.073 | 0.012 | 0.086 | |
| fit_to_signatures_bootstrapped | 5.589 | 0.355 | 5.957 | |
| fit_to_signatures_strict | 2.581 | 0.149 | 2.735 | |
| genomic_distribution | 9.590 | 0.650 | 10.279 | |
| get_dbs_context | 0.260 | 0.003 | 0.264 | |
| get_indel_context | 6.199 | 0.533 | 6.783 | |
| get_known_signatures | 0.227 | 0.318 | 0.552 | |
| get_mut_type | 11.046 | 0.043 | 11.109 | |
| lengthen_mut_matrix | 0.014 | 0.008 | 0.022 | |
| merge_signatures | 0.977 | 0.166 | 1.146 | |
| mut_context | 1.004 | 0.105 | 1.110 | |
| mut_matrix | 1.638 | 0.139 | 1.780 | |
| mut_matrix_stranded | 4.467 | 0.241 | 4.719 | |
| mut_strand | 0.909 | 0.033 | 0.945 | |
| mut_type | 0.036 | 0.002 | 0.039 | |
| mut_type_occurrences | 0.878 | 0.090 | 0.974 | |
| mutations_from_vcf | 0.020 | 0.000 | 0.021 | |
| plot_192_profile | 2.381 | 0.018 | 2.410 | |
| plot_96_profile | 2.147 | 0.016 | 2.177 | |
| plot_bootstrapped_contribution | 2.630 | 0.041 | 2.687 | |
| plot_compare_dbs | 3.932 | 0.018 | 3.960 | |
| plot_compare_indels | 6.832 | 0.031 | 6.889 | |
| plot_compare_mbs | 0.769 | 0.008 | 0.781 | |
| plot_compare_profiles | 1.733 | 0.009 | 1.751 | |
| plot_contribution | 2.551 | 0.016 | 2.577 | |
| plot_contribution_heatmap | 1.511 | 0.018 | 1.535 | |
| plot_correlation_bootstrap | 0.530 | 0.009 | 0.543 | |
| plot_cosine_heatmap | 1.926 | 0.020 | 1.954 | |
| plot_dbs_contexts | 3.674 | 0.020 | 3.711 | |
| plot_enrichment_depletion | 3.435 | 0.022 | 3.470 | |
| plot_indel_contexts | 7.852 | 0.042 | 7.929 | |
| plot_lesion_segregation | 13.644 | 0.072 | 13.776 | |
| plot_main_dbs_contexts | 0.460 | 0.004 | 0.465 | |
| plot_main_indel_contexts | 0.696 | 0.005 | 0.704 | |
| plot_mbs_contexts | 0.589 | 0.004 | 0.598 | |
| plot_original_vs_reconstructed | 0.592 | 0.006 | 0.606 | |
| plot_profile_heatmap | 5.120 | 0.165 | 5.350 | |
| plot_profile_region | 1.136 | 0.012 | 1.153 | |
| plot_rainfall | 1.921 | 0.009 | 1.937 | |
| plot_regional_similarity | 1.568 | 0.011 | 1.587 | |
| plot_river | 5.494 | 0.097 | 5.603 | |
| plot_signature_strand_bias | 0.775 | 0.004 | 0.780 | |
| plot_spectrum | 5.055 | 0.094 | 5.158 | |
| plot_spectrum_region | 5.279 | 0.117 | 5.410 | |
| plot_strand | 0.228 | 0.009 | 0.237 | |
| plot_strand_bias | 0.873 | 0.008 | 0.883 | |
| pool_mut_mat | 0.040 | 0.006 | 0.046 | |
| read_vcfs_as_granges | 19.669 | 1.085 | 23.263 | |
| rename_nmf_signatures | 0.027 | 0.040 | 0.067 | |
| signature_potential_damage_analysis | 0.080 | 0.002 | 0.082 | |
| split_muts_region | 3.384 | 0.108 | 3.495 | |
| strand_bias_test | 0.136 | 0.026 | 0.162 | |
| strand_occurrences | 0.143 | 0.010 | 0.152 | |
| type_context | 1.238 | 0.135 | 1.379 | |