| Back to Multiple platform build/check report for BioC 3.16: simplified long |
|
This page was generated on 2023-04-12 11:05:11 -0400 (Wed, 12 Apr 2023).
| Hostname | OS | Arch (*) | R version | Installed pkgs |
|---|---|---|---|---|
| nebbiolo2 | Linux (Ubuntu 20.04.5 LTS) | x86_64 | 4.2.3 (2023-03-15) -- "Shortstop Beagle" | 4502 |
| palomino4 | Windows Server 2022 Datacenter | x64 | 4.2.3 (2023-03-15 ucrt) -- "Shortstop Beagle" | 4282 |
| lconway | macOS 12.5.1 Monterey | x86_64 | 4.2.3 (2023-03-15) -- "Shortstop Beagle" | 4310 |
| Click on any hostname to see more info about the system (e.g. compilers) (*) as reported by 'uname -p', except on Windows and Mac OS X | ||||
|
To the developers/maintainers of the ModCon package: - Please allow up to 24 hours (and sometimes 48 hours) for your latest push to git@git.bioconductor.org:packages/ModCon.git to reflect on this report. See How and When does the builder pull? When will my changes propagate? for more information. - Make sure to use the following settings in order to reproduce any error or warning you see on this page. |
| Package 1241/2183 | Hostname | OS / Arch | INSTALL | BUILD | CHECK | BUILD BIN | ||||||||
| ModCon 1.6.0 (landing page) Johannes Ptok
| nebbiolo2 | Linux (Ubuntu 20.04.5 LTS) / x86_64 | OK | OK | OK | |||||||||
| palomino4 | Windows Server 2022 Datacenter / x64 | OK | OK | OK | OK | |||||||||
| lconway | macOS 12.5.1 Monterey / x86_64 | OK | OK | OK | OK | |||||||||
| Package: ModCon |
| Version: 1.6.0 |
| Command: /home/biocbuild/bbs-3.16-bioc/R/bin/R CMD check --install=check:ModCon.install-out.txt --library=/home/biocbuild/bbs-3.16-bioc/R/site-library --timings ModCon_1.6.0.tar.gz |
| StartedAt: 2023-04-10 22:04:50 -0400 (Mon, 10 Apr 2023) |
| EndedAt: 2023-04-10 22:10:04 -0400 (Mon, 10 Apr 2023) |
| EllapsedTime: 313.4 seconds |
| RetCode: 0 |
| Status: OK |
| CheckDir: ModCon.Rcheck |
| Warnings: 0 |
##############################################################################
##############################################################################
###
### Running command:
###
### /home/biocbuild/bbs-3.16-bioc/R/bin/R CMD check --install=check:ModCon.install-out.txt --library=/home/biocbuild/bbs-3.16-bioc/R/site-library --timings ModCon_1.6.0.tar.gz
###
##############################################################################
##############################################################################
* using log directory ‘/home/biocbuild/bbs-3.16-bioc/meat/ModCon.Rcheck’
* using R version 4.2.3 (2023-03-15)
* using platform: x86_64-pc-linux-gnu (64-bit)
* using session charset: UTF-8
* checking for file ‘ModCon/DESCRIPTION’ ... OK
* checking extension type ... Package
* this is package ‘ModCon’ version ‘1.6.0’
* package encoding: UTF-8
* checking package namespace information ... OK
* checking package dependencies ... OK
* checking if this is a source package ... OK
* checking if there is a namespace ... OK
* checking for hidden files and directories ... OK
* checking for portable file names ... OK
* checking for sufficient/correct file permissions ... OK
* checking whether package ‘ModCon’ can be installed ... OK
* checking installed package size ... NOTE
installed size is 6.5Mb
sub-directories of 1Mb or more:
R 1.2Mb
data 1.1Mb
extdata 4.1Mb
* checking package directory ... OK
* checking ‘build’ directory ... OK
* checking DESCRIPTION meta-information ... OK
* checking top-level files ... OK
* checking for left-over files ... OK
* checking index information ... OK
* checking package subdirectories ... OK
* checking R files for non-ASCII characters ... OK
* checking R files for syntax errors ... OK
* checking whether the package can be loaded ... OK
* checking whether the package can be loaded with stated dependencies ... OK
* checking whether the package can be unloaded cleanly ... OK
* checking whether the namespace can be loaded with stated dependencies ... OK
* checking whether the namespace can be unloaded cleanly ... OK
* checking loading without being on the library search path ... OK
* checking dependencies in R code ... OK
* checking S3 generic/method consistency ... OK
* checking replacement functions ... OK
* checking foreign function calls ... OK
* checking R code for possible problems ... OK
* checking Rd files ... OK
* checking Rd metadata ... OK
* checking Rd cross-references ... OK
* checking for missing documentation entries ... OK
* checking for code/documentation mismatches ... OK
* checking Rd \usage sections ... OK
* checking Rd contents ... OK
* checking for unstated dependencies in examples ... OK
* checking contents of ‘data’ directory ... OK
* checking data for non-ASCII characters ... OK
* checking LazyData ... OK
* checking data for ASCII and uncompressed saves ... OK
* checking R/sysdata.rda ... OK
* checking files in ‘vignettes’ ... OK
* checking examples ... OK
Examples with CPU (user + system) or elapsed time > 5s
user system elapsed
slidingWindowHZEImanipulation 23.769 0.016 23.787
ModCon 18.261 0.331 28.610
changeSequenceHZEI 5.752 0.028 5.780
* checking for unstated dependencies in ‘tests’ ... OK
* checking tests ...
Running ‘testthat.R’
OK
* checking for unstated dependencies in vignettes ... OK
* checking package vignettes in ‘inst/doc’ ... OK
* checking running R code from vignettes ...
‘ModCon.Rmd’ using ‘UTF-8’... OK
NONE
* checking re-building of vignette outputs ... OK
* checking PDF version of manual ... OK
* DONE
Status: 1 NOTE
See
‘/home/biocbuild/bbs-3.16-bioc/meat/ModCon.Rcheck/00check.log’
for details.
ModCon.Rcheck/00install.out
############################################################################## ############################################################################## ### ### Running command: ### ### /home/biocbuild/bbs-3.16-bioc/R/bin/R CMD INSTALL ModCon ### ############################################################################## ############################################################################## * installing to library ‘/home/biocbuild/bbs-3.16-bioc/R/site-library’ * installing *source* package ‘ModCon’ ... ** using staged installation ** R ** data *** moving datasets to lazyload DB ** inst ** byte-compile and prepare package for lazy loading ** help *** installing help indices ** building package indices ** installing vignettes ** testing if installed package can be loaded from temporary location ** testing if installed package can be loaded from final location ** testing if installed package keeps a record of temporary installation path * DONE (ModCon)
ModCon.Rcheck/tests/testthat.Rout
R version 4.2.3 (2023-03-15) -- "Shortstop Beagle"
Copyright (C) 2023 The R Foundation for Statistical Computing
Platform: x86_64-pc-linux-gnu (64-bit)
R is free software and comes with ABSOLUTELY NO WARRANTY.
You are welcome to redistribute it under certain conditions.
Type 'license()' or 'licence()' for distribution details.
R is a collaborative project with many contributors.
Type 'contributors()' for more information and
'citation()' on how to cite R or R packages in publications.
Type 'demo()' for some demos, 'help()' for on-line help, or
'help.start()' for an HTML browser interface to help.
Type 'q()' to quit R.
> library(testthat)
> library(ModCon)
Loading required package: data.table
Loading required package: parallel
>
> test_check("ModCon")
[ FAIL 0 | WARN 0 | SKIP 0 | PASS 27 ]
>
> proc.time()
user system elapsed
99.977 1.559 128.427
ModCon.Rcheck/ModCon-Ex.timings
| name | user | system | elapsed | |
| Codons | 0.005 | 0.000 | 0.005 | |
| ModCon | 18.261 | 0.331 | 28.610 | |
| calculateHZEIint | 0.001 | 0.000 | 0.001 | |
| calculateMaxEntScanScore | 0.183 | 0.009 | 0.192 | |
| cds | 0 | 0 | 0 | |
| changeSequenceHZEI | 5.752 | 0.028 | 5.780 | |
| createCodonMatrix | 0 | 0 | 0 | |
| createFilialSequencePopulation | 0 | 0 | 0 | |
| decreaseGTsiteStrength | 0.389 | 0.028 | 0.417 | |
| degradeSAs | 2.884 | 0.036 | 2.920 | |
| degradeSDs | 1.659 | 0.056 | 1.715 | |
| generateRandomCodonsPerAA | 0.000 | 0.000 | 0.001 | |
| getOverlappingVectorsFromVector | 0 | 0 | 0 | |
| hbg | 0.497 | 0.156 | 0.653 | |
| hex | 0.050 | 0.036 | 0.086 | |
| increaseGTsiteStrength | 0.474 | 0.000 | 0.474 | |
| mutatePopulation | 0.000 | 0.000 | 0.001 | |
| recombineTwoSequences | 0 | 0 | 0 | |
| selectBestAndMean | 0.011 | 0.004 | 0.355 | |
| selectMatingIndividuals | 0.012 | 0.004 | 0.317 | |
| slidingWindowHZEImanipulation | 23.769 | 0.016 | 23.787 | |
| startModConApp | 0 | 0 | 0 | |