| Back to Multiple platform build/check report for BioC 3.16: simplified long |
|
This page was generated on 2023-04-12 11:05:42 -0400 (Wed, 12 Apr 2023).
| Hostname | OS | Arch (*) | R version | Installed pkgs |
|---|---|---|---|---|
| nebbiolo2 | Linux (Ubuntu 20.04.5 LTS) | x86_64 | 4.2.3 (2023-03-15) -- "Shortstop Beagle" | 4502 |
| palomino4 | Windows Server 2022 Datacenter | x64 | 4.2.3 (2023-03-15 ucrt) -- "Shortstop Beagle" | 4282 |
| lconway | macOS 12.5.1 Monterey | x86_64 | 4.2.3 (2023-03-15) -- "Shortstop Beagle" | 4310 |
| Click on any hostname to see more info about the system (e.g. compilers) (*) as reported by 'uname -p', except on Windows and Mac OS X | ||||
|
To the developers/maintainers of the MSnbase package: - Please allow up to 24 hours (and sometimes 48 hours) for your latest push to git@git.bioconductor.org:packages/MSnbase.git to reflect on this report. See How and When does the builder pull? When will my changes propagate? for more information. - Make sure to use the following settings in order to reproduce any error or warning you see on this page. |
| Package 1278/2183 | Hostname | OS / Arch | INSTALL | BUILD | CHECK | BUILD BIN | ||||||||
| MSnbase 2.24.2 (landing page) Laurent Gatto
| nebbiolo2 | Linux (Ubuntu 20.04.5 LTS) / x86_64 | OK | OK | OK | |||||||||
| palomino4 | Windows Server 2022 Datacenter / x64 | OK | OK | ERROR | OK | |||||||||
| lconway | macOS 12.5.1 Monterey / x86_64 | OK | OK | OK | OK | |||||||||
| Package: MSnbase |
| Version: 2.24.2 |
| Command: F:\biocbuild\bbs-3.16-bioc\R\bin\R.exe CMD check --no-multiarch --install=check:MSnbase.install-out.txt --library=F:\biocbuild\bbs-3.16-bioc\R\library --no-vignettes --timings MSnbase_2.24.2.tar.gz |
| StartedAt: 2023-04-11 03:42:17 -0400 (Tue, 11 Apr 2023) |
| EndedAt: 2023-04-11 03:59:47 -0400 (Tue, 11 Apr 2023) |
| EllapsedTime: 1050.6 seconds |
| RetCode: 1 |
| Status: ERROR |
| CheckDir: MSnbase.Rcheck |
| Warnings: NA |
##############################################################################
##############################################################################
###
### Running command:
###
### F:\biocbuild\bbs-3.16-bioc\R\bin\R.exe CMD check --no-multiarch --install=check:MSnbase.install-out.txt --library=F:\biocbuild\bbs-3.16-bioc\R\library --no-vignettes --timings MSnbase_2.24.2.tar.gz
###
##############################################################################
##############################################################################
* using log directory 'F:/biocbuild/bbs-3.16-bioc/meat/MSnbase.Rcheck'
* using R version 4.2.3 (2023-03-15 ucrt)
* using platform: x86_64-w64-mingw32 (64-bit)
* using session charset: UTF-8
* using option '--no-vignettes'
* checking for file 'MSnbase/DESCRIPTION' ... OK
* this is package 'MSnbase' version '2.24.2'
* package encoding: UTF-8
* checking package namespace information ... OK
* checking package dependencies ... OK
* checking if this is a source package ... OK
* checking if there is a namespace ... OK
* checking for hidden files and directories ... OK
* checking for portable file names ... OK
* checking whether package 'MSnbase' can be installed ... OK
* checking installed package size ... NOTE
installed size is 6.0Mb
sub-directories of 1Mb or more:
R 1.8Mb
data 1.9Mb
libs 1.0Mb
* checking package directory ... OK
* checking 'build' directory ... OK
* checking DESCRIPTION meta-information ... NOTE
Authors@R field gives more than one person with maintainer role:
Laurent Gatto <laurent.gatto@uclouvain.be> [aut, cre] (<https://orcid.org/0000-0002-1520-2268>)
Johannes Rainer <Johannes.Rainer@eurac.edu> [aut, cre] (<https://orcid.org/0000-0002-6977-7147>)
Sebastian Gibb <mail@sebastiangibb.de> [aut, cre] (<https://orcid.org/0000-0001-7406-4443>)
* checking top-level files ... OK
* checking for left-over files ... OK
* checking index information ... OK
* checking package subdirectories ... OK
* checking R files for non-ASCII characters ... OK
* checking R files for syntax errors ... OK
* checking whether the package can be loaded ... OK
* checking whether the package can be loaded with stated dependencies ... OK
* checking whether the package can be unloaded cleanly ... OK
* checking whether the namespace can be loaded with stated dependencies ... OK
* checking whether the namespace can be unloaded cleanly ... OK
* checking dependencies in R code ... NOTE
':::' calls which should be '::':
'S4Vectors:::makeClassinfoRowForCompactPrinting'
'S4Vectors:::makePrettyMatrixForCompactPrinting'
See the note in ?`:::` about the use of this operator.
Unexported objects imported by ':::' calls:
'Biobase:::.showAnnotatedDataFrame' 'MALDIquant:::.estimateNoise'
'MALDIquant:::.localMaxima' 'MALDIquant:::.movingAverage'
'MALDIquant:::.savitzkyGolay' 'mzR:::.hasChromatograms'
'mzR:::.hasSpectra'
See the note in ?`:::` about the use of this operator.
* checking S3 generic/method consistency ... OK
* checking replacement functions ... OK
* checking foreign function calls ... OK
* checking R code for possible problems ... OK
* checking Rd files ... OK
* checking Rd metadata ... OK
* checking Rd cross-references ... OK
* checking for missing documentation entries ... OK
* checking for code/documentation mismatches ... OK
* checking Rd \usage sections ... OK
* checking Rd contents ... OK
* checking for unstated dependencies in examples ... OK
* checking contents of 'data' directory ... OK
* checking data for non-ASCII characters ... OK
* checking LazyData ... OK
* checking data for ASCII and uncompressed saves ... OK
* checking line endings in C/C++/Fortran sources/headers ... OK
* checking compiled code ... NOTE
Note: information on .o files for x64 is not available
File 'F:/biocbuild/bbs-3.16-bioc/R/library/MSnbase/libs/x64/MSnbase.dll':
Found 'abort', possibly from 'abort' (C), 'runtime' (Fortran)
Found 'exit', possibly from 'exit' (C), 'stop' (Fortran)
Compiled code should not call entry points which might terminate R nor
write to stdout/stderr instead of to the console, nor use Fortran I/O
nor system RNGs. The detected symbols are linked into the code but
might come from libraries and not actually be called.
See 'Writing portable packages' in the 'Writing R Extensions' manual.
* checking files in 'vignettes' ... OK
* checking examples ... OK
Examples with CPU (user + system) or elapsed time > 5s
user system elapsed
chromatogram-MSnExp-method 9.24 0.28 9.52
MSnSet-class 8.44 0.33 8.78
OnDiskMSnExp-class 7.52 0.17 8.06
estimateMzResolution 5.90 0.15 6.05
averageMSnSet 5.50 0.48 6.39
* checking for unstated dependencies in 'tests' ... OK
* checking tests ...
Running 'testthat.R'
Warning message:
In file.rename(outfile, paste0(outfile, ".fail")) :
cannot rename file 'testthat.Rout' to 'testthat.Rout.fail', reason 'The process cannot access the file because it is being used by another process'
ERROR
* checking for unstated dependencies in vignettes ... OK
* checking package vignettes in 'inst/doc' ... OK
* checking running R code from vignettes ... SKIPPED
* checking re-building of vignette outputs ... SKIPPED
* checking PDF version of manual ... OK
* DONE
Status: 1 ERROR, 4 NOTEs
See
'F:/biocbuild/bbs-3.16-bioc/meat/MSnbase.Rcheck/00check.log'
for details.
MSnbase.Rcheck/00install.out
##############################################################################
##############################################################################
###
### Running command:
###
### F:\biocbuild\bbs-3.16-bioc\R\bin\R.exe CMD INSTALL MSnbase
###
##############################################################################
##############################################################################
* installing to library 'F:/biocbuild/bbs-3.16-bioc/R/library'
* installing *source* package 'MSnbase' ...
** using staged installation
** libs
g++ -std=gnu++14 -I"F:/biocbuild/bbs-3.16-bioc/R/include" -DNDEBUG -I'F:/biocbuild/bbs-3.16-bioc/R/library/Rcpp/include' -I"C:/rtools42/x86_64-w64-mingw32.static.posix/include" -O2 -Wall -mfpmath=sse -msse2 -mstackrealign -c RcppExports.cpp -o RcppExports.o
gcc -I"F:/biocbuild/bbs-3.16-bioc/R/include" -DNDEBUG -I'F:/biocbuild/bbs-3.16-bioc/R/library/Rcpp/include' -I"C:/rtools42/x86_64-w64-mingw32.static.posix/include" -O2 -Wall -std=gnu99 -mfpmath=sse -msse2 -mstackrealign -c Spectrum1_class.c -o Spectrum1_class.o
Spectrum1_class.c:8:13: warning: '_new_Spectrum1' defined but not used [-Wunused-function]
8 | static SEXP _new_Spectrum1(SEXP msLevel, SEXP peaksCount, SEXP rt,
| ^~~~~~~~~~~~~~
gcc -I"F:/biocbuild/bbs-3.16-bioc/R/include" -DNDEBUG -I'F:/biocbuild/bbs-3.16-bioc/R/library/Rcpp/include' -I"C:/rtools42/x86_64-w64-mingw32.static.posix/include" -O2 -Wall -std=gnu99 -mfpmath=sse -msse2 -mstackrealign -c Spectrum2_class.c -o Spectrum2_class.o
Spectrum2_class.c:9:13: warning: '_new_Spectrum2' defined but not used [-Wunused-function]
9 | static SEXP _new_Spectrum2(SEXP msLevel, SEXP peaksCount, SEXP rt,
| ^~~~~~~~~~~~~~
g++ -std=gnu++14 -I"F:/biocbuild/bbs-3.16-bioc/R/include" -DNDEBUG -I'F:/biocbuild/bbs-3.16-bioc/R/library/Rcpp/include' -I"C:/rtools42/x86_64-w64-mingw32.static.posix/include" -O2 -Wall -mfpmath=sse -msse2 -mstackrealign -c imp_neighbour_avg.cpp -o imp_neighbour_avg.o
gcc -I"F:/biocbuild/bbs-3.16-bioc/R/include" -DNDEBUG -I'F:/biocbuild/bbs-3.16-bioc/R/library/Rcpp/include' -I"C:/rtools42/x86_64-w64-mingw32.static.posix/include" -O2 -Wall -std=gnu99 -mfpmath=sse -msse2 -mstackrealign -c utils.c -o utils.o
utils.c: In function 'compar_double_dd_for_stable_asc_order':
utils.c:92:15: warning: unused variable 'ret' [-Wunused-variable]
92 | int i1, i2, ret;
| ^~~
utils.c: In function 'compar_double_dd_for_stable_desc_order':
utils.c:107:15: warning: unused variable 'ret' [-Wunused-variable]
107 | int i1, i2, ret;
| ^~~
utils.c: In function 'compar_double_asc_order':
utils.c:123:18: warning: unused variable 'ret' [-Wunused-variable]
123 | double d1, d2, ret;
| ^~~
utils.c: In function 'compar_double_desc_order':
utils.c:133:18: warning: unused variable 'ret' [-Wunused-variable]
133 | double d1, d2, ret;
| ^~~
At top level:
utils.c:131:12: warning: 'compar_double_desc_order' defined but not used [-Wunused-function]
131 | static int compar_double_desc_order(const void *p1, const void *p2)
| ^~~~~~~~~~~~~~~~~~~~~~~~
utils.c:121:12: warning: 'compar_double_asc_order' defined but not used [-Wunused-function]
121 | static int compar_double_asc_order(const void *p1, const void *p2)
| ^~~~~~~~~~~~~~~~~~~~~~~
g++ -std=gnu++14 -shared -s -static-libgcc -o MSnbase.dll tmp.def RcppExports.o Spectrum1_class.o Spectrum2_class.o imp_neighbour_avg.o utils.o -LC:/rtools42/x86_64-w64-mingw32.static.posix/lib/x64 -LC:/rtools42/x86_64-w64-mingw32.static.posix/lib -LF:/biocbuild/bbs-3.16-bioc/R/bin/x64 -lR
installing to F:/biocbuild/bbs-3.16-bioc/R/library/00LOCK-MSnbase/00new/MSnbase/libs/x64
** R
** data
*** moving datasets to lazyload DB
Creating a new generic function for 'trimws' in package 'MSnbase'
in method for 'coerce' with signature '"MSnSet","SummarizedExperiment"': no definition for class "SummarizedExperiment"
in method for 'coerce' with signature '"SummarizedExperiment","MSnSet"': no definition for class "SummarizedExperiment"
in method for 'coerce' with signature '"IBSpectra","MSnSet"': no definition for class "IBSpectra"
in method for 'plotMzDelta' with signature '"mzRramp"': no definition for class "mzRramp"
** inst
** byte-compile and prepare package for lazy loading
Creating a new generic function for 'trimws' in package 'MSnbase'
in method for 'coerce' with signature '"MSnSet","SummarizedExperiment"': no definition for class "SummarizedExperiment"
in method for 'coerce' with signature '"SummarizedExperiment","MSnSet"': no definition for class "SummarizedExperiment"
in method for 'coerce' with signature '"IBSpectra","MSnSet"': no definition for class "IBSpectra"
in method for 'plotMzDelta' with signature '"mzRramp"': no definition for class "mzRramp"
** help
*** installing help indices
** building package indices
** installing vignettes
** testing if installed package can be loaded from temporary location
** testing if installed package can be loaded from final location
** testing if installed package keeps a record of temporary installation path
* DONE (MSnbase)
MSnbase.Rcheck/tests/testthat.Rout
R version 4.2.3 (2023-03-15 ucrt) -- "Shortstop Beagle"
Copyright (C) 2023 The R Foundation for Statistical Computing
Platform: x86_64-w64-mingw32/x64 (64-bit)
R is free software and comes with ABSOLUTELY NO WARRANTY.
You are welcome to redistribute it under certain conditions.
Type 'license()' or 'licence()' for distribution details.
R is a collaborative project with many contributors.
Type 'contributors()' for more information and
'citation()' on how to cite R or R packages in publications.
Type 'demo()' for some demos, 'help()' for on-line help, or
'help.start()' for an HTML browser interface to help.
Type 'q()' to quit R.
> # setting R_TESTS to empty string because of
> # https://github.com/hadley/testthat/issues/144
> # revert this when that issue in R is fixed.
> Sys.setenv("R_TESTS" = "")
> library("testthat")
> library("MSnbase")
Loading required package: BiocGenerics
Attaching package: 'BiocGenerics'
The following objects are masked from 'package:stats':
IQR, mad, sd, var, xtabs
The following objects are masked from 'package:base':
Filter, Find, Map, Position, Reduce, anyDuplicated, aperm, append,
as.data.frame, basename, cbind, colnames, dirname, do.call,
duplicated, eval, evalq, get, grep, grepl, intersect, is.unsorted,
lapply, mapply, match, mget, order, paste, pmax, pmax.int, pmin,
pmin.int, rank, rbind, rownames, sapply, setdiff, sort, table,
tapply, union, unique, unsplit, which.max, which.min
Loading required package: Biobase
Welcome to Bioconductor
Vignettes contain introductory material; view with
'browseVignettes()'. To cite Bioconductor, see
'citation("Biobase")', and for packages 'citation("pkgname")'.
Loading required package: mzR
Loading required package: Rcpp
Loading required package: S4Vectors
Loading required package: stats4
Attaching package: 'S4Vectors'
The following objects are masked from 'package:base':
I, expand.grid, unname
Loading required package: ProtGenerics
Attaching package: 'ProtGenerics'
The following object is masked from 'package:stats':
smooth
This is MSnbase version 2.24.2
Visit https://lgatto.github.io/MSnbase/ to get started.
Attaching package: 'MSnbase'
The following object is masked from 'package:base':
trimws
> setMSnbaseVerbose(FALSE)
> ## register(SerialParam()) ## see issue 205
>
> ## Erwinia
> f <- msdata::proteomics(full.names = TRUE,
+ pattern = "TMT_Erwinia_1uLSike_Top10HCD_isol2_45stepped_60min_01.mzML.gz")
> tmt_erwinia_in_mem_ms1 <- readMSData(f, msLevel = 1)
> tmt_erwinia_in_mem_ms2 <- readMSData(f, msLevel = 2)
> tmt_erwinia_on_disk <- readMSData(f, mode = "onDisk")
> tmt_erwinia_on_disk_ms1 <- readMSData(f, msLevel = 1, mode = "onDisk")
> tmt_erwinia_on_disk_ms2 <- readMSData(f, msLevel = 2, mode = "onDisk")
> ## subset by rt
> tmt_im_ms1_sub <- filterRt(tmt_erwinia_in_mem_ms1, c(1200, 1250))
> tmt_im_ms2_sub <- filterRt(tmt_erwinia_in_mem_ms2, c(1200, 1250))
> tmt_od_sub <- filterRt(tmt_erwinia_on_disk, c(1200, 1250))
> tmt_od_ms1_sub <- filterRt(tmt_erwinia_on_disk_ms1, c(1200, 1250))
> tmt_od_ms2_sub <- filterRt(tmt_erwinia_on_disk_ms2, c(1200, 1250))
>
> ## microtofq
> f <- c(system.file("microtofq/MM14.mzML", package = "msdata"),
+ system.file("microtofq/MM8.mzML", package = "msdata"))
> microtofq_in_mem_ms1 <- readMSData(f, msLevel = 1)
> microtofq_on_disk_ms1 <- readMSData(f, msLevel = 1, mode = "onDisk")
> microtofq_on_disk <- readMSData(f, mode = "onDisk")
>
> ## extdata mzML
> f <- dir(system.file(package = "MSnbase", dir = "extdata"),
+ full.name = TRUE, pattern = "mzXML$")
> extdata_mzXML_in_mem_ms2 <- readMSData(f, verbose = FALSE, centroided. = FALSE)
> extdata_mzXML_on_disk <- readMSData(f, centroided. = FALSE, mode = "onDisk")
> extdata_mzXML_on_disk_ms2 <- readMSData(f, msLevel = 2, centroided. = FALSE, mode = "onDisk")
>
> sf <- dir(system.file("sciex", package = "msdata"), full.names = TRUE)
> sciex <- readMSData(sf, mode = "onDisk")
>
> test_check("MSnbase")
Experiment data
Experimenter name: Laurent Gatto
Laboratory: Cambridge Centre for Proteomics (CCP)
Contact information: Laurent Gatto
Contact email: lg390@cam.ac.uk
Title: Example 'MSnExp' data set
URL:
PMIDs:
No abstract available.
Instrument :
Model: test (1)
Manufacturer:
Customisations:
Use 'msInfo(object)' for more MIAPE-MS information.
Experiment data
Experimenter name: Laurent Gatto
Laboratory: Cambridge Centre for Proteomics (CCP)
Contact information: Laurent Gatto
Contact email: lg390@cam.ac.uk
Title: Example 'MSnExp' data set
URL:
PMIDs:
No abstract available.
notes:
Note1:
First note
MIAPE-MS information:
1. General features:
Date stamp:
Contact: Laurent Gatto
Name: Laurent Gatto
Laboratory: Cambridge Centre for Proteomics (CCP)
Instument model: test
Manufacturer:
Customisations:
Software:
Version:
Switching:
Param file:
2. Ion source
Source:
Source details:
3. Post-source componentry
Analyzer:
Analyzer details:
Collision gas:
Pressure: bars
Energy:
Detector type:
Sensitivity:
Object of class "MzTab".
Description: mzTab example file for reporting a summary report of
quantification data quantified on the protein level
Mode: Complete
Type: Quantification
Available data: Proteins PSMs
Object of class "MzTab".
Description:
Mode:
Type:
Available data: SmallMolecules
Object of class "MzTab".
Description:
Mode:
Type:
Available data: SmallMolecules
Instance of class 'MSnSetList' containig 3 objects.
MSn experiment data ("OnDiskMSnExp")
Object size in memory: 0.26 Mb
- - - Spectra data - - -
MS level(s): 1 2
Number of spectra: 509
MSn retention times: 18:28 - 22:03 minutes
- - - Processing information - - -
Data loaded [Tue Apr 11 03:46:58 2023]
MSnbase version: 2.24.2
- - - Meta data - - -
phenoData
rowNames:
TMT_Erwinia_1uLSike_Top10HCD_isol2_45stepped_60min_01.mzML.gz
varLabels: sampleNames
varMetadata: labelDescription
Loaded from:
TMT_Erwinia_1uLSike_Top10HCD_isol2_45stepped_60min_01.mzML.gz
protocolData: none
featureData
featureNames: F1.S001 F1.S002 ... F1.S509 (509 total)
fvarLabels: fileIdx spIdx ... spectrum (35 total)
fvarMetadata: labelDescription
experimentData: use 'experimentData(object)'
Object of class "ReporterIons"
TMT10HCD: '10-plex TMT HCD' with 10 reporter ions
- [126] 126.1277 +/- 0.002 (#8DD3C7)
- [127N] 127.1248 +/- 0.002 (#FFFFB3)
- [127C] 127.1311 +/- 0.002 (#BEBADA)
- [128N] 128.1281 +/- 0.002 (#FB8072)
- [128C] 128.1344 +/- 0.002 (#80B1D3)
- [129N] 129.1315 +/- 0.002 (#FDB462)
- [129C] 129.1378 +/- 0.002 (#B3DE69)
- [130N] 130.1348 +/- 0.002 (#FCCDE5)
- [130C] 130.1411 +/- 0.002 (#D9D9D9)
- [131] 131.1382 +/- 0.002 (#BC80BD)
Object of class "Spectrum1"
Retention time: 0:00
MSn level: 1
Total ion count: 684
Polarity: 1
MSn experiment data ("MSnExp")
Object size in memory: 0.18 Mb
- - - Spectra data - - -
MS level(s): 2
Number of spectra: 5
MSn retention times: 25:01 - 25:02 minutes
- - - Processing information - - -
Data loaded: Tue Apr 11 03:54:22 2023
MSnbase version: 2.24.2
- - - Meta data - - -
phenoData
rowNames: dummyiTRAQ.mzXML
varLabels: sampleNames
varMetadata: labelDescription
Loaded from:
dummyiTRAQ.mzXML
protocolData: none
featureData
featureNames: F1.S1 F1.S2 ... F1.S5 (5 total)
fvarLabels: spectrum
fvarMetadata: labelDescription
experimentData: use 'experimentData(object)'
MSn experiment data ("MSnExp")
Object size in memory: 0.2 Mb
- - - Spectra data - - -
MS level(s): 2
Number of spectra: 5
MSn retention times: 25:01 - 25:02 minutes
- - - Processing information - - -
Data loaded: Tue Apr 11 03:54:22 2023
MSnbase version: 2.24.2
- - - Meta data - - -
phenoData
rowNames: dummyiTRAQ.mzXML
varLabels: sampleNames
varMetadata: labelDescription
Loaded from:
dummyiTRAQ.mzXML
protocolData: none
featureData
featureNames: F1.S1 F1.S2 ... F1.S5 (5 total)
fvarLabels: spectrum
fvarMetadata: labelDescription
experimentData: use 'experimentData(object)'
Object of class "FeaturesOfInterest"
Created on Tue Apr 11 03:54:45 2023
Description:
small foi
3 features of interest:
P20353, P53501, Q7KU78
Traceable object of class "FeaturesOfInterest"
Created on Tue Apr 11 03:54:45 2023
Description:
my description
10 features of interest:
P20353, P53501 ... Q9VCK0, Q9VIU7
A collection of 1 features of interest.
A collection of 10 features of interest.
MSpectra with 3 spectra and 1 metadata column(s):
msLevel rtime peaksCount | id
1 2 NA 3 | 1
2 2 1.23245 4 | 2
3 1 1.23245 5 | 3
MSpectra with 3 spectra and 1 metadata column(s):
msLevel rtime peaksCount | id
<integer> <numeric> <integer> | <integer>
1 2 NA 3 | 1
2 2 1.23245 4 | 2
3 1 1.23245 5 | 3
MSpectra with 3 spectra and 1 metadata column(s):
msLevel rtime peaksCount | id
<integer> <numeric> <integer> | <integer>
1 2 NA 3 | 1
2 2 1.23245 4 | 2
3 1 1.23245 5 | 3
reading dummyiTRAQ.mzid... DONE!
[ FAIL 2 | WARN 1093 | SKIP 12 | PASS 2371 ]
══ Skipped tests ═══════════════════════════════════════════════════════════════
• empty test (12)
══ Failed tests ════════════════════════════════════════════════════════════════
── Error ('test_MSmap.R:7:1'): (code run outside of `test_that()`) ─────────────
Error in `fix_issue_17(x)`: Can't access URL(s):
ftp://ftp.pride.ebi.ac.uk/pride/data/archive/2012/03/PXD000001/TMT_Erwinia_1uLSike_Top10HCD_isol2_45stepped_60min_01-20141210.mzML
ftp://ftp.pride.ebi.ac.uk/pride-archive/2012/03/PXD000001/TMT_Erwinia_1uLSike_Top10HCD_isol2_45stepped_60min_01-20141210.mzML
Backtrace:
▆
1. ├─rpx::pxget(px1, "TMT_Erwinia_1uLSike_Top10HCD_isol2_45stepped_60min_01-20141210.mzML") at test_MSmap.R:7:0
2. └─rpx::pxget(px1, "TMT_Erwinia_1uLSike_Top10HCD_isol2_45stepped_60min_01-20141210.mzML")
3. └─rpx (local) .local(object, ...)
4. └─rpx:::pxget1(uris[i], cache)
5. └─rpx:::get_url(url)
6. └─rpx:::fix_issue_17(x)
── Error ('test_quant.R:24:5'): Parallel quantification ────────────────────────
Error in `socketConnection(port = port, server = TRUE, blocking = TRUE,
open = "a+b")`: cannot open the connection
Backtrace:
▆
1. ├─ProtGenerics::quantify(...) at test_quant.R:24:4
2. └─MSnbase::quantify(...)
3. └─MSnbase (local) .local(object, ...)
4. └─MSnbase:::quantify_MSnExp(...)
5. ├─BiocParallel::bplapply(...)
6. └─BiocParallel::bplapply(...)
7. └─BiocParallel:::.bpinit(...)
8. ├─BiocParallel::bpstart(BPPARAM)
9. └─BiocParallel::bpstart(BPPARAM)
10. └─BiocParallel (local) .local(x, ...)
11. └─BiocParallel:::.bpstart_makeCluster(cargs)
12. ├─base::do.call(parallel::makeCluster, cargs)
13. └─parallel (local) `<fn>`(...)
14. └─snow::makeSOCKcluster(names = spec, ...)
15. └─snow::newSOCKnode(names[[i]], options = options, rank = i)
16. └─base::socketConnection(...)
[ FAIL 2 | WARN 1093 | SKIP 12 | PASS 2371 ]
Error: Test failures
In addition: Warning message:
In .Internal(gc(verbose, reset, full)) :
closing unused connection 4 (F:\biocbuild\bbs-3.16-bioc\tmpdir\RtmpQt7CiX\file83307be670d8)
Execution halted
MSnbase.Rcheck/MSnbase-Ex.timings
| name | user | system | elapsed | |
| Chromatogram-class | 0.07 | 0.00 | 0.07 | |
| FeatComp-class | 0.25 | 0.05 | 0.40 | |
| FeaturesOfInterest-class | 0.07 | 0.00 | 0.07 | |
| MChromatograms-class | 0.21 | 0.02 | 0.22 | |
| MSmap-class | 0 | 0 | 0 | |
| MSnExp-class | 0.56 | 0.01 | 0.58 | |
| MSnProcess-class | 0 | 0 | 0 | |
| MSnSet-class | 8.44 | 0.33 | 8.78 | |
| MSnSetList-class | 2.43 | 0.11 | 2.55 | |
| MSpectra | 0.08 | 0.02 | 0.11 | |
| MzTab-class | 0.47 | 0.01 | 2.06 | |
| OnDiskMSnExp-class | 7.52 | 0.17 | 8.06 | |
| ProcessingStep-class | 0 | 0 | 0 | |
| ReporterIons-class | 0.01 | 0.00 | 0.02 | |
| TMT6 | 0 | 0 | 0 | |
| addIdentificationData-methods | 0.82 | 0.00 | 0.81 | |
| aggvar | 3.62 | 0.16 | 3.78 | |
| averageMSnSet | 5.50 | 0.48 | 6.39 | |
| bin-methods | 0.43 | 0.00 | 0.44 | |
| calculateFragments-methods | 1.22 | 0.02 | 1.23 | |
| chromatogram-MSnExp-method | 9.24 | 0.28 | 9.52 | |
| clean-methods | 0.12 | 0.00 | 0.12 | |
| combineFeatures | 0.94 | 0.02 | 0.96 | |
| combineSpectra | 3.83 | 0.06 | 3.89 | |
| combineSpectraMovingWindow | 2.53 | 0.05 | 2.57 | |
| commonFeatureNames | 0.28 | 0.01 | 0.30 | |
| compareSpectra-methods | 0.16 | 0.02 | 0.17 | |
| consensusSpectrum | 0.01 | 0.00 | 0.02 | |
| estimateMzResolution | 5.90 | 0.15 | 6.05 | |
| estimateMzScattering | 1.41 | 0.07 | 1.47 | |
| estimateNoise-method | 0.02 | 0.00 | 0.02 | |
| extractPrecSpectra-methods | 1.01 | 0.00 | 1.01 | |
| extractSpectraData | 1.99 | 0.04 | 3.16 | |
| fData-utils | 0.29 | 0.00 | 0.29 | |
| factorsAsStrings | 0.00 | 0.00 | 0.03 | |
| featureCV | 0.04 | 0.00 | 0.05 | |
| fillUp | 0 | 0 | 0 | |
| formatRt | 0 | 0 | 0 | |
| get.amino.acids | 0 | 0 | 0 | |
| get.atomic.mass | 0 | 0 | 0 | |
| getVariableName | 0.02 | 0.00 | 0.01 | |
| hasSpectraOrChromatograms | 0.30 | 0.05 | 0.91 | |
| iPQF | 0.2 | 0.0 | 0.2 | |
| iTRAQ4 | 0 | 0 | 0 | |
| imageNA2 | 2.57 | 0.14 | 2.72 | |
| impute | 0.55 | 0.02 | 0.57 | |
| isCentroidedFromFile | 2.31 | 0.18 | 2.50 | |
| itraqdata | 0.05 | 0.02 | 0.06 | |
| listOf | 0 | 0 | 0 | |
| makeCamelCase | 0 | 0 | 0 | |
| makeNaData | 0.44 | 0.00 | 0.44 | |
| meanMzInts | 0.03 | 0.00 | 0.03 | |
| missing-data | 2.51 | 0.09 | 2.61 | |
| mzRident2dfr | 0.01 | 0.00 | 0.02 | |
| nFeatures | 0.46 | 0.00 | 0.45 | |
| nQuants | 0.11 | 0.00 | 0.11 | |
| naplot | 0.06 | 0.00 | 0.06 | |
| navMS | 2.52 | 0.05 | 2.56 | |
| normToReference | 0.16 | 0.00 | 0.16 | |
| normalise-methods | 0.01 | 0.02 | 0.03 | |
| npcv | 0 | 0 | 0 | |
| pSet-class | 0 | 0 | 0 | |
| pickPeaks-method | 0.33 | 0.00 | 0.33 | |
| plot-methods | 3.64 | 0.06 | 3.71 | |
| plot2d-methods | 0.48 | 0.00 | 0.49 | |
| plotDensity-methods | 1.00 | 0.02 | 1.01 | |
| plotMzDelta-methods | 0.97 | 0.03 | 1.00 | |
| plotNA-methods | 0.33 | 0.03 | 0.36 | |
| plotSpectrumSpectrum-methods | 1.40 | 0.00 | 1.41 | |
| precSelection | 0 | 0 | 0 | |
| purityCorrect-methods | 0.01 | 0.02 | 0.03 | |
| quantify-methods | 2.64 | 0.00 | 2.64 | |
| readMSData | 2.15 | 0.01 | 2.16 | |
| readMSnSet | 0.10 | 0.00 | 0.22 | |
| readMgfData | 1.82 | 0.03 | 1.88 | |
| readMzIdData | 1.17 | 0.38 | 1.68 | |
| readMzTabData | 0.98 | 0.01 | 1.01 | |
| readMzTabData_v0.9 | 0.14 | 0.00 | 0.25 | |
| readSRMData | 1.25 | 0.03 | 1.28 | |
| reduce-data.frame-method | 0.02 | 0.00 | 0.02 | |
| removeNoId-methods | 1.27 | 0.00 | 1.26 | |
| removePeaks-methods | 0.64 | 0.00 | 0.64 | |
| removeReporters-methods | 0.48 | 0.02 | 0.50 | |
| selectFeatureData | 1.34 | 0.03 | 1.38 | |
| smooth-methods | 0.28 | 0.00 | 0.29 | |
| trimMz-methods | 0.24 | 0.00 | 0.23 | |
| writeMgfData-methods | 1.53 | 0.01 | 1.55 | |