| Back to Multiple platform build/check report for BioC 3.16: simplified long |
|
This page was generated on 2023-04-12 11:05:11 -0400 (Wed, 12 Apr 2023).
| Hostname | OS | Arch (*) | R version | Installed pkgs |
|---|---|---|---|---|
| nebbiolo2 | Linux (Ubuntu 20.04.5 LTS) | x86_64 | 4.2.3 (2023-03-15) -- "Shortstop Beagle" | 4502 |
| palomino4 | Windows Server 2022 Datacenter | x64 | 4.2.3 (2023-03-15 ucrt) -- "Shortstop Beagle" | 4282 |
| lconway | macOS 12.5.1 Monterey | x86_64 | 4.2.3 (2023-03-15) -- "Shortstop Beagle" | 4310 |
| Click on any hostname to see more info about the system (e.g. compilers) (*) as reported by 'uname -p', except on Windows and Mac OS X | ||||
|
To the developers/maintainers of the MSnbase package: - Please allow up to 24 hours (and sometimes 48 hours) for your latest push to git@git.bioconductor.org:packages/MSnbase.git to reflect on this report. See How and When does the builder pull? When will my changes propagate? for more information. - Make sure to use the following settings in order to reproduce any error or warning you see on this page. |
| Package 1278/2183 | Hostname | OS / Arch | INSTALL | BUILD | CHECK | BUILD BIN | ||||||||
| MSnbase 2.24.2 (landing page) Laurent Gatto
| nebbiolo2 | Linux (Ubuntu 20.04.5 LTS) / x86_64 | OK | OK | OK | |||||||||
| palomino4 | Windows Server 2022 Datacenter / x64 | OK | OK | ERROR | OK | |||||||||
| lconway | macOS 12.5.1 Monterey / x86_64 | OK | OK | OK | OK | |||||||||
| Package: MSnbase |
| Version: 2.24.2 |
| Command: /home/biocbuild/bbs-3.16-bioc/R/bin/R CMD check --install=check:MSnbase.install-out.txt --library=/home/biocbuild/bbs-3.16-bioc/R/site-library --timings MSnbase_2.24.2.tar.gz |
| StartedAt: 2023-04-10 22:12:22 -0400 (Mon, 10 Apr 2023) |
| EndedAt: 2023-04-10 22:26:32 -0400 (Mon, 10 Apr 2023) |
| EllapsedTime: 850.0 seconds |
| RetCode: 0 |
| Status: OK |
| CheckDir: MSnbase.Rcheck |
| Warnings: 0 |
##############################################################################
##############################################################################
###
### Running command:
###
### /home/biocbuild/bbs-3.16-bioc/R/bin/R CMD check --install=check:MSnbase.install-out.txt --library=/home/biocbuild/bbs-3.16-bioc/R/site-library --timings MSnbase_2.24.2.tar.gz
###
##############################################################################
##############################################################################
* using log directory ‘/home/biocbuild/bbs-3.16-bioc/meat/MSnbase.Rcheck’
* using R version 4.2.3 (2023-03-15)
* using platform: x86_64-pc-linux-gnu (64-bit)
* using session charset: UTF-8
* checking for file ‘MSnbase/DESCRIPTION’ ... OK
* this is package ‘MSnbase’ version ‘2.24.2’
* package encoding: UTF-8
* checking package namespace information ... OK
* checking package dependencies ... OK
* checking if this is a source package ... OK
* checking if there is a namespace ... OK
* checking for hidden files and directories ... OK
* checking for portable file names ... OK
* checking for sufficient/correct file permissions ... OK
* checking whether package ‘MSnbase’ can be installed ... OK
* checking installed package size ... NOTE
installed size is 6.5Mb
sub-directories of 1Mb or more:
R 1.8Mb
data 1.9Mb
libs 1.5Mb
* checking package directory ... OK
* checking ‘build’ directory ... OK
* checking DESCRIPTION meta-information ... NOTE
Authors@R field gives more than one person with maintainer role:
Laurent Gatto <laurent.gatto@uclouvain.be> [aut, cre] (<https://orcid.org/0000-0002-1520-2268>)
Johannes Rainer <Johannes.Rainer@eurac.edu> [aut, cre] (<https://orcid.org/0000-0002-6977-7147>)
Sebastian Gibb <mail@sebastiangibb.de> [aut, cre] (<https://orcid.org/0000-0001-7406-4443>)
* checking top-level files ... OK
* checking for left-over files ... OK
* checking index information ... OK
* checking package subdirectories ... OK
* checking R files for non-ASCII characters ... OK
* checking R files for syntax errors ... OK
* checking whether the package can be loaded ... OK
* checking whether the package can be loaded with stated dependencies ... OK
* checking whether the package can be unloaded cleanly ... OK
* checking whether the namespace can be loaded with stated dependencies ... OK
* checking whether the namespace can be unloaded cleanly ... OK
* checking loading without being on the library search path ... OK
* checking dependencies in R code ... NOTE
':::' calls which should be '::':
‘S4Vectors:::makeClassinfoRowForCompactPrinting’
‘S4Vectors:::makePrettyMatrixForCompactPrinting’
See the note in ?`:::` about the use of this operator.
Unexported objects imported by ':::' calls:
‘Biobase:::.showAnnotatedDataFrame’ ‘MALDIquant:::.estimateNoise’
‘MALDIquant:::.localMaxima’ ‘MALDIquant:::.movingAverage’
‘MALDIquant:::.savitzkyGolay’ ‘mzR:::.hasChromatograms’
‘mzR:::.hasSpectra’
See the note in ?`:::` about the use of this operator.
* checking S3 generic/method consistency ... OK
* checking replacement functions ... OK
* checking foreign function calls ... OK
* checking R code for possible problems ... OK
* checking Rd files ... OK
* checking Rd metadata ... OK
* checking Rd cross-references ... OK
* checking for missing documentation entries ... OK
* checking for code/documentation mismatches ... OK
* checking Rd \usage sections ... OK
* checking Rd contents ... OK
* checking for unstated dependencies in examples ... OK
* checking contents of ‘data’ directory ... OK
* checking data for non-ASCII characters ... OK
* checking LazyData ... OK
* checking data for ASCII and uncompressed saves ... OK
* checking line endings in C/C++/Fortran sources/headers ... OK
* checking compiled code ... NOTE
Note: information on .o files is not available
* checking files in ‘vignettes’ ... OK
* checking examples ... OK
Examples with CPU (user + system) or elapsed time > 5s
user system elapsed
chromatogram-MSnExp-method 9.884 1.017 10.900
MSnSet-class 8.106 0.288 8.396
OnDiskMSnExp-class 7.468 0.548 8.039
averageMSnSet 4.941 0.144 5.097
* checking for unstated dependencies in ‘tests’ ... OK
* checking tests ...
Running ‘testthat.R’
OK
* checking for unstated dependencies in vignettes ... OK
* checking package vignettes in ‘inst/doc’ ... OK
* checking running R code from vignettes ...
‘v01-MSnbase-demo.Rmd’ using ‘UTF-8’... OK
‘v02-MSnbase-io.Rmd’ using ‘UTF-8’... OK
‘v03-MSnbase-centroiding.Rmd’ using ‘UTF-8’... OK
‘v04-benchmarking.Rmd’ using ‘UTF-8’... OK
‘v05-MSnbase-development.Rmd’ using ‘UTF-8’... OK
NONE
* checking re-building of vignette outputs ... OK
* checking PDF version of manual ... OK
* DONE
Status: 4 NOTEs
See
‘/home/biocbuild/bbs-3.16-bioc/meat/MSnbase.Rcheck/00check.log’
for details.
MSnbase.Rcheck/00install.out
##############################################################################
##############################################################################
###
### Running command:
###
### /home/biocbuild/bbs-3.16-bioc/R/bin/R CMD INSTALL MSnbase
###
##############################################################################
##############################################################################
* installing to library ‘/home/biocbuild/bbs-3.16-bioc/R/site-library’
* installing *source* package ‘MSnbase’ ...
** using staged installation
** libs
g++ -std=gnu++14 -I"/home/biocbuild/bbs-3.16-bioc/R/include" -DNDEBUG -I'/home/biocbuild/bbs-3.16-bioc/R/site-library/Rcpp/include' -I/usr/local/include -fpic -g -O2 -Wall -c RcppExports.cpp -o RcppExports.o
gcc -I"/home/biocbuild/bbs-3.16-bioc/R/include" -DNDEBUG -I'/home/biocbuild/bbs-3.16-bioc/R/site-library/Rcpp/include' -I/usr/local/include -fpic -g -O2 -Wall -c Spectrum1_class.c -o Spectrum1_class.o
Spectrum1_class.c:8:13: warning: ‘_new_Spectrum1’ defined but not used [-Wunused-function]
8 | static SEXP _new_Spectrum1(SEXP msLevel, SEXP peaksCount, SEXP rt,
| ^~~~~~~~~~~~~~
gcc -I"/home/biocbuild/bbs-3.16-bioc/R/include" -DNDEBUG -I'/home/biocbuild/bbs-3.16-bioc/R/site-library/Rcpp/include' -I/usr/local/include -fpic -g -O2 -Wall -c Spectrum2_class.c -o Spectrum2_class.o
Spectrum2_class.c:9:13: warning: ‘_new_Spectrum2’ defined but not used [-Wunused-function]
9 | static SEXP _new_Spectrum2(SEXP msLevel, SEXP peaksCount, SEXP rt,
| ^~~~~~~~~~~~~~
g++ -std=gnu++14 -I"/home/biocbuild/bbs-3.16-bioc/R/include" -DNDEBUG -I'/home/biocbuild/bbs-3.16-bioc/R/site-library/Rcpp/include' -I/usr/local/include -fpic -g -O2 -Wall -c imp_neighbour_avg.cpp -o imp_neighbour_avg.o
gcc -I"/home/biocbuild/bbs-3.16-bioc/R/include" -DNDEBUG -I'/home/biocbuild/bbs-3.16-bioc/R/site-library/Rcpp/include' -I/usr/local/include -fpic -g -O2 -Wall -c utils.c -o utils.o
utils.c: In function ‘compar_double_dd_for_stable_asc_order’:
utils.c:92:15: warning: unused variable ‘ret’ [-Wunused-variable]
92 | int i1, i2, ret;
| ^~~
utils.c: In function ‘compar_double_dd_for_stable_desc_order’:
utils.c:107:15: warning: unused variable ‘ret’ [-Wunused-variable]
107 | int i1, i2, ret;
| ^~~
utils.c: In function ‘compar_double_asc_order’:
utils.c:123:18: warning: unused variable ‘ret’ [-Wunused-variable]
123 | double d1, d2, ret;
| ^~~
utils.c: In function ‘compar_double_desc_order’:
utils.c:133:18: warning: unused variable ‘ret’ [-Wunused-variable]
133 | double d1, d2, ret;
| ^~~
At top level:
utils.c:131:12: warning: ‘compar_double_desc_order’ defined but not used [-Wunused-function]
131 | static int compar_double_desc_order(const void *p1, const void *p2)
| ^~~~~~~~~~~~~~~~~~~~~~~~
utils.c:121:12: warning: ‘compar_double_asc_order’ defined but not used [-Wunused-function]
121 | static int compar_double_asc_order(const void *p1, const void *p2)
| ^~~~~~~~~~~~~~~~~~~~~~~
g++ -std=gnu++14 -shared -L/home/biocbuild/bbs-3.16-bioc/R/lib -L/usr/local/lib -o MSnbase.so RcppExports.o Spectrum1_class.o Spectrum2_class.o imp_neighbour_avg.o utils.o -L/home/biocbuild/bbs-3.16-bioc/R/lib -lR
installing to /home/biocbuild/bbs-3.16-bioc/R/site-library/00LOCK-MSnbase/00new/MSnbase/libs
** R
** data
*** moving datasets to lazyload DB
Creating a new generic function for ‘trimws’ in package ‘MSnbase’
in method for ‘coerce’ with signature ‘"MSnSet","SummarizedExperiment"’: no definition for class “SummarizedExperiment”
in method for ‘coerce’ with signature ‘"SummarizedExperiment","MSnSet"’: no definition for class “SummarizedExperiment”
in method for ‘coerce’ with signature ‘"IBSpectra","MSnSet"’: no definition for class “IBSpectra”
in method for ‘plotMzDelta’ with signature ‘"mzRramp"’: no definition for class “mzRramp”
** inst
** byte-compile and prepare package for lazy loading
Creating a new generic function for ‘trimws’ in package ‘MSnbase’
in method for ‘coerce’ with signature ‘"MSnSet","SummarizedExperiment"’: no definition for class “SummarizedExperiment”
in method for ‘coerce’ with signature ‘"SummarizedExperiment","MSnSet"’: no definition for class “SummarizedExperiment”
in method for ‘coerce’ with signature ‘"IBSpectra","MSnSet"’: no definition for class “IBSpectra”
in method for ‘plotMzDelta’ with signature ‘"mzRramp"’: no definition for class “mzRramp”
** help
*** installing help indices
** building package indices
** installing vignettes
** testing if installed package can be loaded from temporary location
** checking absolute paths in shared objects and dynamic libraries
** testing if installed package can be loaded from final location
** testing if installed package keeps a record of temporary installation path
* DONE (MSnbase)
MSnbase.Rcheck/tests/testthat.Rout
R version 4.2.3 (2023-03-15) -- "Shortstop Beagle"
Copyright (C) 2023 The R Foundation for Statistical Computing
Platform: x86_64-pc-linux-gnu (64-bit)
R is free software and comes with ABSOLUTELY NO WARRANTY.
You are welcome to redistribute it under certain conditions.
Type 'license()' or 'licence()' for distribution details.
R is a collaborative project with many contributors.
Type 'contributors()' for more information and
'citation()' on how to cite R or R packages in publications.
Type 'demo()' for some demos, 'help()' for on-line help, or
'help.start()' for an HTML browser interface to help.
Type 'q()' to quit R.
> # setting R_TESTS to empty string because of
> # https://github.com/hadley/testthat/issues/144
> # revert this when that issue in R is fixed.
> Sys.setenv("R_TESTS" = "")
> library("testthat")
> library("MSnbase")
Loading required package: BiocGenerics
Attaching package: 'BiocGenerics'
The following objects are masked from 'package:stats':
IQR, mad, sd, var, xtabs
The following objects are masked from 'package:base':
Filter, Find, Map, Position, Reduce, anyDuplicated, aperm, append,
as.data.frame, basename, cbind, colnames, dirname, do.call,
duplicated, eval, evalq, get, grep, grepl, intersect, is.unsorted,
lapply, mapply, match, mget, order, paste, pmax, pmax.int, pmin,
pmin.int, rank, rbind, rownames, sapply, setdiff, sort, table,
tapply, union, unique, unsplit, which.max, which.min
Loading required package: Biobase
Welcome to Bioconductor
Vignettes contain introductory material; view with
'browseVignettes()'. To cite Bioconductor, see
'citation("Biobase")', and for packages 'citation("pkgname")'.
Loading required package: mzR
Loading required package: Rcpp
Loading required package: S4Vectors
Loading required package: stats4
Attaching package: 'S4Vectors'
The following objects are masked from 'package:base':
I, expand.grid, unname
Loading required package: ProtGenerics
Attaching package: 'ProtGenerics'
The following object is masked from 'package:stats':
smooth
This is MSnbase version 2.24.2
Visit https://lgatto.github.io/MSnbase/ to get started.
Attaching package: 'MSnbase'
The following object is masked from 'package:base':
trimws
> setMSnbaseVerbose(FALSE)
> ## register(SerialParam()) ## see issue 205
>
> ## Erwinia
> f <- msdata::proteomics(full.names = TRUE,
+ pattern = "TMT_Erwinia_1uLSike_Top10HCD_isol2_45stepped_60min_01.mzML.gz")
> tmt_erwinia_in_mem_ms1 <- readMSData(f, msLevel = 1)
> tmt_erwinia_in_mem_ms2 <- readMSData(f, msLevel = 2)
> tmt_erwinia_on_disk <- readMSData(f, mode = "onDisk")
> tmt_erwinia_on_disk_ms1 <- readMSData(f, msLevel = 1, mode = "onDisk")
> tmt_erwinia_on_disk_ms2 <- readMSData(f, msLevel = 2, mode = "onDisk")
> ## subset by rt
> tmt_im_ms1_sub <- filterRt(tmt_erwinia_in_mem_ms1, c(1200, 1250))
> tmt_im_ms2_sub <- filterRt(tmt_erwinia_in_mem_ms2, c(1200, 1250))
> tmt_od_sub <- filterRt(tmt_erwinia_on_disk, c(1200, 1250))
> tmt_od_ms1_sub <- filterRt(tmt_erwinia_on_disk_ms1, c(1200, 1250))
> tmt_od_ms2_sub <- filterRt(tmt_erwinia_on_disk_ms2, c(1200, 1250))
>
> ## microtofq
> f <- c(system.file("microtofq/MM14.mzML", package = "msdata"),
+ system.file("microtofq/MM8.mzML", package = "msdata"))
> microtofq_in_mem_ms1 <- readMSData(f, msLevel = 1)
> microtofq_on_disk_ms1 <- readMSData(f, msLevel = 1, mode = "onDisk")
> microtofq_on_disk <- readMSData(f, mode = "onDisk")
>
> ## extdata mzML
> f <- dir(system.file(package = "MSnbase", dir = "extdata"),
+ full.name = TRUE, pattern = "mzXML$")
> extdata_mzXML_in_mem_ms2 <- readMSData(f, verbose = FALSE, centroided. = FALSE)
> extdata_mzXML_on_disk <- readMSData(f, centroided. = FALSE, mode = "onDisk")
> extdata_mzXML_on_disk_ms2 <- readMSData(f, msLevel = 2, centroided. = FALSE, mode = "onDisk")
>
> sf <- dir(system.file("sciex", package = "msdata"), full.names = TRUE)
> sciex <- readMSData(sf, mode = "onDisk")
>
> test_check("MSnbase")
Experiment data
Experimenter name: Laurent Gatto
Laboratory: Cambridge Centre for Proteomics (CCP)
Contact information: Laurent Gatto
Contact email: lg390@cam.ac.uk
Title: Example 'MSnExp' data set
URL:
PMIDs:
No abstract available.
Instrument :
Model: test (1)
Manufacturer:
Customisations:
Use 'msInfo(object)' for more MIAPE-MS information.
Experiment data
Experimenter name: Laurent Gatto
Laboratory: Cambridge Centre for Proteomics (CCP)
Contact information: Laurent Gatto
Contact email: lg390@cam.ac.uk
Title: Example 'MSnExp' data set
URL:
PMIDs:
No abstract available.
notes:
Note1:
First note
MIAPE-MS information:
1. General features:
Date stamp:
Contact: Laurent Gatto
Name: Laurent Gatto
Laboratory: Cambridge Centre for Proteomics (CCP)
Instument model: test
Manufacturer:
Customisations:
Software:
Version:
Switching:
Param file:
2. Ion source
Source:
Source details:
3. Post-source componentry
Analyzer:
Analyzer details:
Collision gas:
Pressure: bars
Energy:
Detector type:
Sensitivity:
Object of class "MSmap"
Map [75, 401]
[1] Retention time: 30:01 - 34:58
[2] M/Z: 521 - 523 (res 0.005)
Object of class "MSmap"
Map [401, 75]
[1] M/Z: 521 - 523 (res 0.005)
[2] Retention time: 30:01 - 34:58
Object of class "MzTab".
Description: mzTab example file for reporting a summary report of
quantification data quantified on the protein level
Mode: Complete
Type: Quantification
Available data: Proteins PSMs
Object of class "MzTab".
Description:
Mode:
Type:
Available data: SmallMolecules
Object of class "MzTab".
Description:
Mode:
Type:
Available data: SmallMolecules
Instance of class 'MSnSetList' containig 3 objects.
MSn experiment data ("OnDiskMSnExp")
Object size in memory: 0.26 Mb
- - - Spectra data - - -
MS level(s): 1 2
Number of spectra: 509
MSn retention times: 18:28 - 22:03 minutes
- - - Processing information - - -
Data loaded [Mon Apr 10 22:16:42 2023]
MSnbase version: 2.24.2
- - - Meta data - - -
phenoData
rowNames:
TMT_Erwinia_1uLSike_Top10HCD_isol2_45stepped_60min_01.mzML.gz
varLabels: sampleNames
varMetadata: labelDescription
Loaded from:
TMT_Erwinia_1uLSike_Top10HCD_isol2_45stepped_60min_01.mzML.gz
protocolData: none
featureData
featureNames: F1.S001 F1.S002 ... F1.S509 (509 total)
fvarLabels: fileIdx spIdx ... spectrum (35 total)
fvarMetadata: labelDescription
experimentData: use 'experimentData(object)'
Object of class "ReporterIons"
TMT10HCD: '10-plex TMT HCD' with 10 reporter ions
- [126] 126.1277 +/- 0.002 (#8DD3C7)
- [127N] 127.1248 +/- 0.002 (#FFFFB3)
- [127C] 127.1311 +/- 0.002 (#BEBADA)
- [128N] 128.1281 +/- 0.002 (#FB8072)
- [128C] 128.1344 +/- 0.002 (#80B1D3)
- [129N] 129.1315 +/- 0.002 (#FDB462)
- [129C] 129.1378 +/- 0.002 (#B3DE69)
- [130N] 130.1348 +/- 0.002 (#FCCDE5)
- [130C] 130.1411 +/- 0.002 (#D9D9D9)
- [131] 131.1382 +/- 0.002 (#BC80BD)
Object of class "Spectrum1"
Retention time: 0:00
MSn level: 1
Total ion count: 684
Polarity: 1
MSn experiment data ("MSnExp")
Object size in memory: 0.18 Mb
- - - Spectra data - - -
MS level(s): 2
Number of spectra: 5
MSn retention times: 25:01 - 25:02 minutes
- - - Processing information - - -
Data loaded: Mon Apr 10 22:20:32 2023
MSnbase version: 2.24.2
- - - Meta data - - -
phenoData
rowNames: dummyiTRAQ.mzXML
varLabels: sampleNames
varMetadata: labelDescription
Loaded from:
dummyiTRAQ.mzXML
protocolData: none
featureData
featureNames: F1.S1 F1.S2 ... F1.S5 (5 total)
fvarLabels: spectrum
fvarMetadata: labelDescription
experimentData: use 'experimentData(object)'
MSn experiment data ("MSnExp")
Object size in memory: 0.2 Mb
- - - Spectra data - - -
MS level(s): 2
Number of spectra: 5
MSn retention times: 25:01 - 25:02 minutes
- - - Processing information - - -
Data loaded: Mon Apr 10 22:20:32 2023
MSnbase version: 2.24.2
- - - Meta data - - -
phenoData
rowNames: dummyiTRAQ.mzXML
varLabels: sampleNames
varMetadata: labelDescription
Loaded from:
dummyiTRAQ.mzXML
protocolData: none
featureData
featureNames: F1.S1 F1.S2 ... F1.S5 (5 total)
fvarLabels: spectrum
fvarMetadata: labelDescription
experimentData: use 'experimentData(object)'
Object of class "FeaturesOfInterest"
Created on Mon Apr 10 22:20:54 2023
Description:
small foi
3 features of interest:
P20353, P53501, Q7KU78
Traceable object of class "FeaturesOfInterest"
Created on Mon Apr 10 22:20:54 2023
Description:
my description
10 features of interest:
P20353, P53501 ... Q9VCK0, Q9VIU7
A collection of 1 features of interest.
A collection of 10 features of interest.
MSpectra with 3 spectra and 1 metadata column(s):
msLevel rtime peaksCount | id
1 2 NA 3 | 1
2 2 1.23245 4 | 2
3 1 1.23245 5 | 3
MSpectra with 3 spectra and 1 metadata column(s):
msLevel rtime peaksCount | id
<integer> <numeric> <integer> | <integer>
1 2 NA 3 | 1
2 2 1.23245 4 | 2
3 1 1.23245 5 | 3
MSpectra with 3 spectra and 1 metadata column(s):
msLevel rtime peaksCount | id
<integer> <numeric> <integer> | <integer>
1 2 NA 3 | 1
2 2 1.23245 4 | 2
3 1 1.23245 5 | 3
reading dummyiTRAQ.mzid... DONE!
[ FAIL 0 | WARN 1092 | SKIP 12 | PASS 2388 ]
══ Skipped tests ═══════════════════════════════════════════════════════════════
• empty test (12)
[ FAIL 0 | WARN 1092 | SKIP 12 | PASS 2388 ]
Warning message:
In .Internal(eval(expr, envir, enclos)) :
closing unused connection 4 (/tmp/RtmpIZtbzg/file144a261d7d740)
>
> proc.time()
user system elapsed
438.283 26.594 454.499
MSnbase.Rcheck/MSnbase-Ex.timings
| name | user | system | elapsed | |
| Chromatogram-class | 0.108 | 0.001 | 0.108 | |
| FeatComp-class | 0.198 | 0.008 | 0.211 | |
| FeaturesOfInterest-class | 0.056 | 0.000 | 0.056 | |
| MChromatograms-class | 0.119 | 0.004 | 0.123 | |
| MSmap-class | 0.000 | 0.000 | 0.001 | |
| MSnExp-class | 0.559 | 0.008 | 0.566 | |
| MSnProcess-class | 0.001 | 0.000 | 0.001 | |
| MSnSet-class | 8.106 | 0.288 | 8.396 | |
| MSnSetList-class | 2.329 | 0.312 | 2.641 | |
| MSpectra | 0.079 | 0.008 | 0.086 | |
| MzTab-class | 0.550 | 0.039 | 2.559 | |
| OnDiskMSnExp-class | 7.468 | 0.548 | 8.039 | |
| ProcessingStep-class | 0.001 | 0.000 | 0.001 | |
| ReporterIons-class | 0.009 | 0.000 | 0.009 | |
| TMT6 | 0.005 | 0.000 | 0.005 | |
| addIdentificationData-methods | 0.876 | 0.036 | 0.912 | |
| aggvar | 3.536 | 0.088 | 3.624 | |
| averageMSnSet | 4.941 | 0.144 | 5.097 | |
| bin-methods | 0.346 | 0.008 | 0.355 | |
| calculateFragments-methods | 1.387 | 0.220 | 1.608 | |
| chromatogram-MSnExp-method | 9.884 | 1.017 | 10.900 | |
| clean-methods | 0.120 | 0.003 | 0.123 | |
| combineFeatures | 0.932 | 0.040 | 0.972 | |
| combineSpectra | 3.895 | 0.256 | 4.152 | |
| combineSpectraMovingWindow | 2.556 | 0.091 | 2.648 | |
| commonFeatureNames | 0.267 | 0.016 | 0.282 | |
| compareSpectra-methods | 0.164 | 0.016 | 0.179 | |
| consensusSpectrum | 0.024 | 0.004 | 0.029 | |
| estimateMzResolution | 4.562 | 0.428 | 4.958 | |
| estimateMzScattering | 1.619 | 0.036 | 1.655 | |
| estimateNoise-method | 0.01 | 0.00 | 0.01 | |
| extractPrecSpectra-methods | 1.242 | 0.011 | 1.254 | |
| extractSpectraData | 2.049 | 0.213 | 2.291 | |
| fData-utils | 0.349 | 0.000 | 0.349 | |
| factorsAsStrings | 0.010 | 0.000 | 0.011 | |
| featureCV | 0.021 | 0.000 | 0.020 | |
| fillUp | 0.002 | 0.001 | 0.003 | |
| formatRt | 0.000 | 0.000 | 0.001 | |
| get.amino.acids | 0.000 | 0.003 | 0.002 | |
| get.atomic.mass | 0 | 0 | 0 | |
| getVariableName | 0.000 | 0.002 | 0.003 | |
| hasSpectraOrChromatograms | 0.317 | 0.048 | 0.370 | |
| iPQF | 0.236 | 0.000 | 0.237 | |
| iTRAQ4 | 0.007 | 0.004 | 0.011 | |
| imageNA2 | 2.799 | 0.084 | 2.884 | |
| impute | 0.438 | 0.000 | 0.438 | |
| isCentroidedFromFile | 2.524 | 0.156 | 2.665 | |
| itraqdata | 0.041 | 0.007 | 0.048 | |
| listOf | 0.000 | 0.000 | 0.001 | |
| makeCamelCase | 0.000 | 0.000 | 0.001 | |
| makeNaData | 0.473 | 0.008 | 0.482 | |
| meanMzInts | 0.036 | 0.000 | 0.036 | |
| missing-data | 2.469 | 0.040 | 2.509 | |
| mzRident2dfr | 0.027 | 0.000 | 0.026 | |
| nFeatures | 0.532 | 0.004 | 0.535 | |
| nQuants | 0.135 | 0.024 | 0.158 | |
| naplot | 0.064 | 0.004 | 0.068 | |
| navMS | 2.925 | 0.096 | 3.064 | |
| normToReference | 0.172 | 0.000 | 0.171 | |
| normalise-methods | 0.013 | 0.000 | 0.014 | |
| npcv | 0.004 | 0.000 | 0.004 | |
| pSet-class | 0.001 | 0.000 | 0.000 | |
| pickPeaks-method | 0.294 | 0.008 | 0.301 | |
| plot-methods | 4.045 | 0.084 | 4.129 | |
| plot2d-methods | 0.537 | 0.000 | 0.537 | |
| plotDensity-methods | 0.719 | 0.008 | 0.727 | |
| plotMzDelta-methods | 0.729 | 0.004 | 0.734 | |
| plotNA-methods | 0.379 | 0.004 | 0.383 | |
| plotSpectrumSpectrum-methods | 1.701 | 0.064 | 1.765 | |
| precSelection | 0.007 | 0.000 | 0.007 | |
| purityCorrect-methods | 0.019 | 0.000 | 0.019 | |
| quantify-methods | 3.026 | 0.068 | 3.094 | |
| readMSData | 2.331 | 0.024 | 2.355 | |
| readMSnSet | 0.069 | 0.000 | 0.069 | |
| readMgfData | 1.465 | 0.012 | 1.478 | |
| readMzIdData | 0.605 | 0.151 | 0.756 | |
| readMzTabData | 0.917 | 0.014 | 1.142 | |
| readMzTabData_v0.9 | 0.140 | 0.004 | 0.266 | |
| readSRMData | 1.203 | 0.156 | 1.359 | |
| reduce-data.frame-method | 0.018 | 0.000 | 0.018 | |
| removeNoId-methods | 1.619 | 0.284 | 1.904 | |
| removePeaks-methods | 0.529 | 0.040 | 0.569 | |
| removeReporters-methods | 0.485 | 0.032 | 0.516 | |
| selectFeatureData | 1.453 | 0.236 | 1.690 | |
| smooth-methods | 0.173 | 0.016 | 0.189 | |
| trimMz-methods | 0.145 | 0.012 | 0.157 | |
| writeMgfData-methods | 1.569 | 0.084 | 1.653 | |