| Back to Multiple platform build/check report for BioC 3.16: simplified long |
|
This page was generated on 2023-04-12 11:05:09 -0400 (Wed, 12 Apr 2023).
| Hostname | OS | Arch (*) | R version | Installed pkgs |
|---|---|---|---|---|
| nebbiolo2 | Linux (Ubuntu 20.04.5 LTS) | x86_64 | 4.2.3 (2023-03-15) -- "Shortstop Beagle" | 4502 |
| palomino4 | Windows Server 2022 Datacenter | x64 | 4.2.3 (2023-03-15 ucrt) -- "Shortstop Beagle" | 4282 |
| lconway | macOS 12.5.1 Monterey | x86_64 | 4.2.3 (2023-03-15) -- "Shortstop Beagle" | 4310 |
| Click on any hostname to see more info about the system (e.g. compilers) (*) as reported by 'uname -p', except on Windows and Mac OS X | ||||
|
To the developers/maintainers of the MAGeCKFlute package: - Please allow up to 24 hours (and sometimes 48 hours) for your latest push to git@git.bioconductor.org:packages/MAGeCKFlute.git to reflect on this report. See How and When does the builder pull? When will my changes propagate? for more information. - Make sure to use the following settings in order to reproduce any error or warning you see on this page. |
| Package 1082/2183 | Hostname | OS / Arch | INSTALL | BUILD | CHECK | BUILD BIN | ||||||||
| MAGeCKFlute 2.2.0 (landing page) Wubing Zhang
| nebbiolo2 | Linux (Ubuntu 20.04.5 LTS) / x86_64 | OK | OK | OK | |||||||||
| palomino4 | Windows Server 2022 Datacenter / x64 | OK | OK | OK | OK | |||||||||
| lconway | macOS 12.5.1 Monterey / x86_64 | OK | OK | OK | OK | |||||||||
| Package: MAGeCKFlute |
| Version: 2.2.0 |
| Command: /home/biocbuild/bbs-3.16-bioc/R/bin/R CMD check --install=check:MAGeCKFlute.install-out.txt --library=/home/biocbuild/bbs-3.16-bioc/R/site-library --timings MAGeCKFlute_2.2.0.tar.gz |
| StartedAt: 2023-04-10 21:40:33 -0400 (Mon, 10 Apr 2023) |
| EndedAt: 2023-04-10 21:48:14 -0400 (Mon, 10 Apr 2023) |
| EllapsedTime: 461.6 seconds |
| RetCode: 0 |
| Status: OK |
| CheckDir: MAGeCKFlute.Rcheck |
| Warnings: 0 |
##############################################################################
##############################################################################
###
### Running command:
###
### /home/biocbuild/bbs-3.16-bioc/R/bin/R CMD check --install=check:MAGeCKFlute.install-out.txt --library=/home/biocbuild/bbs-3.16-bioc/R/site-library --timings MAGeCKFlute_2.2.0.tar.gz
###
##############################################################################
##############################################################################
* using log directory ‘/home/biocbuild/bbs-3.16-bioc/meat/MAGeCKFlute.Rcheck’
* using R version 4.2.3 (2023-03-15)
* using platform: x86_64-pc-linux-gnu (64-bit)
* using session charset: UTF-8
* checking for file ‘MAGeCKFlute/DESCRIPTION’ ... OK
* checking extension type ... Package
* this is package ‘MAGeCKFlute’ version ‘2.2.0’
* package encoding: UTF-8
* checking package namespace information ... OK
* checking package dependencies ... OK
* checking if this is a source package ... OK
* checking if there is a namespace ... OK
* checking for hidden files and directories ... OK
* checking for portable file names ... OK
* checking for sufficient/correct file permissions ... OK
* checking whether package ‘MAGeCKFlute’ can be installed ... OK
* checking installed package size ... NOTE
installed size is 20.7Mb
sub-directories of 1Mb or more:
extdata 20.3Mb
* checking package directory ... OK
* checking ‘build’ directory ... OK
* checking DESCRIPTION meta-information ... OK
* checking top-level files ... OK
* checking for left-over files ... OK
* checking index information ... OK
* checking package subdirectories ... OK
* checking R files for non-ASCII characters ... OK
* checking R files for syntax errors ... OK
* checking whether the package can be loaded ... OK
* checking whether the package can be loaded with stated dependencies ... OK
* checking whether the package can be unloaded cleanly ... OK
* checking whether the namespace can be loaded with stated dependencies ... OK
* checking whether the namespace can be unloaded cleanly ... OK
* checking loading without being on the library search path ... OK
* checking dependencies in R code ... OK
* checking S3 generic/method consistency ... OK
* checking replacement functions ... OK
* checking foreign function calls ... OK
* checking R code for possible problems ... NOTE
EnrichedFilter: no visible global function definition for ‘is’
EnrichedGeneView: no visible global function definition for ‘is’
EnrichedView: no visible global function definition for ‘is’
EnrichedView: no visible global function definition for ‘slot’
enrich.HGT: no visible global function definition for ‘new’
Undefined global functions or variables:
is new slot
Consider adding
importFrom("methods", "is", "new", "slot")
to your NAMESPACE file (and ensure that your DESCRIPTION Imports field
contains 'methods').
* checking Rd files ... OK
* checking Rd metadata ... OK
* checking Rd cross-references ... OK
* checking for missing documentation entries ... OK
* checking for code/documentation mismatches ... OK
* checking Rd \usage sections ... OK
* checking Rd contents ... OK
* checking for unstated dependencies in examples ... OK
* checking files in ‘vignettes’ ... OK
* checking examples ... OK
Examples with CPU (user + system) or elapsed time > 5s
user system elapsed
MAView 10.582 0.112 10.695
* checking for unstated dependencies in vignettes ... OK
* checking package vignettes in ‘inst/doc’ ... OK
* checking running R code from vignettes ...
‘MAGeCKFlute.Rmd’ using ‘UTF-8’... OK
‘MAGeCKFlute_enrichment.Rmd’ using ‘UTF-8’... OK
NONE
* checking re-building of vignette outputs ... OK
* checking PDF version of manual ... OK
* DONE
Status: 2 NOTEs
See
‘/home/biocbuild/bbs-3.16-bioc/meat/MAGeCKFlute.Rcheck/00check.log’
for details.
MAGeCKFlute.Rcheck/00install.out
############################################################################## ############################################################################## ### ### Running command: ### ### /home/biocbuild/bbs-3.16-bioc/R/bin/R CMD INSTALL MAGeCKFlute ### ############################################################################## ############################################################################## * installing to library ‘/home/biocbuild/bbs-3.16-bioc/R/site-library’ * installing *source* package ‘MAGeCKFlute’ ... ** using staged installation ** R ** inst ** byte-compile and prepare package for lazy loading snapshotDate(): 2022-10-31 ** help *** installing help indices ** building package indices ** installing vignettes ** testing if installed package can be loaded from temporary location snapshotDate(): 2022-10-31 ** testing if installed package can be loaded from final location snapshotDate(): 2022-10-31 ** testing if installed package keeps a record of temporary installation path * DONE (MAGeCKFlute)
MAGeCKFlute.Rcheck/MAGeCKFlute-Ex.timings
| name | user | system | elapsed | |
| BarView | 0.211 | 0.120 | 0.331 | |
| BatchRemove | 2.024 | 0.104 | 2.128 | |
| ConsistencyView | 0.918 | 0.033 | 0.950 | |
| CutoffCalling | 0.004 | 0.000 | 0.003 | |
| DensityDiffView | 0.883 | 0.000 | 0.883 | |
| DensityView | 0.715 | 0.019 | 0.735 | |
| EnrichAnalyzer | 0.011 | 0.000 | 0.012 | |
| EnrichedFilter | 0.009 | 0.000 | 0.010 | |
| EnrichedGeneView | 0.01 | 0.00 | 0.01 | |
| EnrichedView | 0.010 | 0.000 | 0.009 | |
| FluteMLE | 0.000 | 0.000 | 0.001 | |
| FluteRRA | 0.000 | 0.001 | 0.001 | |
| HeatmapView | 0.355 | 0.018 | 0.372 | |
| IdentBarView | 0.121 | 0.016 | 0.137 | |
| IncorporateDepmap | 0.169 | 0.002 | 0.180 | |
| MAView | 10.582 | 0.112 | 10.695 | |
| MapRatesView | 0.392 | 0.008 | 0.400 | |
| NormalizeBeta | 0.865 | 0.000 | 0.865 | |
| OmitCommonEssential | 0 | 0 | 0 | |
| RankView | 0.710 | 0.004 | 0.714 | |
| ReadBeta | 0.302 | 0.004 | 0.307 | |
| ReadRRA | 0.184 | 0.000 | 0.184 | |
| ReadsgRRA | 0.01 | 0.00 | 0.01 | |
| ResembleDepmap | 0.160 | 0.000 | 0.159 | |
| ScatterView | 3.258 | 0.036 | 3.294 | |
| Selector | 0.562 | 0.004 | 0.566 | |
| SquareView | 1.103 | 0.016 | 1.118 | |
| TransGeneID | 1.813 | 0.044 | 1.857 | |
| ViolinView | 1.243 | 0.048 | 1.290 | |
| VolcanoView | 1.747 | 0.008 | 1.755 | |
| arrangePathview | 0.279 | 0.000 | 0.279 | |
| enrich.GSE | 0.010 | 0.000 | 0.009 | |
| enrich.HGT | 2.544 | 0.096 | 2.640 | |
| enrich.ORT | 3.921 | 0.024 | 3.946 | |
| getCols | 0.007 | 0.000 | 0.007 | |
| getGeneAnn | 0 | 0 | 0 | |
| getOrg | 0.000 | 0.000 | 0.001 | |
| getOrtAnn | 0 | 0 | 0 | |
| gsGetter | 0.303 | 0.000 | 0.303 | |
| hclustView | 0.417 | 0.008 | 0.425 | |
| loadDepmap | 0 | 0 | 0 | |
| normalize.loess | 1.893 | 0.040 | 1.933 | |
| sgRankView | 0.139 | 0.000 | 0.138 | |
| writeGMT | 0.023 | 0.000 | 0.023 | |