| Back to Multiple platform build/check report for BioC 3.16: simplified long |
|
This page was generated on 2023-04-12 11:06:13 -0400 (Wed, 12 Apr 2023).
| Hostname | OS | Arch (*) | R version | Installed pkgs |
|---|---|---|---|---|
| nebbiolo2 | Linux (Ubuntu 20.04.5 LTS) | x86_64 | 4.2.3 (2023-03-15) -- "Shortstop Beagle" | 4502 |
| palomino4 | Windows Server 2022 Datacenter | x64 | 4.2.3 (2023-03-15 ucrt) -- "Shortstop Beagle" | 4282 |
| lconway | macOS 12.5.1 Monterey | x86_64 | 4.2.3 (2023-03-15) -- "Shortstop Beagle" | 4310 |
| Click on any hostname to see more info about the system (e.g. compilers) (*) as reported by 'uname -p', except on Windows and Mac OS X | ||||
|
To the developers/maintainers of the MAGeCKFlute package: - Please allow up to 24 hours (and sometimes 48 hours) for your latest push to git@git.bioconductor.org:packages/MAGeCKFlute.git to reflect on this report. See How and When does the builder pull? When will my changes propagate? for more information. - Make sure to use the following settings in order to reproduce any error or warning you see on this page. |
| Package 1082/2183 | Hostname | OS / Arch | INSTALL | BUILD | CHECK | BUILD BIN | ||||||||
| MAGeCKFlute 2.2.0 (landing page) Wubing Zhang
| nebbiolo2 | Linux (Ubuntu 20.04.5 LTS) / x86_64 | OK | OK | OK | |||||||||
| palomino4 | Windows Server 2022 Datacenter / x64 | OK | OK | OK | OK | |||||||||
| lconway | macOS 12.5.1 Monterey / x86_64 | OK | OK | OK | OK | |||||||||
| Package: MAGeCKFlute |
| Version: 2.2.0 |
| Command: /Library/Frameworks/R.framework/Resources/bin/R CMD check --install=check:MAGeCKFlute.install-out.txt --library=/Library/Frameworks/R.framework/Resources/library --no-vignettes --timings MAGeCKFlute_2.2.0.tar.gz |
| StartedAt: 2023-04-10 20:58:41 -0400 (Mon, 10 Apr 2023) |
| EndedAt: 2023-04-10 21:02:40 -0400 (Mon, 10 Apr 2023) |
| EllapsedTime: 239.4 seconds |
| RetCode: 0 |
| Status: OK |
| CheckDir: MAGeCKFlute.Rcheck |
| Warnings: 0 |
##############################################################################
##############################################################################
###
### Running command:
###
### /Library/Frameworks/R.framework/Resources/bin/R CMD check --install=check:MAGeCKFlute.install-out.txt --library=/Library/Frameworks/R.framework/Resources/library --no-vignettes --timings MAGeCKFlute_2.2.0.tar.gz
###
##############################################################################
##############################################################################
* using log directory ‘/Users/biocbuild/bbs-3.16-bioc/meat/MAGeCKFlute.Rcheck’
* using R version 4.2.3 (2023-03-15)
* using platform: x86_64-apple-darwin17.0 (64-bit)
* using session charset: UTF-8
* using option ‘--no-vignettes’
* checking for file ‘MAGeCKFlute/DESCRIPTION’ ... OK
* checking extension type ... Package
* this is package ‘MAGeCKFlute’ version ‘2.2.0’
* package encoding: UTF-8
* checking package namespace information ... OK
* checking package dependencies ... OK
* checking if this is a source package ... OK
* checking if there is a namespace ... OK
* checking for hidden files and directories ... OK
* checking for portable file names ... OK
* checking for sufficient/correct file permissions ... OK
* checking whether package ‘MAGeCKFlute’ can be installed ... OK
* checking installed package size ... NOTE
installed size is 20.7Mb
sub-directories of 1Mb or more:
extdata 20.3Mb
* checking package directory ... OK
* checking ‘build’ directory ... OK
* checking DESCRIPTION meta-information ... OK
* checking top-level files ... OK
* checking for left-over files ... OK
* checking index information ... OK
* checking package subdirectories ... OK
* checking R files for non-ASCII characters ... OK
* checking R files for syntax errors ... OK
* checking whether the package can be loaded ... OK
* checking whether the package can be loaded with stated dependencies ... OK
* checking whether the package can be unloaded cleanly ... OK
* checking whether the namespace can be loaded with stated dependencies ... OK
* checking whether the namespace can be unloaded cleanly ... OK
* checking dependencies in R code ... OK
* checking S3 generic/method consistency ... OK
* checking replacement functions ... OK
* checking foreign function calls ... OK
* checking R code for possible problems ... NOTE
EnrichedFilter: no visible global function definition for ‘is’
EnrichedGeneView: no visible global function definition for ‘is’
EnrichedView: no visible global function definition for ‘is’
EnrichedView: no visible global function definition for ‘slot’
enrich.HGT: no visible global function definition for ‘new’
Undefined global functions or variables:
is new slot
Consider adding
importFrom("methods", "is", "new", "slot")
to your NAMESPACE file (and ensure that your DESCRIPTION Imports field
contains 'methods').
* checking Rd files ... OK
* checking Rd metadata ... OK
* checking Rd cross-references ... OK
* checking for missing documentation entries ... OK
* checking for code/documentation mismatches ... OK
* checking Rd \usage sections ... OK
* checking Rd contents ... OK
* checking for unstated dependencies in examples ... OK
* checking files in ‘vignettes’ ... OK
* checking examples ... OK
Examples with CPU (user + system) or elapsed time > 5s
user system elapsed
MAView 8.78 0.249 9.048
* checking for unstated dependencies in vignettes ... OK
* checking package vignettes in ‘inst/doc’ ... OK
* checking running R code from vignettes ... SKIPPED
* checking re-building of vignette outputs ... SKIPPED
* checking PDF version of manual ... OK
* DONE
Status: 2 NOTEs
See
‘/Users/biocbuild/bbs-3.16-bioc/meat/MAGeCKFlute.Rcheck/00check.log’
for details.
MAGeCKFlute.Rcheck/00install.out
############################################################################## ############################################################################## ### ### Running command: ### ### /Library/Frameworks/R.framework/Resources/bin/R CMD INSTALL MAGeCKFlute ### ############################################################################## ############################################################################## * installing to library ‘/Library/Frameworks/R.framework/Versions/4.2/Resources/library’ * installing *source* package ‘MAGeCKFlute’ ... ** using staged installation ** R ** inst ** byte-compile and prepare package for lazy loading snapshotDate(): 2022-10-31 ** help *** installing help indices ** building package indices ** installing vignettes ** testing if installed package can be loaded from temporary location snapshotDate(): 2022-10-31 ** testing if installed package can be loaded from final location snapshotDate(): 2022-10-31 ** testing if installed package keeps a record of temporary installation path * DONE (MAGeCKFlute)
MAGeCKFlute.Rcheck/MAGeCKFlute-Ex.timings
| name | user | system | elapsed | |
| BarView | 0.174 | 0.011 | 0.185 | |
| BatchRemove | 1.802 | 0.056 | 1.861 | |
| ConsistencyView | 0.717 | 0.051 | 0.769 | |
| CutoffCalling | 0.003 | 0.000 | 0.003 | |
| DensityDiffView | 0.901 | 0.020 | 0.924 | |
| DensityView | 0.705 | 0.028 | 0.735 | |
| EnrichAnalyzer | 0.013 | 0.001 | 0.014 | |
| EnrichedFilter | 0.010 | 0.000 | 0.011 | |
| EnrichedGeneView | 0.009 | 0.000 | 0.010 | |
| EnrichedView | 0.01 | 0.00 | 0.01 | |
| FluteMLE | 0.001 | 0.000 | 0.001 | |
| FluteRRA | 0.001 | 0.001 | 0.001 | |
| HeatmapView | 0.350 | 0.009 | 0.361 | |
| IdentBarView | 0.118 | 0.003 | 0.121 | |
| IncorporateDepmap | 0.152 | 0.006 | 0.157 | |
| MAView | 8.780 | 0.249 | 9.048 | |
| MapRatesView | 0.394 | 0.004 | 0.399 | |
| NormalizeBeta | 0.788 | 0.013 | 0.803 | |
| OmitCommonEssential | 0 | 0 | 0 | |
| RankView | 0.564 | 0.037 | 0.604 | |
| ReadBeta | 0.331 | 0.006 | 0.339 | |
| ReadRRA | 0.209 | 0.010 | 0.221 | |
| ReadsgRRA | 0.010 | 0.001 | 0.011 | |
| ResembleDepmap | 0.158 | 0.002 | 0.161 | |
| ScatterView | 2.841 | 0.103 | 2.957 | |
| Selector | 0.557 | 0.008 | 0.566 | |
| SquareView | 0.819 | 0.034 | 0.857 | |
| TransGeneID | 1.741 | 0.037 | 1.780 | |
| ViolinView | 1.233 | 0.043 | 1.280 | |
| VolcanoView | 1.391 | 0.053 | 1.451 | |
| arrangePathview | 0.328 | 0.009 | 0.337 | |
| enrich.GSE | 0.008 | 0.001 | 0.009 | |
| enrich.HGT | 2.300 | 0.059 | 2.366 | |
| enrich.ORT | 4.334 | 0.163 | 4.504 | |
| getCols | 0.004 | 0.000 | 0.005 | |
| getGeneAnn | 0.000 | 0.001 | 0.001 | |
| getOrg | 0.000 | 0.000 | 0.001 | |
| getOrtAnn | 0 | 0 | 0 | |
| gsGetter | 0.209 | 0.003 | 0.213 | |
| hclustView | 0.426 | 0.013 | 0.442 | |
| loadDepmap | 0.000 | 0.001 | 0.001 | |
| normalize.loess | 0.921 | 0.025 | 0.950 | |
| sgRankView | 0.144 | 0.002 | 0.146 | |
| writeGMT | 0.030 | 0.002 | 0.031 | |