| Back to Multiple platform build/check report for BioC 3.16: simplified long |
|
This page was generated on 2023-04-12 11:06:12 -0400 (Wed, 12 Apr 2023).
| Hostname | OS | Arch (*) | R version | Installed pkgs |
|---|---|---|---|---|
| nebbiolo2 | Linux (Ubuntu 20.04.5 LTS) | x86_64 | 4.2.3 (2023-03-15) -- "Shortstop Beagle" | 4502 |
| palomino4 | Windows Server 2022 Datacenter | x64 | 4.2.3 (2023-03-15 ucrt) -- "Shortstop Beagle" | 4282 |
| lconway | macOS 12.5.1 Monterey | x86_64 | 4.2.3 (2023-03-15) -- "Shortstop Beagle" | 4310 |
| Click on any hostname to see more info about the system (e.g. compilers) (*) as reported by 'uname -p', except on Windows and Mac OS X | ||||
|
To the developers/maintainers of the IntEREst package: - Please allow up to 24 hours (and sometimes 48 hours) for your latest push to git@git.bioconductor.org:packages/IntEREst.git to reflect on this report. See How and When does the builder pull? When will my changes propagate? for more information. - Make sure to use the following settings in order to reproduce any error or warning you see on this page. |
| Package 985/2183 | Hostname | OS / Arch | INSTALL | BUILD | CHECK | BUILD BIN | ||||||||
| IntEREst 1.22.2 (landing page) Ali Oghabian
| nebbiolo2 | Linux (Ubuntu 20.04.5 LTS) / x86_64 | OK | OK | OK | |||||||||
| palomino4 | Windows Server 2022 Datacenter / x64 | OK | OK | OK | OK | |||||||||
| lconway | macOS 12.5.1 Monterey / x86_64 | OK | OK | OK | OK | |||||||||
| Package: IntEREst |
| Version: 1.22.2 |
| Command: /Library/Frameworks/R.framework/Resources/bin/R CMD check --install=check:IntEREst.install-out.txt --library=/Library/Frameworks/R.framework/Resources/library --no-vignettes --timings IntEREst_1.22.2.tar.gz |
| StartedAt: 2023-04-10 20:47:12 -0400 (Mon, 10 Apr 2023) |
| EndedAt: 2023-04-10 20:51:53 -0400 (Mon, 10 Apr 2023) |
| EllapsedTime: 281.5 seconds |
| RetCode: 0 |
| Status: OK |
| CheckDir: IntEREst.Rcheck |
| Warnings: 0 |
##############################################################################
##############################################################################
###
### Running command:
###
### /Library/Frameworks/R.framework/Resources/bin/R CMD check --install=check:IntEREst.install-out.txt --library=/Library/Frameworks/R.framework/Resources/library --no-vignettes --timings IntEREst_1.22.2.tar.gz
###
##############################################################################
##############################################################################
* using log directory ‘/Users/biocbuild/bbs-3.16-bioc/meat/IntEREst.Rcheck’
* using R version 4.2.3 (2023-03-15)
* using platform: x86_64-apple-darwin17.0 (64-bit)
* using session charset: UTF-8
* using option ‘--no-vignettes’
* checking for file ‘IntEREst/DESCRIPTION’ ... OK
* this is package ‘IntEREst’ version ‘1.22.2’
* checking package namespace information ... OK
* checking package dependencies ... OK
* checking if this is a source package ... OK
* checking if there is a namespace ... OK
* checking for hidden files and directories ... OK
* checking for portable file names ... OK
* checking for sufficient/correct file permissions ... OK
* checking whether package ‘IntEREst’ can be installed ... OK
* checking installed package size ... OK
* checking package directory ... OK
* checking ‘build’ directory ... OK
* checking DESCRIPTION meta-information ... OK
* checking top-level files ... OK
* checking for left-over files ... OK
* checking index information ... OK
* checking package subdirectories ... OK
* checking R files for non-ASCII characters ... OK
* checking R files for syntax errors ... OK
* checking whether the package can be loaded ... OK
* checking whether the package can be loaded with stated dependencies ... OK
* checking whether the package can be unloaded cleanly ... OK
* checking whether the namespace can be loaded with stated dependencies ... OK
* checking whether the namespace can be unloaded cleanly ... OK
* checking dependencies in R code ... OK
* checking S3 generic/method consistency ... OK
* checking replacement functions ... OK
* checking foreign function calls ... OK
* checking R code for possible problems ... OK
* checking Rd files ... OK
* checking Rd metadata ... OK
* checking Rd cross-references ... OK
* checking for missing documentation entries ... OK
* checking for code/documentation mismatches ... OK
* checking Rd \usage sections ... OK
* checking Rd contents ... OK
* checking for unstated dependencies in examples ... OK
* checking contents of ‘data’ directory ... OK
* checking data for non-ASCII characters ... OK
* checking LazyData ... OK
* checking data for ASCII and uncompressed saves ... OK
* checking files in ‘vignettes’ ... OK
* checking examples ... OK
Examples with CPU (user + system) or elapsed time > 5s
user system elapsed
DEXSeqIntEREst 19.067 0.192 19.306
deseqInterest 4.990 0.048 5.049
* checking for unstated dependencies in vignettes ... OK
* checking package vignettes in ‘inst/doc’ ... OK
* checking running R code from vignettes ... SKIPPED
* checking re-building of vignette outputs ... SKIPPED
* checking PDF version of manual ... OK
* DONE
Status: OK
IntEREst.Rcheck/00install.out
############################################################################## ############################################################################## ### ### Running command: ### ### /Library/Frameworks/R.framework/Resources/bin/R CMD INSTALL IntEREst ### ############################################################################## ############################################################################## * installing to library ‘/Library/Frameworks/R.framework/Versions/4.2/Resources/library’ * installing *source* package ‘IntEREst’ ... ** using staged installation ** R ** data *** moving datasets to lazyload DB ** inst ** byte-compile and prepare package for lazy loading ** help *** installing help indices ** building package indices ** installing vignettes ** testing if installed package can be loaded from temporary location ** testing if installed package can be loaded from final location ** testing if installed package keeps a record of temporary installation path * DONE (IntEREst)
IntEREst.Rcheck/IntEREst-Ex.timings
| name | user | system | elapsed | |
| DEXSeqIntEREst | 19.067 | 0.192 | 19.306 | |
| addAnnotation | 0.023 | 0.001 | 0.025 | |
| annotateU12 | 2.340 | 0.084 | 2.430 | |
| applyOverlap | 0.155 | 0.002 | 0.156 | |
| attributes | 0.027 | 0.002 | 0.028 | |
| boxplot-method | 0.036 | 0.001 | 0.037 | |
| buildSsTypePwms | 0.000 | 0.001 | 0.000 | |
| counts-method | 0.027 | 0.001 | 0.029 | |
| deseqInterest | 4.990 | 0.048 | 5.049 | |
| exactTestInterest | 0.089 | 0.002 | 0.091 | |
| getRepeatTable | 0.000 | 0.001 | 0.000 | |
| glmInterest | 0.117 | 0.002 | 0.123 | |
| interest | 1.773 | 0.021 | 1.798 | |
| interest.sequential | 1.858 | 0.019 | 1.885 | |
| interestResult | 0.015 | 0.001 | 0.016 | |
| interestResultIntEx | 0.175 | 0.001 | 0.177 | |
| intexIndex | 0.002 | 0.001 | 0.002 | |
| lfc | 0.163 | 0.005 | 0.171 | |
| mergeInterestResult | 0.050 | 0.001 | 0.051 | |
| plot-method | 0.257 | 0.005 | 0.263 | |
| psi | 0.556 | 0.009 | 0.566 | |
| qlfInterest | 0.109 | 0.002 | 0.111 | |
| readInterestResults | 0.022 | 0.002 | 0.024 | |
| referencePrepare | 0.874 | 0.007 | 0.881 | |
| subInterestResult | 0.024 | 0.001 | 0.025 | |
| treatInterest | 0.082 | 0.005 | 0.086 | |
| u12Boxplot | 0.076 | 0.005 | 0.081 | |
| u12BoxplotNb | 0.059 | 0.000 | 0.059 | |
| u12DensityPlot | 0.179 | 0.005 | 0.186 | |
| u12Index | 0.005 | 0.001 | 0.006 | |
| u12NbIndex | 0.034 | 0.001 | 0.035 | |
| unionRefTr | 0.011 | 0.000 | 0.012 | |
| updateRowDataCol | 0.042 | 0.001 | 0.042 | |