| Back to Multiple platform build/check report for BioC 3.16: simplified long |
|
This page was generated on 2023-04-12 11:05:02 -0400 (Wed, 12 Apr 2023).
| Hostname | OS | Arch (*) | R version | Installed pkgs |
|---|---|---|---|---|
| nebbiolo2 | Linux (Ubuntu 20.04.5 LTS) | x86_64 | 4.2.3 (2023-03-15) -- "Shortstop Beagle" | 4502 |
| palomino4 | Windows Server 2022 Datacenter | x64 | 4.2.3 (2023-03-15 ucrt) -- "Shortstop Beagle" | 4282 |
| lconway | macOS 12.5.1 Monterey | x86_64 | 4.2.3 (2023-03-15) -- "Shortstop Beagle" | 4310 |
| Click on any hostname to see more info about the system (e.g. compilers) (*) as reported by 'uname -p', except on Windows and Mac OS X | ||||
|
To the developers/maintainers of the CytoGLMM package: - Please allow up to 24 hours (and sometimes 48 hours) for your latest push to git@git.bioconductor.org:packages/CytoGLMM.git to reflect on this report. See How and When does the builder pull? When will my changes propagate? for more information. - Make sure to use the following settings in order to reproduce any error or warning you see on this page. |
| Package 464/2183 | Hostname | OS / Arch | INSTALL | BUILD | CHECK | BUILD BIN | ||||||||
| CytoGLMM 1.6.0 (landing page) Christof Seiler
| nebbiolo2 | Linux (Ubuntu 20.04.5 LTS) / x86_64 | OK | OK | OK | |||||||||
| palomino4 | Windows Server 2022 Datacenter / x64 | OK | OK | OK | OK | |||||||||
| lconway | macOS 12.5.1 Monterey / x86_64 | OK | OK | OK | OK | |||||||||
| Package: CytoGLMM |
| Version: 1.6.0 |
| Command: /home/biocbuild/bbs-3.16-bioc/R/bin/R CMD check --install=check:CytoGLMM.install-out.txt --library=/home/biocbuild/bbs-3.16-bioc/R/site-library --timings CytoGLMM_1.6.0.tar.gz |
| StartedAt: 2023-04-10 20:05:53 -0400 (Mon, 10 Apr 2023) |
| EndedAt: 2023-04-10 20:09:13 -0400 (Mon, 10 Apr 2023) |
| EllapsedTime: 199.7 seconds |
| RetCode: 0 |
| Status: OK |
| CheckDir: CytoGLMM.Rcheck |
| Warnings: 0 |
##############################################################################
##############################################################################
###
### Running command:
###
### /home/biocbuild/bbs-3.16-bioc/R/bin/R CMD check --install=check:CytoGLMM.install-out.txt --library=/home/biocbuild/bbs-3.16-bioc/R/site-library --timings CytoGLMM_1.6.0.tar.gz
###
##############################################################################
##############################################################################
* using log directory ‘/home/biocbuild/bbs-3.16-bioc/meat/CytoGLMM.Rcheck’
* using R version 4.2.3 (2023-03-15)
* using platform: x86_64-pc-linux-gnu (64-bit)
* using session charset: UTF-8
* checking for file ‘CytoGLMM/DESCRIPTION’ ... OK
* checking extension type ... Package
* this is package ‘CytoGLMM’ version ‘1.6.0’
* package encoding: UTF-8
* checking package namespace information ... OK
* checking package dependencies ... OK
* checking if this is a source package ... OK
* checking if there is a namespace ... OK
* checking for hidden files and directories ... OK
* checking for portable file names ... OK
* checking for sufficient/correct file permissions ... OK
* checking whether package ‘CytoGLMM’ can be installed ... OK
* checking installed package size ... OK
* checking package directory ... OK
* checking ‘build’ directory ... OK
* checking DESCRIPTION meta-information ... OK
* checking top-level files ... OK
* checking for left-over files ... OK
* checking index information ... OK
* checking package subdirectories ... OK
* checking R files for non-ASCII characters ... OK
* checking R files for syntax errors ... OK
* checking whether the package can be loaded ... OK
* checking whether the package can be loaded with stated dependencies ... OK
* checking whether the package can be unloaded cleanly ... OK
* checking whether the namespace can be loaded with stated dependencies ... OK
* checking whether the namespace can be unloaded cleanly ... OK
* checking loading without being on the library search path ... OK
* checking dependencies in R code ... OK
* checking S3 generic/method consistency ... OK
* checking replacement functions ... OK
* checking foreign function calls ... OK
* checking R code for possible problems ... OK
* checking Rd files ... OK
* checking Rd metadata ... OK
* checking Rd cross-references ... OK
* checking for missing documentation entries ... OK
* checking for code/documentation mismatches ... OK
* checking Rd \usage sections ... OK
* checking Rd contents ... OK
* checking for unstated dependencies in examples ... OK
* checking files in ‘vignettes’ ... OK
* checking examples ... OK
Examples with CPU (user + system) or elapsed time > 5s
user system elapsed
plot.cytoflexmix 5.204 0.06 5.265
* checking for unstated dependencies in ‘tests’ ... OK
* checking tests ...
Running ‘testthat.R’
OK
* checking for unstated dependencies in vignettes ... OK
* checking package vignettes in ‘inst/doc’ ... OK
* checking running R code from vignettes ...
‘CytoGLMM.Rmd’ using ‘UTF-8’... OK
NONE
* checking re-building of vignette outputs ... OK
* checking PDF version of manual ... OK
* DONE
Status: OK
CytoGLMM.Rcheck/00install.out
############################################################################## ############################################################################## ### ### Running command: ### ### /home/biocbuild/bbs-3.16-bioc/R/bin/R CMD INSTALL CytoGLMM ### ############################################################################## ############################################################################## * installing to library ‘/home/biocbuild/bbs-3.16-bioc/R/site-library’ * installing *source* package ‘CytoGLMM’ ... ** using staged installation ** R ** inst ** byte-compile and prepare package for lazy loading ** help *** installing help indices ** building package indices ** installing vignettes ** testing if installed package can be loaded from temporary location ** testing if installed package can be loaded from final location ** testing if installed package keeps a record of temporary installation path * DONE (CytoGLMM)
CytoGLMM.Rcheck/tests/testthat.Rout
R version 4.2.3 (2023-03-15) -- "Shortstop Beagle"
Copyright (C) 2023 The R Foundation for Statistical Computing
Platform: x86_64-pc-linux-gnu (64-bit)
R is free software and comes with ABSOLUTELY NO WARRANTY.
You are welcome to redistribute it under certain conditions.
Type 'license()' or 'licence()' for distribution details.
R is a collaborative project with many contributors.
Type 'contributors()' for more information and
'citation()' on how to cite R or R packages in publications.
Type 'demo()' for some demos, 'help()' for on-line help, or
'help.start()' for an HTML browser interface to help.
Type 'q()' to quit R.
> library(testthat)
> library(CytoGLMM)
>
> test_check("CytoGLMM")
[ FAIL 0 | WARN 0 | SKIP 0 | PASS 1 ]
>
> proc.time()
user system elapsed
3.654 0.171 3.820
CytoGLMM.Rcheck/CytoGLMM-Ex.timings
| name | user | system | elapsed | |
| cytoflexmix | 4.132 | 0.100 | 4.232 | |
| cytoglm | 1.048 | 0.016 | 1.063 | |
| cytoglmm | 0.443 | 0.004 | 0.447 | |
| cytogroup | 0.783 | 0.024 | 0.808 | |
| cytostab | 0.407 | 0.008 | 0.415 | |
| generate_data | 0.075 | 0.012 | 0.088 | |
| plot.cytoflexmix | 5.204 | 0.060 | 5.265 | |
| plot.cytoglm | 0.953 | 0.056 | 1.010 | |
| plot.cytoglmm | 0.318 | 0.000 | 0.318 | |
| plot.cytogroup | 1.193 | 0.048 | 1.240 | |
| plot_heatmap | 0.187 | 0.000 | 0.188 | |
| plot_lda | 1.008 | 0.008 | 1.016 | |
| plot_mds | 0.52 | 0.02 | 0.54 | |
| plot_model_selection | 4.232 | 0.016 | 4.248 | |
| plot_prcomp | 1.391 | 0.060 | 1.452 | |
| print.cytoglm | 0.855 | 0.008 | 0.864 | |
| print.cytoglmm | 0.189 | 0.000 | 0.189 | |
| summary.cytoglm | 1.130 | 0.024 | 1.154 | |
| summary.cytoglmm | 0.184 | 0.000 | 0.187 | |