| Back to Multiple platform build/check report for BioC 3.16: simplified long |
|
This page was generated on 2023-04-12 11:06:04 -0400 (Wed, 12 Apr 2023).
| Hostname | OS | Arch (*) | R version | Installed pkgs |
|---|---|---|---|---|
| nebbiolo2 | Linux (Ubuntu 20.04.5 LTS) | x86_64 | 4.2.3 (2023-03-15) -- "Shortstop Beagle" | 4502 |
| palomino4 | Windows Server 2022 Datacenter | x64 | 4.2.3 (2023-03-15 ucrt) -- "Shortstop Beagle" | 4282 |
| lconway | macOS 12.5.1 Monterey | x86_64 | 4.2.3 (2023-03-15) -- "Shortstop Beagle" | 4310 |
| Click on any hostname to see more info about the system (e.g. compilers) (*) as reported by 'uname -p', except on Windows and Mac OS X | ||||
|
To the developers/maintainers of the CytoGLMM package: - Please allow up to 24 hours (and sometimes 48 hours) for your latest push to git@git.bioconductor.org:packages/CytoGLMM.git to reflect on this report. See How and When does the builder pull? When will my changes propagate? for more information. - Make sure to use the following settings in order to reproduce any error or warning you see on this page. |
| Package 464/2183 | Hostname | OS / Arch | INSTALL | BUILD | CHECK | BUILD BIN | ||||||||
| CytoGLMM 1.6.0 (landing page) Christof Seiler
| nebbiolo2 | Linux (Ubuntu 20.04.5 LTS) / x86_64 | OK | OK | OK | |||||||||
| palomino4 | Windows Server 2022 Datacenter / x64 | OK | OK | OK | OK | |||||||||
| lconway | macOS 12.5.1 Monterey / x86_64 | OK | OK | OK | OK | |||||||||
| Package: CytoGLMM |
| Version: 1.6.0 |
| Command: /Library/Frameworks/R.framework/Resources/bin/R CMD check --install=check:CytoGLMM.install-out.txt --library=/Library/Frameworks/R.framework/Resources/library --no-vignettes --timings CytoGLMM_1.6.0.tar.gz |
| StartedAt: 2023-04-10 19:42:51 -0400 (Mon, 10 Apr 2023) |
| EndedAt: 2023-04-10 19:44:45 -0400 (Mon, 10 Apr 2023) |
| EllapsedTime: 114.4 seconds |
| RetCode: 0 |
| Status: OK |
| CheckDir: CytoGLMM.Rcheck |
| Warnings: 0 |
############################################################################## ############################################################################## ### ### Running command: ### ### /Library/Frameworks/R.framework/Resources/bin/R CMD check --install=check:CytoGLMM.install-out.txt --library=/Library/Frameworks/R.framework/Resources/library --no-vignettes --timings CytoGLMM_1.6.0.tar.gz ### ############################################################################## ############################################################################## * using log directory ‘/Users/biocbuild/bbs-3.16-bioc/meat/CytoGLMM.Rcheck’ * using R version 4.2.3 (2023-03-15) * using platform: x86_64-apple-darwin17.0 (64-bit) * using session charset: UTF-8 * using option ‘--no-vignettes’ * checking for file ‘CytoGLMM/DESCRIPTION’ ... OK * checking extension type ... Package * this is package ‘CytoGLMM’ version ‘1.6.0’ * package encoding: UTF-8 * checking package namespace information ... OK * checking package dependencies ... OK * checking if this is a source package ... OK * checking if there is a namespace ... OK * checking for hidden files and directories ... OK * checking for portable file names ... OK * checking for sufficient/correct file permissions ... OK * checking whether package ‘CytoGLMM’ can be installed ... OK * checking installed package size ... OK * checking package directory ... OK * checking ‘build’ directory ... OK * checking DESCRIPTION meta-information ... OK * checking top-level files ... OK * checking for left-over files ... OK * checking index information ... OK * checking package subdirectories ... OK * checking R files for non-ASCII characters ... OK * checking R files for syntax errors ... OK * checking whether the package can be loaded ... OK * checking whether the package can be loaded with stated dependencies ... OK * checking whether the package can be unloaded cleanly ... OK * checking whether the namespace can be loaded with stated dependencies ... OK * checking whether the namespace can be unloaded cleanly ... OK * checking dependencies in R code ... OK * checking S3 generic/method consistency ... OK * checking replacement functions ... OK * checking foreign function calls ... OK * checking R code for possible problems ... OK * checking Rd files ... OK * checking Rd metadata ... OK * checking Rd cross-references ... OK * checking for missing documentation entries ... OK * checking for code/documentation mismatches ... OK * checking Rd \usage sections ... OK * checking Rd contents ... OK * checking for unstated dependencies in examples ... OK * checking files in ‘vignettes’ ... OK * checking examples ... OK * checking for unstated dependencies in ‘tests’ ... OK * checking tests ... Running ‘testthat.R’ OK * checking for unstated dependencies in vignettes ... OK * checking package vignettes in ‘inst/doc’ ... OK * checking running R code from vignettes ... SKIPPED * checking re-building of vignette outputs ... SKIPPED * checking PDF version of manual ... OK * DONE Status: OK
CytoGLMM.Rcheck/00install.out
############################################################################## ############################################################################## ### ### Running command: ### ### /Library/Frameworks/R.framework/Resources/bin/R CMD INSTALL CytoGLMM ### ############################################################################## ############################################################################## * installing to library ‘/Library/Frameworks/R.framework/Versions/4.2/Resources/library’ * installing *source* package ‘CytoGLMM’ ... ** using staged installation ** R ** inst ** byte-compile and prepare package for lazy loading ** help *** installing help indices ** building package indices ** installing vignettes ** testing if installed package can be loaded from temporary location ** testing if installed package can be loaded from final location ** testing if installed package keeps a record of temporary installation path * DONE (CytoGLMM)
CytoGLMM.Rcheck/tests/testthat.Rout
R version 4.2.3 (2023-03-15) -- "Shortstop Beagle"
Copyright (C) 2023 The R Foundation for Statistical Computing
Platform: x86_64-apple-darwin17.0 (64-bit)
R is free software and comes with ABSOLUTELY NO WARRANTY.
You are welcome to redistribute it under certain conditions.
Type 'license()' or 'licence()' for distribution details.
R is a collaborative project with many contributors.
Type 'contributors()' for more information and
'citation()' on how to cite R or R packages in publications.
Type 'demo()' for some demos, 'help()' for on-line help, or
'help.start()' for an HTML browser interface to help.
Type 'q()' to quit R.
> library(testthat)
> library(CytoGLMM)
>
> test_check("CytoGLMM")
[ FAIL 0 | WARN 0 | SKIP 0 | PASS 1 ]
>
> proc.time()
user system elapsed
3.621 0.320 3.959
CytoGLMM.Rcheck/CytoGLMM-Ex.timings
| name | user | system | elapsed | |
| cytoflexmix | 4.110 | 0.433 | 4.566 | |
| cytoglm | 1.087 | 0.115 | 1.205 | |
| cytoglmm | 0.458 | 0.015 | 0.474 | |
| cytogroup | 0.957 | 0.042 | 1.002 | |
| cytostab | 0.196 | 0.011 | 0.207 | |
| generate_data | 0.094 | 0.003 | 0.097 | |
| plot.cytoflexmix | 3.411 | 0.384 | 3.816 | |
| plot.cytoglm | 1.282 | 0.104 | 1.394 | |
| plot.cytoglmm | 0.299 | 0.019 | 0.320 | |
| plot.cytogroup | 1.120 | 0.037 | 1.164 | |
| plot_heatmap | 0.158 | 0.004 | 0.163 | |
| plot_lda | 0.891 | 0.050 | 0.944 | |
| plot_mds | 0.499 | 0.018 | 0.519 | |
| plot_model_selection | 3.477 | 0.515 | 4.013 | |
| plot_prcomp | 1.232 | 0.061 | 1.298 | |
| print.cytoglm | 0.999 | 0.148 | 1.154 | |
| print.cytoglmm | 0.161 | 0.008 | 0.170 | |
| summary.cytoglm | 0.691 | 0.094 | 0.788 | |
| summary.cytoglmm | 0.176 | 0.012 | 0.188 | |