| Back to Multiple platform build/check report for BioC 3.16: simplified long |
|
This page was generated on 2023-04-12 11:05:00 -0400 (Wed, 12 Apr 2023).
| Hostname | OS | Arch (*) | R version | Installed pkgs |
|---|---|---|---|---|
| nebbiolo2 | Linux (Ubuntu 20.04.5 LTS) | x86_64 | 4.2.3 (2023-03-15) -- "Shortstop Beagle" | 4502 |
| palomino4 | Windows Server 2022 Datacenter | x64 | 4.2.3 (2023-03-15 ucrt) -- "Shortstop Beagle" | 4282 |
| lconway | macOS 12.5.1 Monterey | x86_64 | 4.2.3 (2023-03-15) -- "Shortstop Beagle" | 4310 |
| Click on any hostname to see more info about the system (e.g. compilers) (*) as reported by 'uname -p', except on Windows and Mac OS X | ||||
|
To the developers/maintainers of the ChIPpeakAnno package: - Please allow up to 24 hours (and sometimes 48 hours) for your latest push to git@git.bioconductor.org:packages/ChIPpeakAnno.git to reflect on this report. See How and When does the builder pull? When will my changes propagate? for more information. - Make sure to use the following settings in order to reproduce any error or warning you see on this page. |
| Package 313/2183 | Hostname | OS / Arch | INSTALL | BUILD | CHECK | BUILD BIN | ||||||||
| ChIPpeakAnno 3.32.0 (landing page) Jianhong Ou
| nebbiolo2 | Linux (Ubuntu 20.04.5 LTS) / x86_64 | OK | OK | OK | |||||||||
| palomino4 | Windows Server 2022 Datacenter / x64 | OK | OK | OK | OK | |||||||||
| lconway | macOS 12.5.1 Monterey / x86_64 | OK | OK | OK | OK | |||||||||
| Package: ChIPpeakAnno |
| Version: 3.32.0 |
| Command: /home/biocbuild/bbs-3.16-bioc/R/bin/R CMD check --install=check:ChIPpeakAnno.install-out.txt --library=/home/biocbuild/bbs-3.16-bioc/R/site-library --timings ChIPpeakAnno_3.32.0.tar.gz |
| StartedAt: 2023-04-10 19:40:18 -0400 (Mon, 10 Apr 2023) |
| EndedAt: 2023-04-10 19:56:25 -0400 (Mon, 10 Apr 2023) |
| EllapsedTime: 966.7 seconds |
| RetCode: 0 |
| Status: OK |
| CheckDir: ChIPpeakAnno.Rcheck |
| Warnings: 0 |
##############################################################################
##############################################################################
###
### Running command:
###
### /home/biocbuild/bbs-3.16-bioc/R/bin/R CMD check --install=check:ChIPpeakAnno.install-out.txt --library=/home/biocbuild/bbs-3.16-bioc/R/site-library --timings ChIPpeakAnno_3.32.0.tar.gz
###
##############################################################################
##############################################################################
* using log directory ‘/home/biocbuild/bbs-3.16-bioc/meat/ChIPpeakAnno.Rcheck’
* using R version 4.2.3 (2023-03-15)
* using platform: x86_64-pc-linux-gnu (64-bit)
* using session charset: UTF-8
* checking for file ‘ChIPpeakAnno/DESCRIPTION’ ... OK
* checking extension type ... Package
* this is package ‘ChIPpeakAnno’ version ‘3.32.0’
* package encoding: UTF-8
* checking package namespace information ... OK
* checking package dependencies ... OK
* checking if this is a source package ... OK
* checking if there is a namespace ... OK
* checking for hidden files and directories ... OK
* checking for portable file names ... OK
* checking for sufficient/correct file permissions ... OK
* checking whether package ‘ChIPpeakAnno’ can be installed ... OK
* checking installed package size ... NOTE
installed size is 19.1Mb
sub-directories of 1Mb or more:
data 12.6Mb
extdata 5.2Mb
* checking package directory ... OK
* checking ‘build’ directory ... OK
* checking DESCRIPTION meta-information ... OK
* checking top-level files ... OK
* checking for left-over files ... OK
* checking index information ... OK
* checking package subdirectories ... OK
* checking R files for non-ASCII characters ... OK
* checking R files for syntax errors ... OK
* checking whether the package can be loaded ... OK
* checking whether the package can be loaded with stated dependencies ... OK
* checking whether the package can be unloaded cleanly ... OK
* checking whether the namespace can be loaded with stated dependencies ... OK
* checking whether the namespace can be unloaded cleanly ... OK
* checking loading without being on the library search path ... OK
* checking dependencies in R code ... OK
* checking S3 generic/method consistency ... OK
* checking replacement functions ... OK
* checking foreign function calls ... OK
* checking R code for possible problems ... NOTE
oligoFrequency : <anonymous>: no visible global function definition for
'oligonucleotideFrequency'
Undefined global functions or variables:
oligonucleotideFrequency
* checking Rd files ... OK
* checking Rd metadata ... OK
* checking Rd cross-references ... OK
* checking for missing documentation entries ... OK
* checking for code/documentation mismatches ... OK
* checking Rd \usage sections ... OK
* checking Rd contents ... OK
* checking for unstated dependencies in examples ... OK
* checking contents of ‘data’ directory ... OK
* checking data for non-ASCII characters ... OK
* checking LazyData ... OK
* checking data for ASCII and uncompressed saves ... OK
* checking files in ‘vignettes’ ... OK
* checking examples ... OK
Examples with CPU (user + system) or elapsed time > 5s
user system elapsed
findEnhancers 20.896 0.480 21.376
findMotifsInPromoterSeqs 13.246 0.228 13.477
annotatePeakInBatch 11.833 0.928 12.761
* checking for unstated dependencies in ‘tests’ ... OK
* checking tests ...
Running ‘runTests.R’
OK
* checking for unstated dependencies in vignettes ... OK
* checking package vignettes in ‘inst/doc’ ... OK
* checking running R code from vignettes ...
‘ChIPpeakAnno.Rmd’ using ‘UTF-8’... OK
‘FAQs.Rmd’ using ‘UTF-8’... OK
‘pipeline.Rmd’ using ‘UTF-8’... OK
‘quickStart.Rmd’ using ‘UTF-8’... OK
NONE
* checking re-building of vignette outputs ... OK
* checking PDF version of manual ... OK
* DONE
Status: 2 NOTEs
See
‘/home/biocbuild/bbs-3.16-bioc/meat/ChIPpeakAnno.Rcheck/00check.log’
for details.
ChIPpeakAnno.Rcheck/00install.out
############################################################################## ############################################################################## ### ### Running command: ### ### /home/biocbuild/bbs-3.16-bioc/R/bin/R CMD INSTALL ChIPpeakAnno ### ############################################################################## ############################################################################## * installing to library ‘/home/biocbuild/bbs-3.16-bioc/R/site-library’ * installing *source* package ‘ChIPpeakAnno’ ... ** using staged installation ** R ** data *** moving datasets to lazyload DB ** inst ** byte-compile and prepare package for lazy loading ** help *** installing help indices ** building package indices ** installing vignettes ** testing if installed package can be loaded from temporary location ** testing if installed package can be loaded from final location ** testing if installed package keeps a record of temporary installation path * DONE (ChIPpeakAnno)
ChIPpeakAnno.Rcheck/tests/runTests.Rout
R version 4.2.3 (2023-03-15) -- "Shortstop Beagle"
Copyright (C) 2023 The R Foundation for Statistical Computing
Platform: x86_64-pc-linux-gnu (64-bit)
R is free software and comes with ABSOLUTELY NO WARRANTY.
You are welcome to redistribute it under certain conditions.
Type 'license()' or 'licence()' for distribution details.
R is a collaborative project with many contributors.
Type 'contributors()' for more information and
'citation()' on how to cite R or R packages in publications.
Type 'demo()' for some demos, 'help()' for on-line help, or
'help.start()' for an HTML browser interface to help.
Type 'q()' to quit R.
> require("ChIPpeakAnno") || stop("unable to load Package:ChIPpeakAnno")
Loading required package: ChIPpeakAnno
Loading required package: IRanges
Loading required package: BiocGenerics
Attaching package: 'BiocGenerics'
The following objects are masked from 'package:stats':
IQR, mad, sd, var, xtabs
The following objects are masked from 'package:base':
Filter, Find, Map, Position, Reduce, anyDuplicated, aperm, append,
as.data.frame, basename, cbind, colnames, dirname, do.call,
duplicated, eval, evalq, get, grep, grepl, intersect, is.unsorted,
lapply, mapply, match, mget, order, paste, pmax, pmax.int, pmin,
pmin.int, rank, rbind, rownames, sapply, setdiff, sort, table,
tapply, union, unique, unsplit, which.max, which.min
Loading required package: S4Vectors
Loading required package: stats4
Attaching package: 'S4Vectors'
The following objects are masked from 'package:base':
I, expand.grid, unname
Loading required package: GenomicRanges
Loading required package: GenomeInfoDb
[1] TRUE
> require("BSgenome.Drerio.UCSC.danRer7") || stop("unable to load Package:BSgenome.Drerio.UCSC.danRer7")
Loading required package: BSgenome.Drerio.UCSC.danRer7
Loading required package: BSgenome
Loading required package: Biostrings
Loading required package: XVector
Attaching package: 'Biostrings'
The following object is masked from 'package:base':
strsplit
Loading required package: rtracklayer
[1] TRUE
> require("org.Hs.eg.db") || stop("unable to load Package:org.Hs.eg.db")
Loading required package: org.Hs.eg.db
Loading required package: AnnotationDbi
Loading required package: Biobase
Welcome to Bioconductor
Vignettes contain introductory material; view with
'browseVignettes()'. To cite Bioconductor, see
'citation("Biobase")', and for packages 'citation("pkgname")'.
[1] TRUE
> require("org.Ce.eg.db") || stop("unable to load Package:org.Ce.eg.db")
Loading required package: org.Ce.eg.db
[1] TRUE
> require("BSgenome.Celegans.UCSC.ce10") || stop("unable to load Package:BSgenome.Celegans.UCSC.ce10")
Loading required package: BSgenome.Celegans.UCSC.ce10
[1] TRUE
> require("EnsDb.Hsapiens.v79") || stop("unable to load Package:EnsDb.Hsapiens.v79")
Loading required package: EnsDb.Hsapiens.v79
Loading required package: ensembldb
Loading required package: GenomicFeatures
Loading required package: AnnotationFilter
Attaching package: 'ensembldb'
The following object is masked from 'package:stats':
filter
[1] TRUE
> require("TxDb.Hsapiens.UCSC.hg38.knownGene") || stop("unable to load TxDb.Hsapiens.UCSC.hg38.knownGene")
Loading required package: TxDb.Hsapiens.UCSC.hg38.knownGene
[1] TRUE
> require("biomaRt") || stop("unable to load biomaRt")
Loading required package: biomaRt
[1] TRUE
> require("reactome.db") || stop("unable to load reactome.db")
Loading required package: reactome.db
[1] TRUE
> require("testthat") || stop("unable to load testthat")
Loading required package: testthat
Attaching package: 'testthat'
The following object is masked from 'package:AnnotationFilter':
not
[1] TRUE
> test_check("ChIPpeakAnno")
[ FAIL 0 | WARN 4 | SKIP 6 | PASS 316 ]
══ Skipped tests ═══════════════════════════════════════════════════════════════
• empty test (6)
[ FAIL 0 | WARN 4 | SKIP 6 | PASS 316 ]
>
> proc.time()
user system elapsed
167.850 4.964 174.942
ChIPpeakAnno.Rcheck/ChIPpeakAnno-Ex.timings
| name | user | system | elapsed | |
| ChIPpeakAnno-package | 0.000 | 0.000 | 0.001 | |
| ExonPlusUtr.human.GRCh37 | 4.251 | 0.308 | 4.559 | |
| HOT.spots | 0.136 | 0.008 | 0.145 | |
| IDRfilter | 0.000 | 0.000 | 0.001 | |
| Peaks.Ste12.Replicate1 | 0.043 | 0.004 | 0.048 | |
| Peaks.Ste12.Replicate2 | 0.01 | 0.00 | 0.01 | |
| Peaks.Ste12.Replicate3 | 0.010 | 0.000 | 0.011 | |
| TSS.human.GRCh37 | 0.195 | 0.012 | 0.206 | |
| TSS.human.GRCh38 | 0.155 | 0.004 | 0.159 | |
| TSS.human.NCBI36 | 0.114 | 0.000 | 0.115 | |
| TSS.mouse.GRCm38 | 0.116 | 0.000 | 0.116 | |
| TSS.mouse.NCBIM37 | 0.089 | 0.004 | 0.094 | |
| TSS.rat.RGSC3.4 | 0.079 | 0.007 | 0.086 | |
| TSS.rat.Rnor_5.0 | 0.066 | 0.004 | 0.070 | |
| TSS.zebrafish.Zv8 | 0.074 | 0.000 | 0.074 | |
| TSS.zebrafish.Zv9 | 0.079 | 0.012 | 0.091 | |
| addAncestors | 1.063 | 0.027 | 1.090 | |
| addGeneIDs | 1.678 | 0.124 | 1.803 | |
| addMetadata | 1.319 | 0.106 | 1.426 | |
| annoGR | 0 | 0 | 0 | |
| annoPeaks | 2.692 | 0.157 | 3.309 | |
| annotatePeakInBatch | 11.833 | 0.928 | 12.761 | |
| annotatedPeak | 0.053 | 0.004 | 0.057 | |
| assignChromosomeRegion | 0.001 | 0.000 | 0.000 | |
| bdp | 0 | 0 | 0 | |
| binOverFeature | 0.686 | 0.024 | 0.710 | |
| binOverGene | 0 | 0 | 0 | |
| binOverRegions | 0 | 0 | 0 | |
| condenseMatrixByColnames | 0.01 | 0.00 | 0.01 | |
| convert2EntrezID | 0.377 | 0.020 | 0.397 | |
| countPatternInSeqs | 0.144 | 0.016 | 0.160 | |
| cumulativePercentage | 0 | 0 | 0 | |
| downstreams | 0.009 | 0.012 | 0.021 | |
| egOrgMap | 0.000 | 0.000 | 0.001 | |
| enrichedGO | 0.002 | 0.000 | 0.002 | |
| enrichmentPlot | 0.462 | 0.016 | 0.478 | |
| estFragmentLength | 0 | 0 | 0 | |
| estLibSize | 0 | 0 | 0 | |
| featureAlignedDistribution | 0.196 | 0.012 | 0.207 | |
| featureAlignedExtendSignal | 0.001 | 0.000 | 0.001 | |
| featureAlignedHeatmap | 0.352 | 0.012 | 0.364 | |
| featureAlignedSignal | 0.161 | 0.012 | 0.173 | |
| findEnhancers | 20.896 | 0.480 | 21.376 | |
| findMotifsInPromoterSeqs | 13.246 | 0.228 | 13.477 | |
| findOverlappingPeaks | 0.001 | 0.000 | 0.001 | |
| findOverlapsOfPeaks | 1.738 | 0.016 | 1.754 | |
| genomicElementDistribution | 0 | 0 | 0 | |
| genomicElementUpSetR | 0 | 0 | 0 | |
| getAllPeakSequence | 0.490 | 0.000 | 0.489 | |
| getAnnotation | 0 | 0 | 0 | |
| getEnrichedGO | 0.004 | 0.004 | 0.008 | |
| getEnrichedPATH | 0.001 | 0.000 | 0.001 | |
| getGO | 0 | 0 | 0 | |
| getGeneSeq | 0.000 | 0.000 | 0.001 | |
| getUniqueGOidCount | 0.000 | 0.000 | 0.001 | |
| getVennCounts | 0.001 | 0.000 | 0.001 | |
| hyperGtest | 0.001 | 0.000 | 0.001 | |
| makeVennDiagram | 0.002 | 0.000 | 0.002 | |
| mergePlusMinusPeaks | 0.001 | 0.000 | 0.000 | |
| metagenePlot | 2.315 | 0.048 | 2.363 | |
| myPeakList | 0.015 | 0.000 | 0.015 | |
| oligoFrequency | 0.196 | 0.000 | 0.196 | |
| oligoSummary | 0.000 | 0.000 | 0.001 | |
| peakPermTest | 0.001 | 0.000 | 0.001 | |
| peaksNearBDP | 0 | 0 | 0 | |
| pie1 | 0.005 | 0.000 | 0.005 | |
| plotBinOverRegions | 0 | 0 | 0 | |
| preparePool | 0.000 | 0.000 | 0.001 | |
| reCenterPeaks | 0.026 | 0.000 | 0.026 | |
| summarizeOverlapsByBins | 3.399 | 0.482 | 3.526 | |
| summarizePatternInPeaks | 0.549 | 0.024 | 0.573 | |
| tileCount | 0.251 | 0.180 | 0.384 | |
| tileGRanges | 0.184 | 0.110 | 0.036 | |
| toGRanges | 0.092 | 0.004 | 0.097 | |
| translatePattern | 0.001 | 0.000 | 0.001 | |
| wgEncodeTfbsV3 | 0.218 | 0.004 | 0.222 | |
| write2FASTA | 0.014 | 0.000 | 0.014 | |
| xget | 0.089 | 0.016 | 0.105 | |