| Back to Multiple platform build/check report for BioC 3.16: simplified long |
|
This page was generated on 2023-04-12 11:06:02 -0400 (Wed, 12 Apr 2023).
| Hostname | OS | Arch (*) | R version | Installed pkgs |
|---|---|---|---|---|
| nebbiolo2 | Linux (Ubuntu 20.04.5 LTS) | x86_64 | 4.2.3 (2023-03-15) -- "Shortstop Beagle" | 4502 |
| palomino4 | Windows Server 2022 Datacenter | x64 | 4.2.3 (2023-03-15 ucrt) -- "Shortstop Beagle" | 4282 |
| lconway | macOS 12.5.1 Monterey | x86_64 | 4.2.3 (2023-03-15) -- "Shortstop Beagle" | 4310 |
| Click on any hostname to see more info about the system (e.g. compilers) (*) as reported by 'uname -p', except on Windows and Mac OS X | ||||
|
To the developers/maintainers of the ChIPpeakAnno package: - Please allow up to 24 hours (and sometimes 48 hours) for your latest push to git@git.bioconductor.org:packages/ChIPpeakAnno.git to reflect on this report. See How and When does the builder pull? When will my changes propagate? for more information. - Make sure to use the following settings in order to reproduce any error or warning you see on this page. |
| Package 313/2183 | Hostname | OS / Arch | INSTALL | BUILD | CHECK | BUILD BIN | ||||||||
| ChIPpeakAnno 3.32.0 (landing page) Jianhong Ou
| nebbiolo2 | Linux (Ubuntu 20.04.5 LTS) / x86_64 | OK | OK | OK | |||||||||
| palomino4 | Windows Server 2022 Datacenter / x64 | OK | OK | OK | OK | |||||||||
| lconway | macOS 12.5.1 Monterey / x86_64 | OK | OK | OK | OK | |||||||||
| Package: ChIPpeakAnno |
| Version: 3.32.0 |
| Command: /Library/Frameworks/R.framework/Resources/bin/R CMD check --install=check:ChIPpeakAnno.install-out.txt --library=/Library/Frameworks/R.framework/Resources/library --no-vignettes --timings ChIPpeakAnno_3.32.0.tar.gz |
| StartedAt: 2023-04-10 19:21:31 -0400 (Mon, 10 Apr 2023) |
| EndedAt: 2023-04-10 19:30:49 -0400 (Mon, 10 Apr 2023) |
| EllapsedTime: 558.2 seconds |
| RetCode: 0 |
| Status: OK |
| CheckDir: ChIPpeakAnno.Rcheck |
| Warnings: 0 |
##############################################################################
##############################################################################
###
### Running command:
###
### /Library/Frameworks/R.framework/Resources/bin/R CMD check --install=check:ChIPpeakAnno.install-out.txt --library=/Library/Frameworks/R.framework/Resources/library --no-vignettes --timings ChIPpeakAnno_3.32.0.tar.gz
###
##############################################################################
##############################################################################
* using log directory ‘/Users/biocbuild/bbs-3.16-bioc/meat/ChIPpeakAnno.Rcheck’
* using R version 4.2.3 (2023-03-15)
* using platform: x86_64-apple-darwin17.0 (64-bit)
* using session charset: UTF-8
* using option ‘--no-vignettes’
* checking for file ‘ChIPpeakAnno/DESCRIPTION’ ... OK
* checking extension type ... Package
* this is package ‘ChIPpeakAnno’ version ‘3.32.0’
* package encoding: UTF-8
* checking package namespace information ... OK
* checking package dependencies ... OK
* checking if this is a source package ... OK
* checking if there is a namespace ... OK
* checking for hidden files and directories ... OK
* checking for portable file names ... OK
* checking for sufficient/correct file permissions ... OK
* checking whether package ‘ChIPpeakAnno’ can be installed ... OK
* checking installed package size ... NOTE
installed size is 19.6Mb
sub-directories of 1Mb or more:
data 13.1Mb
extdata 5.2Mb
* checking package directory ... OK
* checking ‘build’ directory ... OK
* checking DESCRIPTION meta-information ... OK
* checking top-level files ... OK
* checking for left-over files ... OK
* checking index information ... OK
* checking package subdirectories ... OK
* checking R files for non-ASCII characters ... OK
* checking R files for syntax errors ... OK
* checking whether the package can be loaded ... OK
* checking whether the package can be loaded with stated dependencies ... OK
* checking whether the package can be unloaded cleanly ... OK
* checking whether the namespace can be loaded with stated dependencies ... OK
* checking whether the namespace can be unloaded cleanly ... OK
* checking dependencies in R code ... OK
* checking S3 generic/method consistency ... OK
* checking replacement functions ... OK
* checking foreign function calls ... OK
* checking R code for possible problems ... NOTE
oligoFrequency : <anonymous>: no visible global function definition for
'oligonucleotideFrequency'
Undefined global functions or variables:
oligonucleotideFrequency
* checking Rd files ... OK
* checking Rd metadata ... OK
* checking Rd cross-references ... OK
* checking for missing documentation entries ... OK
* checking for code/documentation mismatches ... OK
* checking Rd \usage sections ... OK
* checking Rd contents ... OK
* checking for unstated dependencies in examples ... OK
* checking contents of ‘data’ directory ... OK
* checking data for non-ASCII characters ... OK
* checking LazyData ... OK
* checking data for ASCII and uncompressed saves ... OK
* checking files in ‘vignettes’ ... OK
* checking examples ... OK
Examples with CPU (user + system) or elapsed time > 5s
user system elapsed
findEnhancers 18.498 0.429 18.992
annotatePeakInBatch 11.811 0.639 12.514
findMotifsInPromoterSeqs 12.008 0.208 12.415
annoPeaks 2.759 0.281 9.952
* checking for unstated dependencies in ‘tests’ ... OK
* checking tests ...
Running ‘runTests.R’
OK
* checking for unstated dependencies in vignettes ... OK
* checking package vignettes in ‘inst/doc’ ... OK
* checking running R code from vignettes ... SKIPPED
* checking re-building of vignette outputs ... SKIPPED
* checking PDF version of manual ... OK
* DONE
Status: 2 NOTEs
See
‘/Users/biocbuild/bbs-3.16-bioc/meat/ChIPpeakAnno.Rcheck/00check.log’
for details.
ChIPpeakAnno.Rcheck/00install.out
############################################################################## ############################################################################## ### ### Running command: ### ### /Library/Frameworks/R.framework/Resources/bin/R CMD INSTALL ChIPpeakAnno ### ############################################################################## ############################################################################## * installing to library ‘/Library/Frameworks/R.framework/Versions/4.2/Resources/library’ * installing *source* package ‘ChIPpeakAnno’ ... ** using staged installation ** R ** data *** moving datasets to lazyload DB ** inst ** byte-compile and prepare package for lazy loading ** help *** installing help indices ** building package indices ** installing vignettes ** testing if installed package can be loaded from temporary location ** testing if installed package can be loaded from final location ** testing if installed package keeps a record of temporary installation path * DONE (ChIPpeakAnno)
ChIPpeakAnno.Rcheck/tests/runTests.Rout
R version 4.2.3 (2023-03-15) -- "Shortstop Beagle"
Copyright (C) 2023 The R Foundation for Statistical Computing
Platform: x86_64-apple-darwin17.0 (64-bit)
R is free software and comes with ABSOLUTELY NO WARRANTY.
You are welcome to redistribute it under certain conditions.
Type 'license()' or 'licence()' for distribution details.
R is a collaborative project with many contributors.
Type 'contributors()' for more information and
'citation()' on how to cite R or R packages in publications.
Type 'demo()' for some demos, 'help()' for on-line help, or
'help.start()' for an HTML browser interface to help.
Type 'q()' to quit R.
> require("ChIPpeakAnno") || stop("unable to load Package:ChIPpeakAnno")
Loading required package: ChIPpeakAnno
Loading required package: IRanges
Loading required package: BiocGenerics
Attaching package: 'BiocGenerics'
The following objects are masked from 'package:stats':
IQR, mad, sd, var, xtabs
The following objects are masked from 'package:base':
Filter, Find, Map, Position, Reduce, anyDuplicated, aperm, append,
as.data.frame, basename, cbind, colnames, dirname, do.call,
duplicated, eval, evalq, get, grep, grepl, intersect, is.unsorted,
lapply, mapply, match, mget, order, paste, pmax, pmax.int, pmin,
pmin.int, rank, rbind, rownames, sapply, setdiff, sort, table,
tapply, union, unique, unsplit, which.max, which.min
Loading required package: S4Vectors
Loading required package: stats4
Attaching package: 'S4Vectors'
The following objects are masked from 'package:base':
I, expand.grid, unname
Loading required package: GenomicRanges
Loading required package: GenomeInfoDb
[1] TRUE
> require("BSgenome.Drerio.UCSC.danRer7") || stop("unable to load Package:BSgenome.Drerio.UCSC.danRer7")
Loading required package: BSgenome.Drerio.UCSC.danRer7
Loading required package: BSgenome
Loading required package: Biostrings
Loading required package: XVector
Attaching package: 'Biostrings'
The following object is masked from 'package:base':
strsplit
Loading required package: rtracklayer
[1] TRUE
> require("org.Hs.eg.db") || stop("unable to load Package:org.Hs.eg.db")
Loading required package: org.Hs.eg.db
Loading required package: AnnotationDbi
Loading required package: Biobase
Welcome to Bioconductor
Vignettes contain introductory material; view with
'browseVignettes()'. To cite Bioconductor, see
'citation("Biobase")', and for packages 'citation("pkgname")'.
[1] TRUE
> require("org.Ce.eg.db") || stop("unable to load Package:org.Ce.eg.db")
Loading required package: org.Ce.eg.db
[1] TRUE
> require("BSgenome.Celegans.UCSC.ce10") || stop("unable to load Package:BSgenome.Celegans.UCSC.ce10")
Loading required package: BSgenome.Celegans.UCSC.ce10
[1] TRUE
> require("EnsDb.Hsapiens.v79") || stop("unable to load Package:EnsDb.Hsapiens.v79")
Loading required package: EnsDb.Hsapiens.v79
Loading required package: ensembldb
Loading required package: GenomicFeatures
Loading required package: AnnotationFilter
Attaching package: 'ensembldb'
The following object is masked from 'package:stats':
filter
[1] TRUE
> require("TxDb.Hsapiens.UCSC.hg38.knownGene") || stop("unable to load TxDb.Hsapiens.UCSC.hg38.knownGene")
Loading required package: TxDb.Hsapiens.UCSC.hg38.knownGene
[1] TRUE
> require("biomaRt") || stop("unable to load biomaRt")
Loading required package: biomaRt
[1] TRUE
> require("reactome.db") || stop("unable to load reactome.db")
Loading required package: reactome.db
[1] TRUE
> require("testthat") || stop("unable to load testthat")
Loading required package: testthat
Attaching package: 'testthat'
The following object is masked from 'package:AnnotationFilter':
not
[1] TRUE
> test_check("ChIPpeakAnno")
[ FAIL 0 | WARN 4 | SKIP 6 | PASS 316 ]
══ Skipped tests ═══════════════════════════════════════════════════════════════
• empty test (6)
[ FAIL 0 | WARN 4 | SKIP 6 | PASS 316 ]
>
> proc.time()
user system elapsed
157.565 4.654 170.065
ChIPpeakAnno.Rcheck/ChIPpeakAnno-Ex.timings
| name | user | system | elapsed | |
| ChIPpeakAnno-package | 0 | 0 | 0 | |
| ExonPlusUtr.human.GRCh37 | 3.036 | 0.084 | 3.127 | |
| HOT.spots | 0.109 | 0.007 | 0.117 | |
| IDRfilter | 0.001 | 0.000 | 0.001 | |
| Peaks.Ste12.Replicate1 | 0.038 | 0.003 | 0.040 | |
| Peaks.Ste12.Replicate2 | 0.009 | 0.002 | 0.010 | |
| Peaks.Ste12.Replicate3 | 0.009 | 0.002 | 0.010 | |
| TSS.human.GRCh37 | 0.149 | 0.008 | 0.156 | |
| TSS.human.GRCh38 | 0.121 | 0.007 | 0.128 | |
| TSS.human.NCBI36 | 0.108 | 0.005 | 0.113 | |
| TSS.mouse.GRCm38 | 0.101 | 0.008 | 0.109 | |
| TSS.mouse.NCBIM37 | 0.094 | 0.008 | 0.102 | |
| TSS.rat.RGSC3.4 | 0.077 | 0.007 | 0.083 | |
| TSS.rat.Rnor_5.0 | 0.065 | 0.005 | 0.070 | |
| TSS.zebrafish.Zv8 | 0.066 | 0.007 | 0.072 | |
| TSS.zebrafish.Zv9 | 0.086 | 0.008 | 0.095 | |
| addAncestors | 1.190 | 0.058 | 1.256 | |
| addGeneIDs | 1.977 | 0.683 | 2.683 | |
| addMetadata | 1.385 | 0.069 | 1.458 | |
| annoGR | 0.001 | 0.000 | 0.001 | |
| annoPeaks | 2.759 | 0.281 | 9.952 | |
| annotatePeakInBatch | 11.811 | 0.639 | 12.514 | |
| annotatedPeak | 0.045 | 0.006 | 0.051 | |
| assignChromosomeRegion | 0.002 | 0.001 | 0.003 | |
| bdp | 0.000 | 0.000 | 0.001 | |
| binOverFeature | 0.668 | 0.018 | 0.690 | |
| binOverGene | 0.001 | 0.000 | 0.002 | |
| binOverRegions | 0.001 | 0.001 | 0.002 | |
| condenseMatrixByColnames | 0.008 | 0.001 | 0.009 | |
| convert2EntrezID | 0.372 | 0.005 | 0.380 | |
| countPatternInSeqs | 0.148 | 0.005 | 0.154 | |
| cumulativePercentage | 0 | 0 | 0 | |
| downstreams | 0.022 | 0.000 | 0.023 | |
| egOrgMap | 0.000 | 0.001 | 0.001 | |
| enrichedGO | 0.002 | 0.002 | 0.004 | |
| enrichmentPlot | 0.579 | 0.020 | 0.602 | |
| estFragmentLength | 0.000 | 0.000 | 0.001 | |
| estLibSize | 0.000 | 0.000 | 0.001 | |
| featureAlignedDistribution | 0.188 | 0.002 | 0.191 | |
| featureAlignedExtendSignal | 0.002 | 0.001 | 0.002 | |
| featureAlignedHeatmap | 0.286 | 0.003 | 0.292 | |
| featureAlignedSignal | 0.173 | 0.097 | 0.272 | |
| findEnhancers | 18.498 | 0.429 | 18.992 | |
| findMotifsInPromoterSeqs | 12.008 | 0.208 | 12.415 | |
| findOverlappingPeaks | 0.001 | 0.000 | 0.001 | |
| findOverlapsOfPeaks | 1.554 | 0.019 | 1.579 | |
| genomicElementDistribution | 0.001 | 0.000 | 0.002 | |
| genomicElementUpSetR | 0.000 | 0.001 | 0.001 | |
| getAllPeakSequence | 0.442 | 0.018 | 0.466 | |
| getAnnotation | 0.001 | 0.001 | 0.002 | |
| getEnrichedGO | 0.009 | 0.005 | 0.014 | |
| getEnrichedPATH | 0 | 0 | 0 | |
| getGO | 0.000 | 0.000 | 0.001 | |
| getGeneSeq | 0.001 | 0.001 | 0.002 | |
| getUniqueGOidCount | 0.000 | 0.000 | 0.001 | |
| getVennCounts | 0.001 | 0.000 | 0.001 | |
| hyperGtest | 0.001 | 0.001 | 0.001 | |
| makeVennDiagram | 0.002 | 0.000 | 0.003 | |
| mergePlusMinusPeaks | 0.000 | 0.000 | 0.001 | |
| metagenePlot | 1.935 | 0.047 | 2.001 | |
| myPeakList | 0.014 | 0.002 | 0.015 | |
| oligoFrequency | 0.187 | 0.012 | 0.201 | |
| oligoSummary | 0.000 | 0.001 | 0.001 | |
| peakPermTest | 0.001 | 0.000 | 0.002 | |
| peaksNearBDP | 0.001 | 0.000 | 0.001 | |
| pie1 | 0.004 | 0.000 | 0.005 | |
| plotBinOverRegions | 0.001 | 0.000 | 0.000 | |
| preparePool | 0.000 | 0.000 | 0.001 | |
| reCenterPeaks | 0.022 | 0.000 | 0.023 | |
| summarizeOverlapsByBins | 2.876 | 0.580 | 3.053 | |
| summarizePatternInPeaks | 0.461 | 0.041 | 0.515 | |
| tileCount | 0.499 | 0.457 | 0.541 | |
| tileGRanges | 0.032 | 0.020 | 0.053 | |
| toGRanges | 0.105 | 0.023 | 0.129 | |
| translatePattern | 0.001 | 0.001 | 0.000 | |
| wgEncodeTfbsV3 | 0.204 | 0.012 | 0.217 | |
| write2FASTA | 0.013 | 0.005 | 0.017 | |
| xget | 0.089 | 0.009 | 0.101 | |