| Back to Multiple platform build/check report for BioC 3.16: simplified long |
|
This page was generated on 2023-04-12 11:05:27 -0400 (Wed, 12 Apr 2023).
| Hostname | OS | Arch (*) | R version | Installed pkgs |
|---|---|---|---|---|
| nebbiolo2 | Linux (Ubuntu 20.04.5 LTS) | x86_64 | 4.2.3 (2023-03-15) -- "Shortstop Beagle" | 4502 |
| palomino4 | Windows Server 2022 Datacenter | x64 | 4.2.3 (2023-03-15 ucrt) -- "Shortstop Beagle" | 4282 |
| lconway | macOS 12.5.1 Monterey | x86_64 | 4.2.3 (2023-03-15) -- "Shortstop Beagle" | 4310 |
| Click on any hostname to see more info about the system (e.g. compilers) (*) as reported by 'uname -p', except on Windows and Mac OS X | ||||
|
To the developers/maintainers of the CellBarcode package: - Please allow up to 24 hours (and sometimes 48 hours) for your latest push to git@git.bioconductor.org:packages/CellBarcode.git to reflect on this report. See How and When does the builder pull? When will my changes propagate? for more information. - Make sure to use the following settings in order to reproduce any error or warning you see on this page. |
| Package 273/2183 | Hostname | OS / Arch | INSTALL | BUILD | CHECK | BUILD BIN | ||||||||
| CellBarcode 1.4.0 (landing page) Wenjie Sun
| nebbiolo2 | Linux (Ubuntu 20.04.5 LTS) / x86_64 | OK | OK | OK | |||||||||
| palomino4 | Windows Server 2022 Datacenter / x64 | OK | OK | OK | OK | |||||||||
| lconway | macOS 12.5.1 Monterey / x86_64 | OK | OK | OK | OK | |||||||||
| Package: CellBarcode |
| Version: 1.4.0 |
| Command: F:\biocbuild\bbs-3.16-bioc\R\bin\R.exe CMD check --no-multiarch --install=check:CellBarcode.install-out.txt --library=F:\biocbuild\bbs-3.16-bioc\R\library --no-vignettes --timings CellBarcode_1.4.0.tar.gz |
| StartedAt: 2023-04-10 23:44:41 -0400 (Mon, 10 Apr 2023) |
| EndedAt: 2023-04-10 23:48:47 -0400 (Mon, 10 Apr 2023) |
| EllapsedTime: 245.7 seconds |
| RetCode: 0 |
| Status: OK |
| CheckDir: CellBarcode.Rcheck |
| Warnings: 0 |
############################################################################## ############################################################################## ### ### Running command: ### ### F:\biocbuild\bbs-3.16-bioc\R\bin\R.exe CMD check --no-multiarch --install=check:CellBarcode.install-out.txt --library=F:\biocbuild\bbs-3.16-bioc\R\library --no-vignettes --timings CellBarcode_1.4.0.tar.gz ### ############################################################################## ############################################################################## * using log directory 'F:/biocbuild/bbs-3.16-bioc/meat/CellBarcode.Rcheck' * using R version 4.2.3 (2023-03-15 ucrt) * using platform: x86_64-w64-mingw32 (64-bit) * using session charset: UTF-8 * using option '--no-vignettes' * checking for file 'CellBarcode/DESCRIPTION' ... OK * checking extension type ... Package * this is package 'CellBarcode' version '1.4.0' * package encoding: UTF-8 * checking package namespace information ... OK * checking package dependencies ... OK * checking if this is a source package ... OK * checking if there is a namespace ... OK * checking for hidden files and directories ... OK * checking for portable file names ... OK * checking whether package 'CellBarcode' can be installed ... OK * checking installed package size ... OK * checking package directory ... OK * checking 'build' directory ... OK * checking DESCRIPTION meta-information ... OK * checking top-level files ... OK * checking for left-over files ... OK * checking index information ... OK * checking package subdirectories ... OK * checking R files for non-ASCII characters ... OK * checking R files for syntax errors ... OK * checking whether the package can be loaded ... OK * checking whether the package can be loaded with stated dependencies ... OK * checking whether the package can be unloaded cleanly ... OK * checking whether the namespace can be loaded with stated dependencies ... OK * checking whether the namespace can be unloaded cleanly ... OK * checking dependencies in R code ... OK * checking S3 generic/method consistency ... OK * checking replacement functions ... OK * checking foreign function calls ... OK * checking R code for possible problems ... NOTE bc_extract_10XscSeq: no visible binding for global variable 'cell_barcode' bc_extract_10XscSeq: no visible binding for global variable 'umi' bc_extract_10XscSeq: no visible binding for global variable 'barcode_seq' bc_2matrix,BarcodeObj: no visible binding for global variable 'barcode_seq' bc_cure_depth,BarcodeObj : <anonymous>: no visible binding for global variable 'barcode_seq' bc_cure_umi,BarcodeObj : <anonymous>: no visible binding for global variable 'barcode_seq' bc_cure_umi,BarcodeObj : <anonymous>: no visible binding for global variable 'umi_seq' bc_extract,character: no visible binding for global variable 'i' bc_extract,data.frame: no visible binding for global variable 'umi_seq' bc_extract,data.frame: no visible binding for global variable 'barcode_seq' bc_plot_seqQc,BarcodeQcSet: no visible binding for global variable 'sample_name' bc_subset,BarcodeObj : <anonymous>: no visible binding for global variable 'barcode_seq' Undefined global functions or variables: barcode_seq cell_barcode i sample_name umi umi_seq * checking Rd files ... OK * checking Rd metadata ... OK * checking Rd cross-references ... OK * checking for missing documentation entries ... OK * checking for code/documentation mismatches ... OK * checking Rd \usage sections ... OK * checking Rd contents ... OK * checking for unstated dependencies in examples ... OK * checking contents of 'data' directory ... OK * checking data for non-ASCII characters ... OK * checking data for ASCII and uncompressed saves ... OK * checking line endings in C/C++/Fortran sources/headers ... OK * checking line endings in Makefiles ... NOTE Found the following Makefile(s) without a final LF: src/Makevars Some 'make' programs ignore lines not ending in LF. * checking compilation flags in Makevars ... OK * checking for GNU extensions in Makefiles ... OK * checking for portable use of $(BLAS_LIBS) and $(LAPACK_LIBS) ... OK * checking use of PKG_*FLAGS in Makefiles ... OK * checking compiled code ... NOTE Note: information on .o files for x64 is not available File 'F:/biocbuild/bbs-3.16-bioc/R/library/CellBarcode/libs/x64/CellBarcode.dll': Found 'abort', possibly from 'abort' (C), 'runtime' (Fortran) Found 'exit', possibly from 'exit' (C), 'stop' (Fortran) Compiled code should not call entry points which might terminate R nor write to stdout/stderr instead of to the console, nor use Fortran I/O nor system RNGs. The detected symbols are linked into the code but might come from libraries and not actually be called. See 'Writing portable packages' in the 'Writing R Extensions' manual. * checking files in 'vignettes' ... OK * checking examples ... OK * checking for unstated dependencies in 'tests' ... OK * checking tests ... Running 'testthat.R' OK * checking for unstated dependencies in vignettes ... OK * checking package vignettes in 'inst/doc' ... OK * checking running R code from vignettes ... SKIPPED * checking re-building of vignette outputs ... SKIPPED * checking PDF version of manual ... OK * DONE Status: 3 NOTEs See 'F:/biocbuild/bbs-3.16-bioc/meat/CellBarcode.Rcheck/00check.log' for details.
CellBarcode.Rcheck/00install.out
##############################################################################
##############################################################################
###
### Running command:
###
### F:\biocbuild\bbs-3.16-bioc\R\bin\R.exe CMD INSTALL CellBarcode
###
##############################################################################
##############################################################################
* installing to library 'F:/biocbuild/bbs-3.16-bioc/R/library'
* installing *source* package 'CellBarcode' ...
** using staged installation
** libs
g++ -std=gnu++14 -I"F:/biocbuild/bbs-3.16-bioc/R/library/zlibbioc/include" -I"F:/biocbuild/bbs-3.16-bioc/R/include" -DNDEBUG -I'F:/biocbuild/bbs-3.16-bioc/R/library/Rcpp/include' -I'F:/biocbuild/bbs-3.16-bioc/R/library/BH/include' -I"C:/rtools42/x86_64-w64-mingw32.static.posix/include" -O2 -Wall -mfpmath=sse -msse2 -mstackrealign -c RcppExports.cpp -o RcppExports.o
g++ -std=gnu++14 -I"F:/biocbuild/bbs-3.16-bioc/R/library/zlibbioc/include" -I"F:/biocbuild/bbs-3.16-bioc/R/include" -DNDEBUG -I'F:/biocbuild/bbs-3.16-bioc/R/library/Rcpp/include' -I'F:/biocbuild/bbs-3.16-bioc/R/library/BH/include' -I"C:/rtools42/x86_64-w64-mingw32.static.posix/include" -O2 -Wall -mfpmath=sse -msse2 -mstackrealign -c lib_10X_barcode.cpp -o lib_10X_barcode.o
In file included from F:/biocbuild/bbs-3.16-bioc/R/library/BH/include/boost/mpl/aux_/na_assert.hpp:23,
from F:/biocbuild/bbs-3.16-bioc/R/library/BH/include/boost/mpl/arg.hpp:25,
from F:/biocbuild/bbs-3.16-bioc/R/library/BH/include/boost/mpl/placeholders.hpp:24,
from F:/biocbuild/bbs-3.16-bioc/R/library/BH/include/boost/iterator/iterator_categories.hpp:16,
from F:/biocbuild/bbs-3.16-bioc/R/library/BH/include/boost/iterator/iterator_facade.hpp:13,
from F:/biocbuild/bbs-3.16-bioc/R/library/BH/include/boost/range/iterator_range_core.hpp:27,
from F:/biocbuild/bbs-3.16-bioc/R/library/BH/include/boost/range/iterator_range.hpp:13,
from F:/biocbuild/bbs-3.16-bioc/R/library/BH/include/boost/range/as_literal.hpp:18,
from F:/biocbuild/bbs-3.16-bioc/R/library/BH/include/boost/algorithm/string/trim.hpp:19,
from F:/biocbuild/bbs-3.16-bioc/R/library/BH/include/boost/algorithm/string.hpp:19,
from lib_10X_barcode.cpp:8:
F:/biocbuild/bbs-3.16-bioc/R/library/BH/include/boost/mpl/assert.hpp:194:21: warning: unnecessary parentheses in declaration of 'assert_arg' [-Wparentheses]
194 | failed ************ (Pred::************
| ^
F:/biocbuild/bbs-3.16-bioc/R/library/BH/include/boost/mpl/assert.hpp:199:21: warning: unnecessary parentheses in declaration of 'assert_not_arg' [-Wparentheses]
199 | failed ************ (boost::mpl::not_<Pred>::************
| ^
In file included from F:/biocbuild/bbs-3.16-bioc/R/library/BH/include/boost/bind/mem_fn.hpp:25,
from F:/biocbuild/bbs-3.16-bioc/R/library/BH/include/boost/mem_fn.hpp:22,
from F:/biocbuild/bbs-3.16-bioc/R/library/BH/include/boost/function/detail/prologue.hpp:18,
from F:/biocbuild/bbs-3.16-bioc/R/library/BH/include/boost/function.hpp:30,
from F:/biocbuild/bbs-3.16-bioc/R/library/BH/include/boost/algorithm/string/detail/find_iterator.hpp:18,
from F:/biocbuild/bbs-3.16-bioc/R/library/BH/include/boost/algorithm/string/find_iterator.hpp:24,
from F:/biocbuild/bbs-3.16-bioc/R/library/BH/include/boost/algorithm/string/iter_find.hpp:27,
from F:/biocbuild/bbs-3.16-bioc/R/library/BH/include/boost/algorithm/string/split.hpp:16,
from F:/biocbuild/bbs-3.16-bioc/R/library/BH/include/boost/algorithm/string.hpp:23,
from lib_10X_barcode.cpp:8:
F:/biocbuild/bbs-3.16-bioc/R/library/BH/include/boost/get_pointer.hpp:48:40: warning: 'template<class> class std::auto_ptr' is deprecated [-Wdeprecated-declarations]
48 | template<class T> T * get_pointer(std::auto_ptr<T> const& p)
| ^~~~~~~~
In file included from c:\rtools42\x86_64-w64-mingw32.static.posix\lib\gcc\x86_64-w64-mingw32.static.posix\10.4.0\include\c++\bits\locale_conv.h:41,
from c:\rtools42\x86_64-w64-mingw32.static.posix\lib\gcc\x86_64-w64-mingw32.static.posix\10.4.0\include\c++\locale:43,
from F:/biocbuild/bbs-3.16-bioc/R/library/BH/include/boost/algorithm/string/classification.hpp:15,
from F:/biocbuild/bbs-3.16-bioc/R/library/BH/include/boost/algorithm/string/trim.hpp:23,
from F:/biocbuild/bbs-3.16-bioc/R/library/BH/include/boost/algorithm/string.hpp:19,
from lib_10X_barcode.cpp:8:
c:\rtools42\x86_64-w64-mingw32.static.posix\lib\gcc\x86_64-w64-mingw32.static.posix\10.4.0\include\c++\bits\unique_ptr.h:57:28: note: declared here
57 | template<typename> class auto_ptr;
| ^~~~~~~~
lib_10X_barcode.cpp: In function 'Rcpp::DataFrame parse_10x_scSeq(std::string, std::string, std::string, std::string)':
lib_10X_barcode.cpp:76:29: warning: comparison of integer expressions of different signedness: 'int' and 'std::vector<std::__cxx11::basic_string<char> >::size_type' {aka 'long long unsigned int'} [-Wsign-compare]
76 | for (int j=11; j<parts.size(); j++) {
| ~^~~~~~~~~~~~~
g++ -std=gnu++14 -I"F:/biocbuild/bbs-3.16-bioc/R/library/zlibbioc/include" -I"F:/biocbuild/bbs-3.16-bioc/R/include" -DNDEBUG -I'F:/biocbuild/bbs-3.16-bioc/R/library/Rcpp/include' -I'F:/biocbuild/bbs-3.16-bioc/R/library/BH/include' -I"C:/rtools42/x86_64-w64-mingw32.static.posix/include" -O2 -Wall -mfpmath=sse -msse2 -mstackrealign -c lib_clustering.cpp -o lib_clustering.o
lib_clustering.cpp: In function 'int hamm_dist(std::string, std::string)':
lib_clustering.cpp:59:21: warning: comparison of integer expressions of different signedness: 'int' and 'std::__cxx11::basic_string<char>::size_type' {aka 'long long unsigned int'} [-Wsign-compare]
59 | for (int i=0; i < s1.length(); i++) {
| ~~^~~~~~~~~~~~~
lib_clustering.cpp: In function 'Rcpp::List seq_correct(std::vector<std::__cxx11::basic_string<char> >, Rcpp::IntegerVector, int, int, double, int, int, int, int)':
lib_clustering.cpp:127:21: warning: comparison of integer expressions of different signedness: 'int' and 'std::vector<std::__cxx11::basic_string<char> >::size_type' {aka 'long long unsigned int'} [-Wsign-compare]
127 | for (auto i=0; i<seq.size(); i++) {
| ~^~~~~~~~~~~
lib_clustering.cpp:232:21: warning: comparison of integer expressions of different signedness: 'int' and 'std::vector<std::pair<std::__cxx11::basic_string<char>, int> >::size_type' {aka 'long long unsigned int'} [-Wsign-compare]
232 | for (auto i=0; i<res.size(); i++) {
| ~^~~~~~~~~~~
g++ -std=gnu++14 -I"F:/biocbuild/bbs-3.16-bioc/R/library/zlibbioc/include" -I"F:/biocbuild/bbs-3.16-bioc/R/include" -DNDEBUG -I'F:/biocbuild/bbs-3.16-bioc/R/library/Rcpp/include' -I'F:/biocbuild/bbs-3.16-bioc/R/library/BH/include' -I"C:/rtools42/x86_64-w64-mingw32.static.posix/include" -O2 -Wall -mfpmath=sse -msse2 -mstackrealign -c lib_read_seq.cpp -o lib_read_seq.o
g++ -std=gnu++14 -shared -s -static-libgcc -o CellBarcode.dll tmp.def RcppExports.o lib_10X_barcode.o lib_clustering.o lib_read_seq.o -LF:/biocbuild/bbs-3.16-bioc/R/library/zlibbioc/libs/x64 -lzlib1bioc -LC:/rtools42/x86_64-w64-mingw32.static.posix/lib/x64 -LC:/rtools42/x86_64-w64-mingw32.static.posix/lib -LF:/biocbuild/bbs-3.16-bioc/R/bin/x64 -lR
installing to F:/biocbuild/bbs-3.16-bioc/R/library/00LOCK-CellBarcode/00new/CellBarcode/libs/x64
** R
** data
** inst
** byte-compile and prepare package for lazy loading
** help
*** installing help indices
** building package indices
** installing vignettes
** testing if installed package can be loaded from temporary location
** testing if installed package can be loaded from final location
** testing if installed package keeps a record of temporary installation path
* DONE (CellBarcode)
CellBarcode.Rcheck/tests/testthat.Rout
R version 4.2.3 (2023-03-15 ucrt) -- "Shortstop Beagle"
Copyright (C) 2023 The R Foundation for Statistical Computing
Platform: x86_64-w64-mingw32/x64 (64-bit)
R is free software and comes with ABSOLUTELY NO WARRANTY.
You are welcome to redistribute it under certain conditions.
Type 'license()' or 'licence()' for distribution details.
R is a collaborative project with many contributors.
Type 'contributors()' for more information and
'citation()' on how to cite R or R packages in publications.
Type 'demo()' for some demos, 'help()' for on-line help, or
'help.start()' for an HTML browser interface to help.
Type 'q()' to quit R.
> library(testthat)
> library(CellBarcode)
>
> test_check("CellBarcode")
------------
bc_cure_depth: isUpdate is FALSE, use messyBc as input.
------------
------------
bc_cure_depth: isUpdate is TRUE, update the cleanBc.
------------
------------
bc_cure_depth: isUpdate is FALSE, use messyBc as input.
------------
Loading required package: BiocGenerics
Attaching package: 'BiocGenerics'
The following objects are masked from 'package:stats':
IQR, mad, sd, var, xtabs
The following objects are masked from 'package:base':
Filter, Find, Map, Position, Reduce, anyDuplicated, aperm, append,
as.data.frame, basename, cbind, colnames, dirname, do.call,
duplicated, eval, evalq, get, grep, grepl, intersect, is.unsorted,
lapply, mapply, match, mget, order, paste, pmax, pmax.int, pmin,
pmin.int, rank, rbind, rownames, sapply, setdiff, sort, table,
tapply, union, unique, unsplit, which.max, which.min
Loading required package: BiocParallel
Loading required package: Biostrings
Loading required package: S4Vectors
Loading required package: stats4
Attaching package: 'S4Vectors'
The following objects are masked from 'package:base':
I, expand.grid, unname
Loading required package: IRanges
Attaching package: 'IRanges'
The following object is masked from 'package:grDevices':
windows
Loading required package: XVector
Loading required package: GenomeInfoDb
Attaching package: 'Biostrings'
The following object is masked from 'package:base':
strsplit
Loading required package: Rsamtools
Loading required package: GenomicRanges
Loading required package: GenomicAlignments
Loading required package: SummarizedExperiment
Loading required package: MatrixGenerics
Loading required package: matrixStats
Attaching package: 'MatrixGenerics'
The following objects are masked from 'package:matrixStats':
colAlls, colAnyNAs, colAnys, colAvgsPerRowSet, colCollapse,
colCounts, colCummaxs, colCummins, colCumprods, colCumsums,
colDiffs, colIQRDiffs, colIQRs, colLogSumExps, colMadDiffs,
colMads, colMaxs, colMeans2, colMedians, colMins, colOrderStats,
colProds, colQuantiles, colRanges, colRanks, colSdDiffs, colSds,
colSums2, colTabulates, colVarDiffs, colVars, colWeightedMads,
colWeightedMeans, colWeightedMedians, colWeightedSds,
colWeightedVars, rowAlls, rowAnyNAs, rowAnys, rowAvgsPerColSet,
rowCollapse, rowCounts, rowCummaxs, rowCummins, rowCumprods,
rowCumsums, rowDiffs, rowIQRDiffs, rowIQRs, rowLogSumExps,
rowMadDiffs, rowMads, rowMaxs, rowMeans2, rowMedians, rowMins,
rowOrderStats, rowProds, rowQuantiles, rowRanges, rowRanks,
rowSdDiffs, rowSds, rowSums2, rowTabulates, rowVarDiffs, rowVars,
rowWeightedMads, rowWeightedMeans, rowWeightedMedians,
rowWeightedSds, rowWeightedVars
Loading required package: Biobase
Welcome to Bioconductor
Vignettes contain introductory material; view with
'browseVignettes()'. To cite Bioconductor, see
'citation("Biobase")', and for packages 'citation("pkgname")'.
Attaching package: 'Biobase'
The following object is masked from 'package:MatrixGenerics':
rowMedians
The following objects are masked from 'package:matrixStats':
anyMissing, rowMedians
------------
bc_cure_depth: isUpdate is TRUE, update the cleanBc.
------------
------------
bc_cure_depth: isUpdate is TRUE, update the cleanBc.
------------
------------
bc_cure_depth: isUpdate is TRUE, update the cleanBc.
------------
------------
bc_cure_depth: isUpdate is TRUE, update the cleanBc.
------------
------------
bc_cure_depth: isUpdate is TRUE, update the cleanBc.
------------
------------
bc_cure_depth: isUpdate is TRUE, update the cleanBc.
------------
------------
bc_cure_depth: isUpdate is TRUE, update the cleanBc.
------------
------------
bc_cure_depth: isUpdate is TRUE, update the cleanBc.
------------
[ FAIL 0 | WARN 0 | SKIP 3 | PASS 35 ]
══ Skipped tests ═══════════════════════════════════════════════════════════════
• On CRAN (3)
[ FAIL 0 | WARN 0 | SKIP 3 | PASS 35 ]
>
> proc.time()
user system elapsed
11.96 0.71 12.70
CellBarcode.Rcheck/CellBarcode-Ex.timings
| name | user | system | elapsed | |
| BarcodeObj | 0.44 | 0.01 | 0.46 | |
| bc_2df | 0.02 | 0.00 | 0.02 | |
| bc_auto_cutoff | 0 | 0 | 0 | |
| bc_barcodes | 0.00 | 0.02 | 0.02 | |
| bc_cleanBc | 0 | 0 | 0 | |
| bc_cure_cluster | 0.05 | 0.00 | 0.04 | |
| bc_cure_depth | 0.03 | 0.00 | 0.04 | |
| bc_cure_umi | 0.03 | 0.00 | 0.03 | |
| bc_extract | 0.34 | 0.04 | 0.39 | |
| bc_extract_10X_scSeq | 0.00 | 0.02 | 0.01 | |
| bc_messyBc | 0 | 0 | 0 | |
| bc_meta | 0.02 | 0.00 | 0.02 | |
| bc_names | 0 | 0 | 0 | |
| bc_plot_mutual | 1.03 | 0.02 | 1.05 | |
| bc_plot_pair | 0.2 | 0.0 | 0.2 | |
| bc_plot_single | 0.49 | 0.09 | 0.58 | |
| bc_seq_filter | 0.47 | 0.02 | 0.48 | |
| bc_seq_qc | 2.09 | 0.07 | 2.17 | |
| bc_splitVDJ | 0.99 | 0.02 | 1.00 | |
| bc_subset | 0.15 | 0.00 | 0.16 | |
| bc_summary_barcode | 0.42 | 0.03 | 0.45 | |
| bc_summary_seqQc | 3.92 | 0.00 | 4.00 | |
| format | 0 | 0 | 0 | |
| show | 0.00 | 0.02 | 0.01 | |
| subset | 3.06 | 0.06 | 3.13 | |