| Back to Multiple platform build/check report for BioC 3.16: simplified long |
|
This page was generated on 2023-04-12 11:05:00 -0400 (Wed, 12 Apr 2023).
| Hostname | OS | Arch (*) | R version | Installed pkgs |
|---|---|---|---|---|
| nebbiolo2 | Linux (Ubuntu 20.04.5 LTS) | x86_64 | 4.2.3 (2023-03-15) -- "Shortstop Beagle" | 4502 |
| palomino4 | Windows Server 2022 Datacenter | x64 | 4.2.3 (2023-03-15 ucrt) -- "Shortstop Beagle" | 4282 |
| lconway | macOS 12.5.1 Monterey | x86_64 | 4.2.3 (2023-03-15) -- "Shortstop Beagle" | 4310 |
| Click on any hostname to see more info about the system (e.g. compilers) (*) as reported by 'uname -p', except on Windows and Mac OS X | ||||
|
To the developers/maintainers of the CellBarcode package: - Please allow up to 24 hours (and sometimes 48 hours) for your latest push to git@git.bioconductor.org:packages/CellBarcode.git to reflect on this report. See How and When does the builder pull? When will my changes propagate? for more information. - Make sure to use the following settings in order to reproduce any error or warning you see on this page. |
| Package 273/2183 | Hostname | OS / Arch | INSTALL | BUILD | CHECK | BUILD BIN | ||||||||
| CellBarcode 1.4.0 (landing page) Wenjie Sun
| nebbiolo2 | Linux (Ubuntu 20.04.5 LTS) / x86_64 | OK | OK | OK | |||||||||
| palomino4 | Windows Server 2022 Datacenter / x64 | OK | OK | OK | OK | |||||||||
| lconway | macOS 12.5.1 Monterey / x86_64 | OK | OK | OK | OK | |||||||||
| Package: CellBarcode |
| Version: 1.4.0 |
| Command: /home/biocbuild/bbs-3.16-bioc/R/bin/R CMD check --install=check:CellBarcode.install-out.txt --library=/home/biocbuild/bbs-3.16-bioc/R/site-library --timings CellBarcode_1.4.0.tar.gz |
| StartedAt: 2023-04-10 19:34:15 -0400 (Mon, 10 Apr 2023) |
| EndedAt: 2023-04-10 19:38:54 -0400 (Mon, 10 Apr 2023) |
| EllapsedTime: 278.9 seconds |
| RetCode: 0 |
| Status: OK |
| CheckDir: CellBarcode.Rcheck |
| Warnings: 0 |
##############################################################################
##############################################################################
###
### Running command:
###
### /home/biocbuild/bbs-3.16-bioc/R/bin/R CMD check --install=check:CellBarcode.install-out.txt --library=/home/biocbuild/bbs-3.16-bioc/R/site-library --timings CellBarcode_1.4.0.tar.gz
###
##############################################################################
##############################################################################
* using log directory ‘/home/biocbuild/bbs-3.16-bioc/meat/CellBarcode.Rcheck’
* using R version 4.2.3 (2023-03-15)
* using platform: x86_64-pc-linux-gnu (64-bit)
* using session charset: UTF-8
* checking for file ‘CellBarcode/DESCRIPTION’ ... OK
* checking extension type ... Package
* this is package ‘CellBarcode’ version ‘1.4.0’
* package encoding: UTF-8
* checking package namespace information ... OK
* checking package dependencies ... OK
* checking if this is a source package ... OK
* checking if there is a namespace ... OK
* checking for hidden files and directories ... OK
* checking for portable file names ... OK
* checking for sufficient/correct file permissions ... OK
* checking whether package ‘CellBarcode’ can be installed ... OK
* checking installed package size ... NOTE
installed size is 9.2Mb
sub-directories of 1Mb or more:
extdata 1.5Mb
libs 7.0Mb
* checking package directory ... OK
* checking ‘build’ directory ... OK
* checking DESCRIPTION meta-information ... OK
* checking top-level files ... OK
* checking for left-over files ... OK
* checking index information ... OK
* checking package subdirectories ... OK
* checking R files for non-ASCII characters ... OK
* checking R files for syntax errors ... OK
* checking whether the package can be loaded ... OK
* checking whether the package can be loaded with stated dependencies ... OK
* checking whether the package can be unloaded cleanly ... OK
* checking whether the namespace can be loaded with stated dependencies ... OK
* checking whether the namespace can be unloaded cleanly ... OK
* checking loading without being on the library search path ... OK
* checking dependencies in R code ... OK
* checking S3 generic/method consistency ... OK
* checking replacement functions ... OK
* checking foreign function calls ... OK
* checking R code for possible problems ... NOTE
bc_extract_10XscSeq: no visible binding for global variable
‘cell_barcode’
bc_extract_10XscSeq: no visible binding for global variable ‘umi’
bc_extract_10XscSeq: no visible binding for global variable
‘barcode_seq’
bc_2matrix,BarcodeObj: no visible binding for global variable
‘barcode_seq’
bc_cure_depth,BarcodeObj : <anonymous>: no visible binding for global
variable ‘barcode_seq’
bc_cure_umi,BarcodeObj : <anonymous>: no visible binding for global
variable ‘barcode_seq’
bc_cure_umi,BarcodeObj : <anonymous>: no visible binding for global
variable ‘umi_seq’
bc_extract,character: no visible binding for global variable ‘i’
bc_extract,data.frame: no visible binding for global variable ‘umi_seq’
bc_extract,data.frame: no visible binding for global variable
‘barcode_seq’
bc_plot_seqQc,BarcodeQcSet: no visible binding for global variable
‘sample_name’
bc_subset,BarcodeObj : <anonymous>: no visible binding for global
variable ‘barcode_seq’
Undefined global functions or variables:
barcode_seq cell_barcode i sample_name umi umi_seq
* checking Rd files ... OK
* checking Rd metadata ... OK
* checking Rd cross-references ... OK
* checking for missing documentation entries ... OK
* checking for code/documentation mismatches ... OK
* checking Rd \usage sections ... OK
* checking Rd contents ... OK
* checking for unstated dependencies in examples ... OK
* checking contents of ‘data’ directory ... OK
* checking data for non-ASCII characters ... OK
* checking data for ASCII and uncompressed saves ... OK
* checking line endings in C/C++/Fortran sources/headers ... OK
* checking line endings in Makefiles ... NOTE
Found the following Makefile(s) without a final LF:
src/Makevars
Some ‘make’ programs ignore lines not ending in LF.
* checking compilation flags in Makevars ... OK
* checking for GNU extensions in Makefiles ... OK
* checking for portable use of $(BLAS_LIBS) and $(LAPACK_LIBS) ... OK
* checking use of PKG_*FLAGS in Makefiles ... OK
* checking compiled code ... NOTE
Note: information on .o files is not available
* checking files in ‘vignettes’ ... OK
* checking examples ... OK
* checking for unstated dependencies in ‘tests’ ... OK
* checking tests ...
Running ‘testthat.R’
OK
* checking for unstated dependencies in vignettes ... OK
* checking package vignettes in ‘inst/doc’ ... OK
* checking running R code from vignettes ...
‘Barcode_in_10X_scRNASeq.Rmd’ using ‘UTF-8’... OK
‘UMI_VDJ_Barcode.Rmd’ using ‘UTF-8’... OK
NONE
* checking re-building of vignette outputs ... OK
* checking PDF version of manual ... OK
* DONE
Status: 4 NOTEs
See
‘/home/biocbuild/bbs-3.16-bioc/meat/CellBarcode.Rcheck/00check.log’
for details.
CellBarcode.Rcheck/00install.out
##############################################################################
##############################################################################
###
### Running command:
###
### /home/biocbuild/bbs-3.16-bioc/R/bin/R CMD INSTALL CellBarcode
###
##############################################################################
##############################################################################
* installing to library ‘/home/biocbuild/bbs-3.16-bioc/R/site-library’
* installing *source* package ‘CellBarcode’ ...
** using staged installation
** libs
g++ -std=gnu++14 -I"/home/biocbuild/bbs-3.16-bioc/R/include" -DNDEBUG -I'/home/biocbuild/bbs-3.16-bioc/R/site-library/Rcpp/include' -I'/home/biocbuild/bbs-3.16-bioc/R/site-library/BH/include' -I/usr/local/include -fpic -g -O2 -Wall -c RcppExports.cpp -o RcppExports.o
g++ -std=gnu++14 -I"/home/biocbuild/bbs-3.16-bioc/R/include" -DNDEBUG -I'/home/biocbuild/bbs-3.16-bioc/R/site-library/Rcpp/include' -I'/home/biocbuild/bbs-3.16-bioc/R/site-library/BH/include' -I/usr/local/include -fpic -g -O2 -Wall -c lib_10X_barcode.cpp -o lib_10X_barcode.o
In file included from /home/biocbuild/bbs-3.16-bioc/R/site-library/BH/include/boost/mpl/aux_/na_assert.hpp:23,
from /home/biocbuild/bbs-3.16-bioc/R/site-library/BH/include/boost/mpl/arg.hpp:25,
from /home/biocbuild/bbs-3.16-bioc/R/site-library/BH/include/boost/mpl/placeholders.hpp:24,
from /home/biocbuild/bbs-3.16-bioc/R/site-library/BH/include/boost/iterator/iterator_categories.hpp:16,
from /home/biocbuild/bbs-3.16-bioc/R/site-library/BH/include/boost/iterator/iterator_facade.hpp:13,
from /home/biocbuild/bbs-3.16-bioc/R/site-library/BH/include/boost/range/iterator_range_core.hpp:27,
from /home/biocbuild/bbs-3.16-bioc/R/site-library/BH/include/boost/range/iterator_range.hpp:13,
from /home/biocbuild/bbs-3.16-bioc/R/site-library/BH/include/boost/range/as_literal.hpp:18,
from /home/biocbuild/bbs-3.16-bioc/R/site-library/BH/include/boost/algorithm/string/trim.hpp:19,
from /home/biocbuild/bbs-3.16-bioc/R/site-library/BH/include/boost/algorithm/string.hpp:19,
from lib_10X_barcode.cpp:8:
/home/biocbuild/bbs-3.16-bioc/R/site-library/BH/include/boost/mpl/assert.hpp:194:21: warning: unnecessary parentheses in declaration of ‘assert_arg’ [-Wparentheses]
194 | failed ************ (Pred::************
| ^
/home/biocbuild/bbs-3.16-bioc/R/site-library/BH/include/boost/mpl/assert.hpp:199:21: warning: unnecessary parentheses in declaration of ‘assert_not_arg’ [-Wparentheses]
199 | failed ************ (boost::mpl::not_<Pred>::************
| ^
In file included from /home/biocbuild/bbs-3.16-bioc/R/site-library/BH/include/boost/bind/mem_fn.hpp:25,
from /home/biocbuild/bbs-3.16-bioc/R/site-library/BH/include/boost/mem_fn.hpp:22,
from /home/biocbuild/bbs-3.16-bioc/R/site-library/BH/include/boost/function/detail/prologue.hpp:18,
from /home/biocbuild/bbs-3.16-bioc/R/site-library/BH/include/boost/function.hpp:30,
from /home/biocbuild/bbs-3.16-bioc/R/site-library/BH/include/boost/algorithm/string/detail/find_iterator.hpp:18,
from /home/biocbuild/bbs-3.16-bioc/R/site-library/BH/include/boost/algorithm/string/find_iterator.hpp:24,
from /home/biocbuild/bbs-3.16-bioc/R/site-library/BH/include/boost/algorithm/string/iter_find.hpp:27,
from /home/biocbuild/bbs-3.16-bioc/R/site-library/BH/include/boost/algorithm/string/split.hpp:16,
from /home/biocbuild/bbs-3.16-bioc/R/site-library/BH/include/boost/algorithm/string.hpp:23,
from lib_10X_barcode.cpp:8:
/home/biocbuild/bbs-3.16-bioc/R/site-library/BH/include/boost/get_pointer.hpp:48:40: warning: ‘template<class> class std::auto_ptr’ is deprecated [-Wdeprecated-declarations]
48 | template<class T> T * get_pointer(std::auto_ptr<T> const& p)
| ^~~~~~~~
In file included from /usr/include/c++/9/bits/locale_conv.h:41,
from /usr/include/c++/9/locale:43,
from /home/biocbuild/bbs-3.16-bioc/R/site-library/BH/include/boost/algorithm/string/classification.hpp:15,
from /home/biocbuild/bbs-3.16-bioc/R/site-library/BH/include/boost/algorithm/string/trim.hpp:23,
from /home/biocbuild/bbs-3.16-bioc/R/site-library/BH/include/boost/algorithm/string.hpp:19,
from lib_10X_barcode.cpp:8:
/usr/include/c++/9/bits/unique_ptr.h:53:28: note: declared here
53 | template<typename> class auto_ptr;
| ^~~~~~~~
lib_10X_barcode.cpp: In function ‘Rcpp::DataFrame parse_10x_scSeq(std::string, std::string, std::string, std::string)’:
lib_10X_barcode.cpp:76:29: warning: comparison of integer expressions of different signedness: ‘int’ and ‘std::vector<std::__cxx11::basic_string<char> >::size_type’ {aka ‘long unsigned int’} [-Wsign-compare]
76 | for (int j=11; j<parts.size(); j++) {
| ~^~~~~~~~~~~~~
g++ -std=gnu++14 -I"/home/biocbuild/bbs-3.16-bioc/R/include" -DNDEBUG -I'/home/biocbuild/bbs-3.16-bioc/R/site-library/Rcpp/include' -I'/home/biocbuild/bbs-3.16-bioc/R/site-library/BH/include' -I/usr/local/include -fpic -g -O2 -Wall -c lib_clustering.cpp -o lib_clustering.o
lib_clustering.cpp: In function ‘int hamm_dist(std::string, std::string)’:
lib_clustering.cpp:59:21: warning: comparison of integer expressions of different signedness: ‘int’ and ‘std::__cxx11::basic_string<char>::size_type’ {aka ‘long unsigned int’} [-Wsign-compare]
59 | for (int i=0; i < s1.length(); i++) {
| ~~^~~~~~~~~~~~~
lib_clustering.cpp: In function ‘Rcpp::List seq_correct(std::vector<std::__cxx11::basic_string<char> >, Rcpp::IntegerVector, int, int, double, int, int, int, int)’:
lib_clustering.cpp:127:21: warning: comparison of integer expressions of different signedness: ‘int’ and ‘std::vector<std::__cxx11::basic_string<char> >::size_type’ {aka ‘long unsigned int’} [-Wsign-compare]
127 | for (auto i=0; i<seq.size(); i++) {
| ~^~~~~~~~~~~
lib_clustering.cpp:232:21: warning: comparison of integer expressions of different signedness: ‘int’ and ‘std::vector<std::pair<std::__cxx11::basic_string<char>, int> >::size_type’ {aka ‘long unsigned int’} [-Wsign-compare]
232 | for (auto i=0; i<res.size(); i++) {
| ~^~~~~~~~~~~
g++ -std=gnu++14 -I"/home/biocbuild/bbs-3.16-bioc/R/include" -DNDEBUG -I'/home/biocbuild/bbs-3.16-bioc/R/site-library/Rcpp/include' -I'/home/biocbuild/bbs-3.16-bioc/R/site-library/BH/include' -I/usr/local/include -fpic -g -O2 -Wall -c lib_read_seq.cpp -o lib_read_seq.o
g++ -std=gnu++14 -shared -L/home/biocbuild/bbs-3.16-bioc/R/lib -L/usr/local/lib -o CellBarcode.so RcppExports.o lib_10X_barcode.o lib_clustering.o lib_read_seq.o -L/home/biocbuild/bbs-3.16-bioc/R/lib -lR
installing to /home/biocbuild/bbs-3.16-bioc/R/site-library/00LOCK-CellBarcode/00new/CellBarcode/libs
** R
** data
** inst
** byte-compile and prepare package for lazy loading
** help
*** installing help indices
** building package indices
** installing vignettes
** testing if installed package can be loaded from temporary location
** checking absolute paths in shared objects and dynamic libraries
** testing if installed package can be loaded from final location
** testing if installed package keeps a record of temporary installation path
* DONE (CellBarcode)
CellBarcode.Rcheck/tests/testthat.Rout
R version 4.2.3 (2023-03-15) -- "Shortstop Beagle"
Copyright (C) 2023 The R Foundation for Statistical Computing
Platform: x86_64-pc-linux-gnu (64-bit)
R is free software and comes with ABSOLUTELY NO WARRANTY.
You are welcome to redistribute it under certain conditions.
Type 'license()' or 'licence()' for distribution details.
R is a collaborative project with many contributors.
Type 'contributors()' for more information and
'citation()' on how to cite R or R packages in publications.
Type 'demo()' for some demos, 'help()' for on-line help, or
'help.start()' for an HTML browser interface to help.
Type 'q()' to quit R.
> library(testthat)
> library(CellBarcode)
>
> test_check("CellBarcode")
------------
bc_cure_depth: isUpdate is FALSE, use messyBc as input.
------------
------------
bc_cure_depth: isUpdate is TRUE, update the cleanBc.
------------
------------
bc_cure_depth: isUpdate is FALSE, use messyBc as input.
------------
Loading required package: BiocGenerics
Attaching package: 'BiocGenerics'
The following objects are masked from 'package:stats':
IQR, mad, sd, var, xtabs
The following objects are masked from 'package:base':
Filter, Find, Map, Position, Reduce, anyDuplicated, aperm, append,
as.data.frame, basename, cbind, colnames, dirname, do.call,
duplicated, eval, evalq, get, grep, grepl, intersect, is.unsorted,
lapply, mapply, match, mget, order, paste, pmax, pmax.int, pmin,
pmin.int, rank, rbind, rownames, sapply, setdiff, sort, table,
tapply, union, unique, unsplit, which.max, which.min
Loading required package: BiocParallel
Loading required package: Biostrings
Loading required package: S4Vectors
Loading required package: stats4
Attaching package: 'S4Vectors'
The following objects are masked from 'package:base':
I, expand.grid, unname
Loading required package: IRanges
Loading required package: XVector
Loading required package: GenomeInfoDb
Attaching package: 'Biostrings'
The following object is masked from 'package:base':
strsplit
Loading required package: Rsamtools
Loading required package: GenomicRanges
Loading required package: GenomicAlignments
Loading required package: SummarizedExperiment
Loading required package: MatrixGenerics
Loading required package: matrixStats
Attaching package: 'MatrixGenerics'
The following objects are masked from 'package:matrixStats':
colAlls, colAnyNAs, colAnys, colAvgsPerRowSet, colCollapse,
colCounts, colCummaxs, colCummins, colCumprods, colCumsums,
colDiffs, colIQRDiffs, colIQRs, colLogSumExps, colMadDiffs,
colMads, colMaxs, colMeans2, colMedians, colMins, colOrderStats,
colProds, colQuantiles, colRanges, colRanks, colSdDiffs, colSds,
colSums2, colTabulates, colVarDiffs, colVars, colWeightedMads,
colWeightedMeans, colWeightedMedians, colWeightedSds,
colWeightedVars, rowAlls, rowAnyNAs, rowAnys, rowAvgsPerColSet,
rowCollapse, rowCounts, rowCummaxs, rowCummins, rowCumprods,
rowCumsums, rowDiffs, rowIQRDiffs, rowIQRs, rowLogSumExps,
rowMadDiffs, rowMads, rowMaxs, rowMeans2, rowMedians, rowMins,
rowOrderStats, rowProds, rowQuantiles, rowRanges, rowRanks,
rowSdDiffs, rowSds, rowSums2, rowTabulates, rowVarDiffs, rowVars,
rowWeightedMads, rowWeightedMeans, rowWeightedMedians,
rowWeightedSds, rowWeightedVars
Loading required package: Biobase
Welcome to Bioconductor
Vignettes contain introductory material; view with
'browseVignettes()'. To cite Bioconductor, see
'citation("Biobase")', and for packages 'citation("pkgname")'.
Attaching package: 'Biobase'
The following object is masked from 'package:MatrixGenerics':
rowMedians
The following objects are masked from 'package:matrixStats':
anyMissing, rowMedians
------------
bc_cure_depth: isUpdate is TRUE, update the cleanBc.
------------
------------
bc_cure_depth: isUpdate is TRUE, update the cleanBc.
------------
------------
bc_cure_depth: isUpdate is TRUE, update the cleanBc.
------------
------------
bc_cure_depth: isUpdate is TRUE, update the cleanBc.
------------
------------
bc_cure_depth: isUpdate is TRUE, update the cleanBc.
------------
------------
bc_cure_depth: isUpdate is TRUE, update the cleanBc.
------------
------------
bc_cure_depth: isUpdate is TRUE, update the cleanBc.
------------
------------
bc_cure_depth: isUpdate is TRUE, update the cleanBc.
------------
[ FAIL 0 | WARN 0 | SKIP 3 | PASS 35 ]
══ Skipped tests ═══════════════════════════════════════════════════════════════
• On CRAN (3)
[ FAIL 0 | WARN 0 | SKIP 3 | PASS 35 ]
>
> proc.time()
user system elapsed
11.687 0.666 12.187
CellBarcode.Rcheck/CellBarcode-Ex.timings
| name | user | system | elapsed | |
| BarcodeObj | 1.092 | 0.012 | 1.084 | |
| bc_2df | 0.022 | 0.000 | 0.013 | |
| bc_auto_cutoff | 0.000 | 0.003 | 0.003 | |
| bc_barcodes | 0.001 | 0.001 | 0.001 | |
| bc_cleanBc | 0.004 | 0.000 | 0.004 | |
| bc_cure_cluster | 0.052 | 0.000 | 0.042 | |
| bc_cure_depth | 0.035 | 0.000 | 0.020 | |
| bc_cure_umi | 0.023 | 0.000 | 0.012 | |
| bc_extract | 0.354 | 0.008 | 0.356 | |
| bc_extract_10X_scSeq | 0.005 | 0.000 | 0.006 | |
| bc_messyBc | 0.011 | 0.000 | 0.004 | |
| bc_meta | 0.004 | 0.000 | 0.004 | |
| bc_names | 0.001 | 0.000 | 0.001 | |
| bc_plot_mutual | 0.300 | 0.024 | 0.323 | |
| bc_plot_pair | 0.192 | 0.000 | 0.192 | |
| bc_plot_single | 0.430 | 0.032 | 0.462 | |
| bc_seq_filter | 0.397 | 0.040 | 0.438 | |
| bc_seq_qc | 2.172 | 0.004 | 2.177 | |
| bc_splitVDJ | 0.755 | 0.008 | 0.764 | |
| bc_subset | 0.12 | 0.00 | 0.10 | |
| bc_summary_barcode | 0.417 | 0.000 | 0.407 | |
| bc_summary_seqQc | 3.278 | 0.008 | 3.288 | |
| format | 0.003 | 0.000 | 0.002 | |
| show | 0.003 | 0.000 | 0.003 | |
| subset | 3.249 | 0.008 | 3.257 | |