| Back to Multiple platform build/check report for BioC 3.16: simplified long |
|
This page was generated on 2023-04-12 11:05:00 -0400 (Wed, 12 Apr 2023).
| Hostname | OS | Arch (*) | R version | Installed pkgs |
|---|---|---|---|---|
| nebbiolo2 | Linux (Ubuntu 20.04.5 LTS) | x86_64 | 4.2.3 (2023-03-15) -- "Shortstop Beagle" | 4502 |
| palomino4 | Windows Server 2022 Datacenter | x64 | 4.2.3 (2023-03-15 ucrt) -- "Shortstop Beagle" | 4282 |
| lconway | macOS 12.5.1 Monterey | x86_64 | 4.2.3 (2023-03-15) -- "Shortstop Beagle" | 4310 |
| Click on any hostname to see more info about the system (e.g. compilers) (*) as reported by 'uname -p', except on Windows and Mac OS X | ||||
|
To the developers/maintainers of the CAGEfightR package: - Please allow up to 24 hours (and sometimes 48 hours) for your latest push to git@git.bioconductor.org:packages/CAGEfightR.git to reflect on this report. See How and When does the builder pull? When will my changes propagate? for more information. - Make sure to use the following settings in order to reproduce any error or warning you see on this page. |
| Package 244/2183 | Hostname | OS / Arch | INSTALL | BUILD | CHECK | BUILD BIN | ||||||||
| CAGEfightR 1.18.0 (landing page) Malte Thodberg
| nebbiolo2 | Linux (Ubuntu 20.04.5 LTS) / x86_64 | OK | OK | OK | |||||||||
| palomino4 | Windows Server 2022 Datacenter / x64 | OK | OK | OK | OK | |||||||||
| lconway | macOS 12.5.1 Monterey / x86_64 | OK | OK | OK | OK | |||||||||
| Package: CAGEfightR |
| Version: 1.18.0 |
| Command: /home/biocbuild/bbs-3.16-bioc/R/bin/R CMD check --install=check:CAGEfightR.install-out.txt --library=/home/biocbuild/bbs-3.16-bioc/R/site-library --timings CAGEfightR_1.18.0.tar.gz |
| StartedAt: 2023-04-10 19:28:24 -0400 (Mon, 10 Apr 2023) |
| EndedAt: 2023-04-10 19:36:24 -0400 (Mon, 10 Apr 2023) |
| EllapsedTime: 480.0 seconds |
| RetCode: 0 |
| Status: OK |
| CheckDir: CAGEfightR.Rcheck |
| Warnings: 0 |
##############################################################################
##############################################################################
###
### Running command:
###
### /home/biocbuild/bbs-3.16-bioc/R/bin/R CMD check --install=check:CAGEfightR.install-out.txt --library=/home/biocbuild/bbs-3.16-bioc/R/site-library --timings CAGEfightR_1.18.0.tar.gz
###
##############################################################################
##############################################################################
* using log directory ‘/home/biocbuild/bbs-3.16-bioc/meat/CAGEfightR.Rcheck’
* using R version 4.2.3 (2023-03-15)
* using platform: x86_64-pc-linux-gnu (64-bit)
* using session charset: UTF-8
* checking for file ‘CAGEfightR/DESCRIPTION’ ... OK
* checking extension type ... Package
* this is package ‘CAGEfightR’ version ‘1.18.0’
* package encoding: UTF-8
* checking package namespace information ... OK
* checking package dependencies ... OK
* checking if this is a source package ... OK
* checking if there is a namespace ... OK
* checking for hidden files and directories ... OK
* checking for portable file names ... OK
* checking for sufficient/correct file permissions ... OK
* checking whether package ‘CAGEfightR’ can be installed ... OK
* checking installed package size ... OK
* checking package directory ... OK
* checking ‘build’ directory ... OK
* checking DESCRIPTION meta-information ... OK
* checking top-level files ... OK
* checking for left-over files ... OK
* checking index information ... OK
* checking package subdirectories ... OK
* checking R files for non-ASCII characters ... OK
* checking R files for syntax errors ... OK
* checking whether the package can be loaded ... OK
* checking whether the package can be loaded with stated dependencies ... OK
* checking whether the package can be unloaded cleanly ... OK
* checking whether the namespace can be loaded with stated dependencies ... OK
* checking whether the namespace can be unloaded cleanly ... OK
* checking loading without being on the library search path ... OK
* checking dependencies in R code ... OK
* checking S3 generic/method consistency ... OK
* checking replacement functions ... OK
* checking foreign function calls ... OK
* checking R code for possible problems ... OK
* checking Rd files ... OK
* checking Rd metadata ... OK
* checking Rd cross-references ... OK
* checking for missing documentation entries ... OK
* checking for code/documentation mismatches ... OK
* checking Rd \usage sections ... OK
* checking Rd contents ... OK
* checking for unstated dependencies in examples ... OK
* checking contents of ‘data’ directory ... OK
* checking data for non-ASCII characters ... OK
* checking LazyData ... OK
* checking data for ASCII and uncompressed saves ... OK
* checking files in ‘vignettes’ ... OK
* checking examples ... OK
Examples with CPU (user + system) or elapsed time > 5s
user system elapsed
findLinks 5.39 1.143 5.451
* checking for unstated dependencies in vignettes ... OK
* checking package vignettes in ‘inst/doc’ ... OK
* checking running R code from vignettes ...
‘Introduction_to_CAGEfightR.Rmd’ using ‘UTF-8’... OK
NONE
* checking re-building of vignette outputs ... OK
* checking PDF version of manual ... OK
* DONE
Status: OK
CAGEfightR.Rcheck/00install.out
############################################################################## ############################################################################## ### ### Running command: ### ### /home/biocbuild/bbs-3.16-bioc/R/bin/R CMD INSTALL CAGEfightR ### ############################################################################## ############################################################################## * installing to library ‘/home/biocbuild/bbs-3.16-bioc/R/site-library’ * installing *source* package ‘CAGEfightR’ ... ** using staged installation ** R ** data *** moving datasets to lazyload DB ** inst ** byte-compile and prepare package for lazy loading ** help *** installing help indices ** building package indices ** installing vignettes ** testing if installed package can be loaded from temporary location ** testing if installed package can be loaded from final location ** testing if installed package keeps a record of temporary installation path * DONE (CAGEfightR)
CAGEfightR.Rcheck/CAGEfightR-Ex.timings
| name | user | system | elapsed | |
| assignGeneID | 4.035 | 0.160 | 4.196 | |
| assignMissingID | 1.058 | 0.016 | 1.073 | |
| assignTxID | 0.816 | 0.040 | 0.855 | |
| assignTxType | 0 | 0 | 0 | |
| balanceBC | 0.000 | 0.000 | 0.001 | |
| balanceD | 0.000 | 0.000 | 0.001 | |
| bwCommonGenome | 0.033 | 0.000 | 0.034 | |
| bwGenomeCompatibility | 0.015 | 0.000 | 0.015 | |
| bwValid | 0.006 | 0.000 | 0.007 | |
| calcBidirectionality | 0.372 | 0.008 | 0.380 | |
| calcComposition | 2.378 | 0.076 | 2.453 | |
| calcPooled | 0.095 | 0.000 | 0.094 | |
| calcShape | 2.166 | 0.112 | 2.278 | |
| calcSupport | 0.107 | 0.000 | 0.107 | |
| calcTPM | 0.119 | 0.004 | 0.123 | |
| calcTotalTags | 0.065 | 0.000 | 0.065 | |
| checkCTSSs | 0.240 | 0.020 | 0.261 | |
| checkPeaked | 0.062 | 0.000 | 0.062 | |
| checkPooled | 0.051 | 0.000 | 0.050 | |
| clusterBidirectionally | 0 | 0 | 0 | |
| clusterUnidirectionally | 1.258 | 0.040 | 1.298 | |
| combineClusters | 0.778 | 0.020 | 0.797 | |
| convertBAM2BigWig | 0 | 0 | 0 | |
| convertBED2BigWig | 0.001 | 0.000 | 0.000 | |
| convertGRanges2GPos | 0.074 | 0.000 | 0.074 | |
| exampleDesign | 0.005 | 0.000 | 0.004 | |
| findLinks | 5.390 | 1.143 | 5.451 | |
| findStretches | 0.376 | 0.044 | 0.420 | |
| quantifyCTSSs | 0.001 | 0.000 | 0.000 | |
| quantifyCTSSs2 | 0 | 0 | 0 | |
| quantifyClusters | 0.422 | 0.032 | 0.454 | |
| quantifyGenes | 1.193 | 0.052 | 1.245 | |
| quickEnhancers | 0 | 0 | 0 | |
| quickGenes | 0 | 0 | 0 | |
| quickTSSs | 0 | 0 | 0 | |
| shapeEntropy | 0 | 0 | 0 | |
| shapeIQR | 0 | 0 | 0 | |
| shapeMean | 0.001 | 0.000 | 0.001 | |
| shapeMultimodality | 0 | 0 | 0 | |
| subsetByBidirectionality | 0.362 | 0.024 | 0.386 | |
| subsetByComposition | 1.127 | 0.011 | 1.137 | |
| subsetBySupport | 0.064 | 0.004 | 0.068 | |
| swapRanges | 0.181 | 0.004 | 0.185 | |
| swapScores | 0.106 | 0.000 | 0.106 | |
| trackBalance | 0 | 0 | 0 | |
| trackCTSS | 3.473 | 0.256 | 3.729 | |
| trackClusters | 2.249 | 0.048 | 2.297 | |
| trackLinks | 1.081 | 0.665 | 1.117 | |
| trimToPeak | 0.714 | 0.052 | 0.767 | |
| trimToPercentiles | 1.787 | 0.000 | 1.787 | |
| tuneTagClustering | 0 | 0 | 0 | |
| utilsAggregateRows | 0.316 | 0.112 | 0.428 | |
| utilsDeStrand | 0.100 | 0.000 | 0.101 | |
| utilsScoreOverlaps | 0.056 | 0.000 | 0.056 | |
| utilsSimplifyTxDb | 0 | 0 | 0 | |