| Back to Multiple platform build/check report for BioC 3.16: simplified long |
|
This page was generated on 2023-04-12 11:06:01 -0400 (Wed, 12 Apr 2023).
| Hostname | OS | Arch (*) | R version | Installed pkgs |
|---|---|---|---|---|
| nebbiolo2 | Linux (Ubuntu 20.04.5 LTS) | x86_64 | 4.2.3 (2023-03-15) -- "Shortstop Beagle" | 4502 |
| palomino4 | Windows Server 2022 Datacenter | x64 | 4.2.3 (2023-03-15 ucrt) -- "Shortstop Beagle" | 4282 |
| lconway | macOS 12.5.1 Monterey | x86_64 | 4.2.3 (2023-03-15) -- "Shortstop Beagle" | 4310 |
| Click on any hostname to see more info about the system (e.g. compilers) (*) as reported by 'uname -p', except on Windows and Mac OS X | ||||
|
To the developers/maintainers of the CAGEfightR package: - Please allow up to 24 hours (and sometimes 48 hours) for your latest push to git@git.bioconductor.org:packages/CAGEfightR.git to reflect on this report. See How and When does the builder pull? When will my changes propagate? for more information. - Make sure to use the following settings in order to reproduce any error or warning you see on this page. |
| Package 244/2183 | Hostname | OS / Arch | INSTALL | BUILD | CHECK | BUILD BIN | ||||||||
| CAGEfightR 1.18.0 (landing page) Malte Thodberg
| nebbiolo2 | Linux (Ubuntu 20.04.5 LTS) / x86_64 | OK | OK | OK | |||||||||
| palomino4 | Windows Server 2022 Datacenter / x64 | OK | OK | OK | OK | |||||||||
| lconway | macOS 12.5.1 Monterey / x86_64 | OK | OK | OK | OK | |||||||||
| Package: CAGEfightR |
| Version: 1.18.0 |
| Command: /Library/Frameworks/R.framework/Resources/bin/R CMD check --install=check:CAGEfightR.install-out.txt --library=/Library/Frameworks/R.framework/Resources/library --no-vignettes --timings CAGEfightR_1.18.0.tar.gz |
| StartedAt: 2023-04-10 19:11:59 -0400 (Mon, 10 Apr 2023) |
| EndedAt: 2023-04-10 19:17:09 -0400 (Mon, 10 Apr 2023) |
| EllapsedTime: 309.9 seconds |
| RetCode: 0 |
| Status: OK |
| CheckDir: CAGEfightR.Rcheck |
| Warnings: 0 |
##############################################################################
##############################################################################
###
### Running command:
###
### /Library/Frameworks/R.framework/Resources/bin/R CMD check --install=check:CAGEfightR.install-out.txt --library=/Library/Frameworks/R.framework/Resources/library --no-vignettes --timings CAGEfightR_1.18.0.tar.gz
###
##############################################################################
##############################################################################
* using log directory ‘/Users/biocbuild/bbs-3.16-bioc/meat/CAGEfightR.Rcheck’
* using R version 4.2.3 (2023-03-15)
* using platform: x86_64-apple-darwin17.0 (64-bit)
* using session charset: UTF-8
* using option ‘--no-vignettes’
* checking for file ‘CAGEfightR/DESCRIPTION’ ... OK
* checking extension type ... Package
* this is package ‘CAGEfightR’ version ‘1.18.0’
* package encoding: UTF-8
* checking package namespace information ... OK
* checking package dependencies ... OK
* checking if this is a source package ... OK
* checking if there is a namespace ... OK
* checking for hidden files and directories ... OK
* checking for portable file names ... OK
* checking for sufficient/correct file permissions ... OK
* checking whether package ‘CAGEfightR’ can be installed ... OK
* checking installed package size ... OK
* checking package directory ... OK
* checking ‘build’ directory ... OK
* checking DESCRIPTION meta-information ... OK
* checking top-level files ... OK
* checking for left-over files ... OK
* checking index information ... OK
* checking package subdirectories ... OK
* checking R files for non-ASCII characters ... OK
* checking R files for syntax errors ... OK
* checking whether the package can be loaded ... OK
* checking whether the package can be loaded with stated dependencies ... OK
* checking whether the package can be unloaded cleanly ... OK
* checking whether the namespace can be loaded with stated dependencies ... OK
* checking whether the namespace can be unloaded cleanly ... OK
* checking dependencies in R code ... OK
* checking S3 generic/method consistency ... OK
* checking replacement functions ... OK
* checking foreign function calls ... OK
* checking R code for possible problems ... OK
* checking Rd files ... OK
* checking Rd metadata ... OK
* checking Rd cross-references ... OK
* checking for missing documentation entries ... OK
* checking for code/documentation mismatches ... OK
* checking Rd \usage sections ... OK
* checking Rd contents ... OK
* checking for unstated dependencies in examples ... OK
* checking contents of ‘data’ directory ... OK
* checking data for non-ASCII characters ... OK
* checking LazyData ... OK
* checking data for ASCII and uncompressed saves ... OK
* checking files in ‘vignettes’ ... OK
* checking examples ... OK
Examples with CPU (user + system) or elapsed time > 5s
user system elapsed
findLinks 4.023 1.34 4.126
* checking for unstated dependencies in vignettes ... OK
* checking package vignettes in ‘inst/doc’ ... OK
* checking running R code from vignettes ... SKIPPED
* checking re-building of vignette outputs ... SKIPPED
* checking PDF version of manual ... OK
* DONE
Status: OK
CAGEfightR.Rcheck/00install.out
############################################################################## ############################################################################## ### ### Running command: ### ### /Library/Frameworks/R.framework/Resources/bin/R CMD INSTALL CAGEfightR ### ############################################################################## ############################################################################## * installing to library ‘/Library/Frameworks/R.framework/Versions/4.2/Resources/library’ * installing *source* package ‘CAGEfightR’ ... ** using staged installation ** R ** data *** moving datasets to lazyload DB ** inst ** byte-compile and prepare package for lazy loading ** help *** installing help indices ** building package indices ** installing vignettes ** testing if installed package can be loaded from temporary location ** testing if installed package can be loaded from final location ** testing if installed package keeps a record of temporary installation path * DONE (CAGEfightR)
CAGEfightR.Rcheck/CAGEfightR-Ex.timings
| name | user | system | elapsed | |
| assignGeneID | 3.388 | 0.118 | 3.544 | |
| assignMissingID | 0.963 | 0.048 | 1.014 | |
| assignTxID | 0.870 | 0.028 | 0.901 | |
| assignTxType | 0.000 | 0.001 | 0.001 | |
| balanceBC | 0 | 0 | 0 | |
| balanceD | 0 | 0 | 0 | |
| bwCommonGenome | 0.032 | 0.003 | 0.036 | |
| bwGenomeCompatibility | 0.019 | 0.002 | 0.022 | |
| bwValid | 0.007 | 0.002 | 0.009 | |
| calcBidirectionality | 1.324 | 0.020 | 1.347 | |
| calcComposition | 1.184 | 0.049 | 1.234 | |
| calcPooled | 0.087 | 0.012 | 0.099 | |
| calcShape | 1.946 | 0.098 | 2.047 | |
| calcSupport | 0.098 | 0.004 | 0.102 | |
| calcTPM | 0.105 | 0.002 | 0.107 | |
| calcTotalTags | 0.053 | 0.002 | 0.055 | |
| checkCTSSs | 0.213 | 0.004 | 0.219 | |
| checkPeaked | 0.063 | 0.003 | 0.066 | |
| checkPooled | 0.055 | 0.004 | 0.058 | |
| clusterBidirectionally | 0 | 0 | 0 | |
| clusterUnidirectionally | 1.141 | 0.022 | 1.165 | |
| combineClusters | 0.679 | 0.018 | 0.697 | |
| convertBAM2BigWig | 0 | 0 | 0 | |
| convertBED2BigWig | 0.001 | 0.001 | 0.000 | |
| convertGRanges2GPos | 0.057 | 0.000 | 0.057 | |
| exampleDesign | 0.004 | 0.005 | 0.009 | |
| findLinks | 4.023 | 1.340 | 4.126 | |
| findStretches | 0.394 | 0.059 | 0.456 | |
| quantifyCTSSs | 0 | 0 | 0 | |
| quantifyCTSSs2 | 0 | 0 | 0 | |
| quantifyClusters | 0.426 | 0.066 | 0.563 | |
| quantifyGenes | 1.296 | 0.102 | 1.407 | |
| quickEnhancers | 0 | 0 | 0 | |
| quickGenes | 0 | 0 | 0 | |
| quickTSSs | 0 | 0 | 0 | |
| shapeEntropy | 0.001 | 0.001 | 0.001 | |
| shapeIQR | 0.001 | 0.000 | 0.000 | |
| shapeMean | 0.001 | 0.000 | 0.001 | |
| shapeMultimodality | 0.000 | 0.000 | 0.001 | |
| subsetByBidirectionality | 0.409 | 0.033 | 0.443 | |
| subsetByComposition | 1.322 | 0.060 | 1.389 | |
| subsetBySupport | 0.059 | 0.003 | 0.061 | |
| swapRanges | 0.214 | 0.010 | 0.225 | |
| swapScores | 0.127 | 0.006 | 0.133 | |
| trackBalance | 0 | 0 | 0 | |
| trackCTSS | 3.068 | 0.173 | 3.251 | |
| trackClusters | 1.850 | 0.025 | 1.881 | |
| trackLinks | 1.141 | 0.771 | 1.389 | |
| trimToPeak | 0.822 | 0.410 | 0.970 | |
| trimToPercentiles | 1.677 | 0.039 | 1.724 | |
| tuneTagClustering | 0.000 | 0.000 | 0.001 | |
| utilsAggregateRows | 0.423 | 0.369 | 0.799 | |
| utilsDeStrand | 0.096 | 0.003 | 0.098 | |
| utilsScoreOverlaps | 0.052 | 0.001 | 0.053 | |
| utilsSimplifyTxDb | 0.000 | 0.000 | 0.001 | |