| Back to Multiple platform build/check report for BioC 3.16: simplified long |
|
This page was generated on 2023-04-12 11:04:59 -0400 (Wed, 12 Apr 2023).
| Hostname | OS | Arch (*) | R version | Installed pkgs |
|---|---|---|---|---|
| nebbiolo2 | Linux (Ubuntu 20.04.5 LTS) | x86_64 | 4.2.3 (2023-03-15) -- "Shortstop Beagle" | 4502 |
| palomino4 | Windows Server 2022 Datacenter | x64 | 4.2.3 (2023-03-15 ucrt) -- "Shortstop Beagle" | 4282 |
| lconway | macOS 12.5.1 Monterey | x86_64 | 4.2.3 (2023-03-15) -- "Shortstop Beagle" | 4310 |
| Click on any hostname to see more info about the system (e.g. compilers) (*) as reported by 'uname -p', except on Windows and Mac OS X | ||||
|
To the developers/maintainers of the BiocSingular package: - Please allow up to 24 hours (and sometimes 48 hours) for your latest push to git@git.bioconductor.org:packages/BiocSingular.git to reflect on this report. See How and When does the builder pull? When will my changes propagate? for more information. - Make sure to use the following settings in order to reproduce any error or warning you see on this page. |
| Package 172/2183 | Hostname | OS / Arch | INSTALL | BUILD | CHECK | BUILD BIN | ||||||||
| BiocSingular 1.14.0 (landing page) Aaron Lun
| nebbiolo2 | Linux (Ubuntu 20.04.5 LTS) / x86_64 | OK | OK | OK | |||||||||
| palomino4 | Windows Server 2022 Datacenter / x64 | OK | OK | OK | OK | |||||||||
| lconway | macOS 12.5.1 Monterey / x86_64 | OK | OK | OK | OK | |||||||||
| Package: BiocSingular |
| Version: 1.14.0 |
| Command: /home/biocbuild/bbs-3.16-bioc/R/bin/R CMD check --install=check:BiocSingular.install-out.txt --library=/home/biocbuild/bbs-3.16-bioc/R/site-library --timings BiocSingular_1.14.0.tar.gz |
| StartedAt: 2023-04-10 19:17:42 -0400 (Mon, 10 Apr 2023) |
| EndedAt: 2023-04-10 19:20:57 -0400 (Mon, 10 Apr 2023) |
| EllapsedTime: 195.5 seconds |
| RetCode: 0 |
| Status: OK |
| CheckDir: BiocSingular.Rcheck |
| Warnings: 0 |
############################################################################## ############################################################################## ### ### Running command: ### ### /home/biocbuild/bbs-3.16-bioc/R/bin/R CMD check --install=check:BiocSingular.install-out.txt --library=/home/biocbuild/bbs-3.16-bioc/R/site-library --timings BiocSingular_1.14.0.tar.gz ### ############################################################################## ############################################################################## * using log directory ‘/home/biocbuild/bbs-3.16-bioc/meat/BiocSingular.Rcheck’ * using R version 4.2.3 (2023-03-15) * using platform: x86_64-pc-linux-gnu (64-bit) * using session charset: UTF-8 * checking for file ‘BiocSingular/DESCRIPTION’ ... OK * this is package ‘BiocSingular’ version ‘1.14.0’ * checking package namespace information ... OK * checking package dependencies ... OK * checking if this is a source package ... OK * checking if there is a namespace ... OK * checking for hidden files and directories ... OK * checking for portable file names ... OK * checking for sufficient/correct file permissions ... OK * checking whether package ‘BiocSingular’ can be installed ... OK * checking installed package size ... OK * checking package directory ... OK * checking ‘build’ directory ... OK * checking DESCRIPTION meta-information ... OK * checking top-level files ... OK * checking for left-over files ... OK * checking index information ... OK * checking package subdirectories ... OK * checking R files for non-ASCII characters ... OK * checking R files for syntax errors ... OK * checking whether the package can be loaded ... OK * checking whether the package can be loaded with stated dependencies ... OK * checking whether the package can be unloaded cleanly ... OK * checking whether the namespace can be loaded with stated dependencies ... OK * checking whether the namespace can be unloaded cleanly ... OK * checking loading without being on the library search path ... OK * checking dependencies in R code ... OK * checking S3 generic/method consistency ... OK * checking replacement functions ... OK * checking foreign function calls ... OK * checking R code for possible problems ... OK * checking Rd files ... OK * checking Rd metadata ... OK * checking Rd cross-references ... OK * checking for missing documentation entries ... OK * checking for code/documentation mismatches ... OK * checking Rd \usage sections ... OK * checking Rd contents ... OK * checking for unstated dependencies in examples ... OK * checking line endings in C/C++/Fortran sources/headers ... OK * checking compiled code ... NOTE Note: information on .o files is not available * checking files in ‘vignettes’ ... OK * checking examples ... OK * checking for unstated dependencies in ‘tests’ ... OK * checking tests ... Running ‘testthat.R’ OK * checking for unstated dependencies in vignettes ... OK * checking package vignettes in ‘inst/doc’ ... OK * checking running R code from vignettes ... ‘decomposition.Rmd’ using ‘UTF-8’... OK ‘representations.Rmd’ using ‘UTF-8’... OK NONE * checking re-building of vignette outputs ... OK * checking PDF version of manual ... OK * DONE Status: 1 NOTE See ‘/home/biocbuild/bbs-3.16-bioc/meat/BiocSingular.Rcheck/00check.log’ for details.
BiocSingular.Rcheck/00install.out
##############################################################################
##############################################################################
###
### Running command:
###
### /home/biocbuild/bbs-3.16-bioc/R/bin/R CMD INSTALL BiocSingular
###
##############################################################################
##############################################################################
* installing to library ‘/home/biocbuild/bbs-3.16-bioc/R/site-library’
* installing *source* package ‘BiocSingular’ ...
** using staged installation
** libs
g++ -std=gnu++11 -I"/home/biocbuild/bbs-3.16-bioc/R/include" -DNDEBUG -I'/home/biocbuild/bbs-3.16-bioc/R/site-library/Rcpp/include' -I'/home/biocbuild/bbs-3.16-bioc/R/site-library/beachmat/include' -I/usr/local/include -fpic -g -O2 -Wall -c RcppExports.cpp -o RcppExports.o
g++ -std=gnu++11 -I"/home/biocbuild/bbs-3.16-bioc/R/include" -DNDEBUG -I'/home/biocbuild/bbs-3.16-bioc/R/site-library/Rcpp/include' -I'/home/biocbuild/bbs-3.16-bioc/R/site-library/beachmat/include' -I/usr/local/include -fpic -g -O2 -Wall -c compute_scale.cpp -o compute_scale.o
compute_scale.cpp: In function ‘Rcpp::NumericVector compute_scale(Rcpp::RObject, Rcpp::RObject)’:
compute_scale.cpp:21:35: warning: comparison of integer expressions of different signedness: ‘R_xlen_t’ {aka ‘long int’} and ‘size_t’ {aka ‘long unsigned int’} [-Wsign-compare]
21 | if (numeric_centers.size()!=ncols) {
| ~~~~~~~~~~~~~~~~~~~~~~^~~~~~~
In file included from /home/biocbuild/bbs-3.16-bioc/R/site-library/beachmat/include/beachmat3/lin_matrix.h:12,
from /home/biocbuild/bbs-3.16-bioc/R/site-library/beachmat/include/beachmat3/read_lin_block.h:11,
from /home/biocbuild/bbs-3.16-bioc/R/site-library/beachmat/include/beachmat3/beachmat.h:24,
from compute_scale.cpp:2:
/home/biocbuild/bbs-3.16-bioc/R/site-library/beachmat/include/beachmat3/Csparse_reader.h: In instantiation of ‘beachmat::SparseArraySeed_reader<V, TIT>::SparseArraySeed_reader(Rcpp::RObject) [with V = Rcpp::Vector<13>; TIT = const int*; Rcpp::RObject = Rcpp::RObject_Impl<Rcpp::PreserveStorage>]’:
/home/biocbuild/bbs-3.16-bioc/R/site-library/beachmat/include/beachmat3/lin_matrix.h:561:56: required from ‘beachmat::lin_SparseArraySeed<V, TIT>::lin_SparseArraySeed(Rcpp::RObject) [with V = Rcpp::Vector<13>; TIT = const int*; Rcpp::RObject = Rcpp::RObject_Impl<Rcpp::PreserveStorage>]’
/home/biocbuild/bbs-3.16-bioc/R/site-library/beachmat/include/beachmat3/read_lin_block.h:36:39: required from ‘std::unique_ptr<_Codecvt> beachmat::read_lin_sparse_block_raw(Rcpp::RObject) [with M = beachmat::lin_matrix; Rcpp::RObject = Rcpp::RObject_Impl<Rcpp::PreserveStorage>]’
/home/biocbuild/bbs-3.16-bioc/R/site-library/beachmat/include/beachmat3/read_lin_block.h:65:63: required from here
/home/biocbuild/bbs-3.16-bioc/R/site-library/beachmat/include/beachmat3/Csparse_reader.h:535:17: warning: comparison of integer expressions of different signedness: ‘const size_t’ {aka ‘const long unsigned int’} and ‘R_xlen_t’ {aka ‘long int’} [-Wsign-compare]
535 | if (nnz != x.size()) {
/home/biocbuild/bbs-3.16-bioc/R/site-library/beachmat/include/beachmat3/Csparse_reader.h:551:45: warning: comparison of integer expressions of different signedness: ‘int’ and ‘const size_t’ {aka ‘const long unsigned int’} [-Wsign-compare]
551 | if (lastR <= 0 || lastR > NR || lastC <= 0 || lastC > NC) {
| ~~~~~~^~~~
/home/biocbuild/bbs-3.16-bioc/R/site-library/beachmat/include/beachmat3/Csparse_reader.h:551:73: warning: comparison of integer expressions of different signedness: ‘int’ and ‘const size_t’ {aka ‘const long unsigned int’} [-Wsign-compare]
551 | if (lastR <= 0 || lastR > NR || lastC <= 0 || lastC > NC) {
| ~~~~~~^~~~
/home/biocbuild/bbs-3.16-bioc/R/site-library/beachmat/include/beachmat3/Csparse_reader.h:593:35: warning: comparison of integer expressions of different signedness: ‘int’ and ‘const size_t’ {aka ‘const long unsigned int’} [-Wsign-compare]
593 | for (int v = 0; v < nnz; ++v, ++rowIt, ++colIt, ++xIt) {
| ~~^~~~~
/home/biocbuild/bbs-3.16-bioc/R/site-library/beachmat/include/beachmat3/Csparse_reader.h: In instantiation of ‘beachmat::SparseArraySeed_reader<V, TIT>::SparseArraySeed_reader(Rcpp::RObject) [with V = Rcpp::Vector<14, Rcpp::PreserveStorage>; TIT = const double*; Rcpp::RObject = Rcpp::RObject_Impl<Rcpp::PreserveStorage>]’:
/home/biocbuild/bbs-3.16-bioc/R/site-library/beachmat/include/beachmat3/lin_matrix.h:561:56: required from ‘beachmat::lin_SparseArraySeed<V, TIT>::lin_SparseArraySeed(Rcpp::RObject) [with V = Rcpp::Vector<14, Rcpp::PreserveStorage>; TIT = const double*; Rcpp::RObject = Rcpp::RObject_Impl<Rcpp::PreserveStorage>]’
/home/biocbuild/bbs-3.16-bioc/R/site-library/beachmat/include/beachmat3/read_lin_block.h:38:39: required from ‘std::unique_ptr<_Codecvt> beachmat::read_lin_sparse_block_raw(Rcpp::RObject) [with M = beachmat::lin_matrix; Rcpp::RObject = Rcpp::RObject_Impl<Rcpp::PreserveStorage>]’
/home/biocbuild/bbs-3.16-bioc/R/site-library/beachmat/include/beachmat3/read_lin_block.h:65:63: required from here
/home/biocbuild/bbs-3.16-bioc/R/site-library/beachmat/include/beachmat3/Csparse_reader.h:535:17: warning: comparison of integer expressions of different signedness: ‘const size_t’ {aka ‘const long unsigned int’} and ‘R_xlen_t’ {aka ‘long int’} [-Wsign-compare]
535 | if (nnz != x.size()) {
/home/biocbuild/bbs-3.16-bioc/R/site-library/beachmat/include/beachmat3/Csparse_reader.h:551:45: warning: comparison of integer expressions of different signedness: ‘int’ and ‘const size_t’ {aka ‘const long unsigned int’} [-Wsign-compare]
551 | if (lastR <= 0 || lastR > NR || lastC <= 0 || lastC > NC) {
| ~~~~~~^~~~
/home/biocbuild/bbs-3.16-bioc/R/site-library/beachmat/include/beachmat3/Csparse_reader.h:551:73: warning: comparison of integer expressions of different signedness: ‘int’ and ‘const size_t’ {aka ‘const long unsigned int’} [-Wsign-compare]
551 | if (lastR <= 0 || lastR > NR || lastC <= 0 || lastC > NC) {
| ~~~~~~^~~~
/home/biocbuild/bbs-3.16-bioc/R/site-library/beachmat/include/beachmat3/Csparse_reader.h:593:35: warning: comparison of integer expressions of different signedness: ‘int’ and ‘const size_t’ {aka ‘const long unsigned int’} [-Wsign-compare]
593 | for (int v = 0; v < nnz; ++v, ++rowIt, ++colIt, ++xIt) {
| ~~^~~~~
/home/biocbuild/bbs-3.16-bioc/R/site-library/beachmat/include/beachmat3/Csparse_reader.h: In instantiation of ‘beachmat::SparseArraySeed_reader<V, TIT>::SparseArraySeed_reader(Rcpp::RObject) [with V = Rcpp::Vector<10, Rcpp::PreserveStorage>; TIT = const int*; Rcpp::RObject = Rcpp::RObject_Impl<Rcpp::PreserveStorage>]’:
/home/biocbuild/bbs-3.16-bioc/R/site-library/beachmat/include/beachmat3/lin_matrix.h:561:56: required from ‘beachmat::lin_SparseArraySeed<V, TIT>::lin_SparseArraySeed(Rcpp::RObject) [with V = Rcpp::Vector<10, Rcpp::PreserveStorage>; TIT = const int*; Rcpp::RObject = Rcpp::RObject_Impl<Rcpp::PreserveStorage>]’
/home/biocbuild/bbs-3.16-bioc/R/site-library/beachmat/include/beachmat3/read_lin_block.h:40:39: required from ‘std::unique_ptr<_Codecvt> beachmat::read_lin_sparse_block_raw(Rcpp::RObject) [with M = beachmat::lin_matrix; Rcpp::RObject = Rcpp::RObject_Impl<Rcpp::PreserveStorage>]’
/home/biocbuild/bbs-3.16-bioc/R/site-library/beachmat/include/beachmat3/read_lin_block.h:65:63: required from here
/home/biocbuild/bbs-3.16-bioc/R/site-library/beachmat/include/beachmat3/Csparse_reader.h:535:17: warning: comparison of integer expressions of different signedness: ‘const size_t’ {aka ‘const long unsigned int’} and ‘R_xlen_t’ {aka ‘long int’} [-Wsign-compare]
535 | if (nnz != x.size()) {
/home/biocbuild/bbs-3.16-bioc/R/site-library/beachmat/include/beachmat3/Csparse_reader.h:551:45: warning: comparison of integer expressions of different signedness: ‘int’ and ‘const size_t’ {aka ‘const long unsigned int’} [-Wsign-compare]
551 | if (lastR <= 0 || lastR > NR || lastC <= 0 || lastC > NC) {
| ~~~~~~^~~~
/home/biocbuild/bbs-3.16-bioc/R/site-library/beachmat/include/beachmat3/Csparse_reader.h:551:73: warning: comparison of integer expressions of different signedness: ‘int’ and ‘const size_t’ {aka ‘const long unsigned int’} [-Wsign-compare]
551 | if (lastR <= 0 || lastR > NR || lastC <= 0 || lastC > NC) {
| ~~~~~~^~~~
/home/biocbuild/bbs-3.16-bioc/R/site-library/beachmat/include/beachmat3/Csparse_reader.h:593:35: warning: comparison of integer expressions of different signedness: ‘int’ and ‘const size_t’ {aka ‘const long unsigned int’} [-Wsign-compare]
593 | for (int v = 0; v < nnz; ++v, ++rowIt, ++colIt, ++xIt) {
| ~~^~~~~
/home/biocbuild/bbs-3.16-bioc/R/site-library/beachmat/include/beachmat3/Csparse_reader.h: In instantiation of ‘beachmat::sparse_index<OUT, I> beachmat::Csparse_core<TIT, I, P>::get_row(size_t, ALT, I*, size_t, size_t) [with OUT = const int*; ALT = int*; TIT = const double*; I = int; P = long unsigned int; size_t = long unsigned int]’:
/home/biocbuild/bbs-3.16-bioc/R/site-library/beachmat/include/beachmat3/Csparse_reader.h:650:73: required from ‘beachmat::sparse_index<OUT, int> beachmat::SparseArraySeed_reader<V, TIT>::get_row(size_t, ALT, int*, size_t, size_t) [with OUT = const int*; ALT = int*; V = Rcpp::Vector<14, Rcpp::PreserveStorage>; TIT = const double*; size_t = long unsigned int]’
/home/biocbuild/bbs-3.16-bioc/R/site-library/beachmat/include/beachmat3/lin_matrix.h:596:82: required from ‘beachmat::sparse_index<const int*, int> beachmat::lin_SparseArraySeed<V, TIT>::get_row(size_t, int*, int*, size_t, size_t) [with V = Rcpp::Vector<14, Rcpp::PreserveStorage>; TIT = const double*; size_t = long unsigned int]’
/home/biocbuild/bbs-3.16-bioc/R/site-library/beachmat/include/beachmat3/lin_matrix.h:595:35: required from here
/home/biocbuild/bbs-3.16-bioc/R/site-library/beachmat/include/beachmat3/Csparse_reader.h:250:22: warning: comparison of integer expressions of different signedness: ‘const int’ and ‘const long unsigned int’ [-Wsign-compare]
250 | if (idex != *pIt && static_cast<size_t>(i[idex]) == r) {
| ~~~~~^~~~~~~
/home/biocbuild/bbs-3.16-bioc/R/site-library/beachmat/include/beachmat3/Csparse_reader.h: In instantiation of ‘beachmat::sparse_index<OUT, I> beachmat::Csparse_core<TIT, I, P>::get_row(size_t, ALT, I*, size_t, size_t) [with OUT = const double*; ALT = double*; TIT = const double*; I = int; P = long unsigned int; size_t = long unsigned int]’:
/home/biocbuild/bbs-3.16-bioc/R/site-library/beachmat/include/beachmat3/Csparse_reader.h:650:73: required from ‘beachmat::sparse_index<OUT, int> beachmat::SparseArraySeed_reader<V, TIT>::get_row(size_t, ALT, int*, size_t, size_t) [with OUT = const double*; ALT = double*; V = Rcpp::Vector<14, Rcpp::PreserveStorage>; TIT = const double*; size_t = long unsigned int]’
/home/biocbuild/bbs-3.16-bioc/R/site-library/beachmat/include/beachmat3/lin_matrix.h:602:85: required from ‘beachmat::sparse_index<const double*, int> beachmat::lin_SparseArraySeed<V, TIT>::get_row(size_t, double*, int*, size_t, size_t) [with V = Rcpp::Vector<14, Rcpp::PreserveStorage>; TIT = const double*; size_t = long unsigned int]’
/home/biocbuild/bbs-3.16-bioc/R/site-library/beachmat/include/beachmat3/lin_matrix.h:601:38: required from here
/home/biocbuild/bbs-3.16-bioc/R/site-library/beachmat/include/beachmat3/Csparse_reader.h:250:22: warning: comparison of integer expressions of different signedness: ‘const int’ and ‘const long unsigned int’ [-Wsign-compare]
/home/biocbuild/bbs-3.16-bioc/R/site-library/beachmat/include/beachmat3/Csparse_reader.h: In instantiation of ‘beachmat::sparse_index<OUT, I> beachmat::Csparse_core<TIT, I, P>::get_row(size_t, ALT, I*, size_t, size_t) [with OUT = const int*; ALT = int*; TIT = const int*; I = int; P = long unsigned int; size_t = long unsigned int]’:
/home/biocbuild/bbs-3.16-bioc/R/site-library/beachmat/include/beachmat3/Csparse_reader.h:650:73: required from ‘beachmat::sparse_index<OUT, int> beachmat::SparseArraySeed_reader<V, TIT>::get_row(size_t, ALT, int*, size_t, size_t) [with OUT = const int*; ALT = int*; V = Rcpp::Vector<10, Rcpp::PreserveStorage>; TIT = const int*; size_t = long unsigned int]’
/home/biocbuild/bbs-3.16-bioc/R/site-library/beachmat/include/beachmat3/lin_matrix.h:596:82: required from ‘beachmat::sparse_index<const int*, int> beachmat::lin_SparseArraySeed<V, TIT>::get_row(size_t, int*, int*, size_t, size_t) [with V = Rcpp::Vector<10, Rcpp::PreserveStorage>; TIT = const int*; size_t = long unsigned int]’
/home/biocbuild/bbs-3.16-bioc/R/site-library/beachmat/include/beachmat3/lin_matrix.h:595:35: required from here
/home/biocbuild/bbs-3.16-bioc/R/site-library/beachmat/include/beachmat3/Csparse_reader.h:250:22: warning: comparison of integer expressions of different signedness: ‘const int’ and ‘const long unsigned int’ [-Wsign-compare]
/home/biocbuild/bbs-3.16-bioc/R/site-library/beachmat/include/beachmat3/Csparse_reader.h: In instantiation of ‘beachmat::sparse_index<OUT, I> beachmat::Csparse_core<TIT, I, P>::get_row(size_t, ALT, I*, size_t, size_t) [with OUT = const double*; ALT = double*; TIT = const int*; I = int; P = long unsigned int; size_t = long unsigned int]’:
/home/biocbuild/bbs-3.16-bioc/R/site-library/beachmat/include/beachmat3/Csparse_reader.h:650:73: required from ‘beachmat::sparse_index<OUT, int> beachmat::SparseArraySeed_reader<V, TIT>::get_row(size_t, ALT, int*, size_t, size_t) [with OUT = const double*; ALT = double*; V = Rcpp::Vector<10, Rcpp::PreserveStorage>; TIT = const int*; size_t = long unsigned int]’
/home/biocbuild/bbs-3.16-bioc/R/site-library/beachmat/include/beachmat3/lin_matrix.h:602:85: required from ‘beachmat::sparse_index<const double*, int> beachmat::lin_SparseArraySeed<V, TIT>::get_row(size_t, double*, int*, size_t, size_t) [with V = Rcpp::Vector<10, Rcpp::PreserveStorage>; TIT = const int*; size_t = long unsigned int]’
/home/biocbuild/bbs-3.16-bioc/R/site-library/beachmat/include/beachmat3/lin_matrix.h:601:38: required from here
/home/biocbuild/bbs-3.16-bioc/R/site-library/beachmat/include/beachmat3/Csparse_reader.h:250:22: warning: comparison of integer expressions of different signedness: ‘const int’ and ‘const long unsigned int’ [-Wsign-compare]
g++ -std=gnu++11 -shared -L/home/biocbuild/bbs-3.16-bioc/R/lib -L/usr/local/lib -o BiocSingular.so RcppExports.o compute_scale.o -L/home/biocbuild/bbs-3.16-bioc/R/lib -lR
installing to /home/biocbuild/bbs-3.16-bioc/R/site-library/00LOCK-BiocSingular/00new/BiocSingular/libs
** R
** inst
** byte-compile and prepare package for lazy loading
** help
*** installing help indices
** building package indices
** installing vignettes
** testing if installed package can be loaded from temporary location
** checking absolute paths in shared objects and dynamic libraries
** testing if installed package can be loaded from final location
** testing if installed package keeps a record of temporary installation path
* DONE (BiocSingular)
BiocSingular.Rcheck/tests/testthat.Rout
R version 4.2.3 (2023-03-15) -- "Shortstop Beagle"
Copyright (C) 2023 The R Foundation for Statistical Computing
Platform: x86_64-pc-linux-gnu (64-bit)
R is free software and comes with ABSOLUTELY NO WARRANTY.
You are welcome to redistribute it under certain conditions.
Type 'license()' or 'licence()' for distribution details.
R is a collaborative project with many contributors.
Type 'contributors()' for more information and
'citation()' on how to cite R or R packages in publications.
Type 'demo()' for some demos, 'help()' for on-line help, or
'help.start()' for an HTML browser interface to help.
Type 'q()' to quit R.
> library(BiocSingular)
> library(testthat)
> test_check("BiocSingular")
Loading required package: stats4
Loading required package: Matrix
Loading required package: BiocGenerics
Attaching package: 'BiocGenerics'
The following objects are masked from 'package:stats':
IQR, mad, sd, var, xtabs
The following objects are masked from 'package:base':
Filter, Find, Map, Position, Reduce, anyDuplicated, aperm, append,
as.data.frame, basename, cbind, colnames, dirname, do.call,
duplicated, eval, evalq, get, grep, grepl, intersect, is.unsorted,
lapply, mapply, match, mget, order, paste, pmax, pmax.int, pmin,
pmin.int, rank, rbind, rownames, sapply, setdiff, sort, table,
tapply, union, unique, unsplit, which.max, which.min
Loading required package: MatrixGenerics
Loading required package: matrixStats
Attaching package: 'MatrixGenerics'
The following objects are masked from 'package:matrixStats':
colAlls, colAnyNAs, colAnys, colAvgsPerRowSet, colCollapse,
colCounts, colCummaxs, colCummins, colCumprods, colCumsums,
colDiffs, colIQRDiffs, colIQRs, colLogSumExps, colMadDiffs,
colMads, colMaxs, colMeans2, colMedians, colMins, colOrderStats,
colProds, colQuantiles, colRanges, colRanks, colSdDiffs, colSds,
colSums2, colTabulates, colVarDiffs, colVars, colWeightedMads,
colWeightedMeans, colWeightedMedians, colWeightedSds,
colWeightedVars, rowAlls, rowAnyNAs, rowAnys, rowAvgsPerColSet,
rowCollapse, rowCounts, rowCummaxs, rowCummins, rowCumprods,
rowCumsums, rowDiffs, rowIQRDiffs, rowIQRs, rowLogSumExps,
rowMadDiffs, rowMads, rowMaxs, rowMeans2, rowMedians, rowMins,
rowOrderStats, rowProds, rowQuantiles, rowRanges, rowRanks,
rowSdDiffs, rowSds, rowSums2, rowTabulates, rowVarDiffs, rowVars,
rowWeightedMads, rowWeightedMeans, rowWeightedMedians,
rowWeightedSds, rowWeightedVars
Loading required package: S4Vectors
Attaching package: 'S4Vectors'
The following objects are masked from 'package:Matrix':
expand, unname
The following objects are masked from 'package:base':
I, expand.grid, unname
Loading required package: IRanges
Attaching package: 'DelayedArray'
The following objects are masked from 'package:base':
apply, rowsum, scale, sweep
[ FAIL 0 | WARN 6 | SKIP 0 | PASS 535 ]
[ FAIL 0 | WARN 6 | SKIP 0 | PASS 535 ]
>
> proc.time()
user system elapsed
70.172 53.593 74.241
BiocSingular.Rcheck/BiocSingular-Ex.timings
| name | user | system | elapsed | |
| BiocSingularParam | 0.018 | 0.000 | 0.019 | |
| LowRankMatrix | 0.481 | 0.004 | 0.485 | |
| runExactSVD | 0.071 | 0.004 | 0.075 | |
| runIrlbaSVD | 0.021 | 0.008 | 0.029 | |
| runPCA | 0.058 | 0.004 | 0.062 | |
| runRandomSVD | 0.186 | 0.008 | 0.195 | |
| runSVD | 0.216 | 0.000 | 0.216 | |