| Back to Multiple platform build/check report for BioC 3.16: simplified long |
|
This page was generated on 2023-04-12 11:06:00 -0400 (Wed, 12 Apr 2023).
| Hostname | OS | Arch (*) | R version | Installed pkgs |
|---|---|---|---|---|
| nebbiolo2 | Linux (Ubuntu 20.04.5 LTS) | x86_64 | 4.2.3 (2023-03-15) -- "Shortstop Beagle" | 4502 |
| palomino4 | Windows Server 2022 Datacenter | x64 | 4.2.3 (2023-03-15 ucrt) -- "Shortstop Beagle" | 4282 |
| lconway | macOS 12.5.1 Monterey | x86_64 | 4.2.3 (2023-03-15) -- "Shortstop Beagle" | 4310 |
| Click on any hostname to see more info about the system (e.g. compilers) (*) as reported by 'uname -p', except on Windows and Mac OS X | ||||
|
To the developers/maintainers of the BiocSingular package: - Please allow up to 24 hours (and sometimes 48 hours) for your latest push to git@git.bioconductor.org:packages/BiocSingular.git to reflect on this report. See How and When does the builder pull? When will my changes propagate? for more information. - Make sure to use the following settings in order to reproduce any error or warning you see on this page. |
| Package 172/2183 | Hostname | OS / Arch | INSTALL | BUILD | CHECK | BUILD BIN | ||||||||
| BiocSingular 1.14.0 (landing page) Aaron Lun
| nebbiolo2 | Linux (Ubuntu 20.04.5 LTS) / x86_64 | OK | OK | OK | |||||||||
| palomino4 | Windows Server 2022 Datacenter / x64 | OK | OK | OK | OK | |||||||||
| lconway | macOS 12.5.1 Monterey / x86_64 | OK | OK | OK | OK | |||||||||
| Package: BiocSingular |
| Version: 1.14.0 |
| Command: /Library/Frameworks/R.framework/Resources/bin/R CMD check --install=check:BiocSingular.install-out.txt --library=/Library/Frameworks/R.framework/Resources/library --no-vignettes --timings BiocSingular_1.14.0.tar.gz |
| StartedAt: 2023-04-10 19:01:55 -0400 (Mon, 10 Apr 2023) |
| EndedAt: 2023-04-10 19:05:22 -0400 (Mon, 10 Apr 2023) |
| EllapsedTime: 207.0 seconds |
| RetCode: 0 |
| Status: OK |
| CheckDir: BiocSingular.Rcheck |
| Warnings: 0 |
############################################################################## ############################################################################## ### ### Running command: ### ### /Library/Frameworks/R.framework/Resources/bin/R CMD check --install=check:BiocSingular.install-out.txt --library=/Library/Frameworks/R.framework/Resources/library --no-vignettes --timings BiocSingular_1.14.0.tar.gz ### ############################################################################## ############################################################################## * using log directory ‘/Users/biocbuild/bbs-3.16-bioc/meat/BiocSingular.Rcheck’ * using R version 4.2.3 (2023-03-15) * using platform: x86_64-apple-darwin17.0 (64-bit) * using session charset: UTF-8 * using option ‘--no-vignettes’ * checking for file ‘BiocSingular/DESCRIPTION’ ... OK * this is package ‘BiocSingular’ version ‘1.14.0’ * checking package namespace information ... OK * checking package dependencies ... OK * checking if this is a source package ... OK * checking if there is a namespace ... OK * checking for hidden files and directories ... OK * checking for portable file names ... OK * checking for sufficient/correct file permissions ... OK * checking whether package ‘BiocSingular’ can be installed ... OK * checking installed package size ... OK * checking package directory ... OK * checking ‘build’ directory ... OK * checking DESCRIPTION meta-information ... OK * checking top-level files ... OK * checking for left-over files ... OK * checking index information ... OK * checking package subdirectories ... OK * checking R files for non-ASCII characters ... OK * checking R files for syntax errors ... OK * checking whether the package can be loaded ... OK * checking whether the package can be loaded with stated dependencies ... OK * checking whether the package can be unloaded cleanly ... OK * checking whether the namespace can be loaded with stated dependencies ... OK * checking whether the namespace can be unloaded cleanly ... OK * checking dependencies in R code ... OK * checking S3 generic/method consistency ... OK * checking replacement functions ... OK * checking foreign function calls ... OK * checking R code for possible problems ... OK * checking Rd files ... OK * checking Rd metadata ... OK * checking Rd cross-references ... OK * checking for missing documentation entries ... OK * checking for code/documentation mismatches ... OK * checking Rd \usage sections ... OK * checking Rd contents ... OK * checking for unstated dependencies in examples ... OK * checking line endings in C/C++/Fortran sources/headers ... OK * checking compiled code ... NOTE Note: information on .o files is not available * checking files in ‘vignettes’ ... OK * checking examples ... OK * checking for unstated dependencies in ‘tests’ ... OK * checking tests ... Running ‘testthat.R’ OK * checking for unstated dependencies in vignettes ... OK * checking package vignettes in ‘inst/doc’ ... OK * checking running R code from vignettes ... SKIPPED * checking re-building of vignette outputs ... SKIPPED * checking PDF version of manual ... OK * DONE Status: 1 NOTE See ‘/Users/biocbuild/bbs-3.16-bioc/meat/BiocSingular.Rcheck/00check.log’ for details.
BiocSingular.Rcheck/00install.out
##############################################################################
##############################################################################
###
### Running command:
###
### /Library/Frameworks/R.framework/Resources/bin/R CMD INSTALL BiocSingular
###
##############################################################################
##############################################################################
* installing to library ‘/Library/Frameworks/R.framework/Versions/4.2/Resources/library’
* installing *source* package ‘BiocSingular’ ...
** using staged installation
** libs
clang++ -mmacosx-version-min=10.13 -std=gnu++11 -I"/Library/Frameworks/R.framework/Resources/include" -DNDEBUG -I'/Library/Frameworks/R.framework/Versions/4.2/Resources/library/Rcpp/include' -I'/Library/Frameworks/R.framework/Versions/4.2/Resources/library/beachmat/include' -I/usr/local/include -fPIC -Wall -g -O2 -c RcppExports.cpp -o RcppExports.o
clang++ -mmacosx-version-min=10.13 -std=gnu++11 -I"/Library/Frameworks/R.framework/Resources/include" -DNDEBUG -I'/Library/Frameworks/R.framework/Versions/4.2/Resources/library/Rcpp/include' -I'/Library/Frameworks/R.framework/Versions/4.2/Resources/library/beachmat/include' -I/usr/local/include -fPIC -Wall -g -O2 -c compute_scale.cpp -o compute_scale.o
In file included from compute_scale.cpp:2:
In file included from /Library/Frameworks/R.framework/Versions/4.2/Resources/library/beachmat/include/beachmat3/beachmat.h:24:
In file included from /Library/Frameworks/R.framework/Versions/4.2/Resources/library/beachmat/include/beachmat3/read_lin_block.h:11:
/Library/Frameworks/R.framework/Versions/4.2/Resources/library/beachmat/include/beachmat3/lin_matrix.h:218:43: warning: 'beachmat::lin_sparse_matrix::get_row' hides overloaded virtual functions [-Woverloaded-virtual]
virtual sparse_index<const int*, int> get_row(size_t r, int* work_x, int* work_i, size_t first, size_t last) = 0;
^
/Library/Frameworks/R.framework/Versions/4.2/Resources/library/beachmat/include/beachmat3/lin_matrix.h:66:24: note: hidden overloaded virtual function 'beachmat::lin_matrix::get_row' declared here: different number of parameters (4 vs 5)
virtual const int* get_row(size_t r, int* work, size_t first, size_t last) = 0;
^
/Library/Frameworks/R.framework/Versions/4.2/Resources/library/beachmat/include/beachmat3/lin_matrix.h:95:27: note: hidden overloaded virtual function 'beachmat::lin_matrix::get_row' declared here: different number of parameters (4 vs 5)
virtual const double* get_row(size_t r, double* work, size_t first, size_t last) = 0;
^
/Library/Frameworks/R.framework/Versions/4.2/Resources/library/beachmat/include/beachmat3/lin_matrix.h:236:43: warning: 'beachmat::lin_sparse_matrix::get_col' hides overloaded virtual functions [-Woverloaded-virtual]
virtual sparse_index<const int*, int> get_col(size_t c, int* work_x, int* work_i, size_t first, size_t last) = 0;
^
/Library/Frameworks/R.framework/Versions/4.2/Resources/library/beachmat/include/beachmat3/lin_matrix.h:52:24: note: hidden overloaded virtual function 'beachmat::lin_matrix::get_col' declared here: different number of parameters (4 vs 5)
virtual const int* get_col(size_t c, int* work, size_t first, size_t last) = 0;
^
/Library/Frameworks/R.framework/Versions/4.2/Resources/library/beachmat/include/beachmat3/lin_matrix.h:81:27: note: hidden overloaded virtual function 'beachmat::lin_matrix::get_col' declared here: different number of parameters (4 vs 5)
virtual const double* get_col(size_t c, double* work, size_t first, size_t last) = 0;
^
/Library/Frameworks/R.framework/Versions/4.2/Resources/library/beachmat/include/beachmat3/lin_matrix.h:254:46: warning: 'beachmat::lin_sparse_matrix::get_row' hides overloaded virtual functions [-Woverloaded-virtual]
virtual sparse_index<const double*, int> get_row(size_t r, double* work_x, int* work_i, size_t first, size_t last) = 0;
^
/Library/Frameworks/R.framework/Versions/4.2/Resources/library/beachmat/include/beachmat3/lin_matrix.h:66:24: note: hidden overloaded virtual function 'beachmat::lin_matrix::get_row' declared here: different number of parameters (4 vs 5)
virtual const int* get_row(size_t r, int* work, size_t first, size_t last) = 0;
^
/Library/Frameworks/R.framework/Versions/4.2/Resources/library/beachmat/include/beachmat3/lin_matrix.h:95:27: note: hidden overloaded virtual function 'beachmat::lin_matrix::get_row' declared here: different number of parameters (4 vs 5)
virtual const double* get_row(size_t r, double* work, size_t first, size_t last) = 0;
^
/Library/Frameworks/R.framework/Versions/4.2/Resources/library/beachmat/include/beachmat3/lin_matrix.h:272:46: warning: 'beachmat::lin_sparse_matrix::get_col' hides overloaded virtual functions [-Woverloaded-virtual]
virtual sparse_index<const double*, int> get_col(size_t c, double* work_x, int* work_i, size_t first, size_t last) = 0;
^
/Library/Frameworks/R.framework/Versions/4.2/Resources/library/beachmat/include/beachmat3/lin_matrix.h:52:24: note: hidden overloaded virtual function 'beachmat::lin_matrix::get_col' declared here: different number of parameters (4 vs 5)
virtual const int* get_col(size_t c, int* work, size_t first, size_t last) = 0;
^
/Library/Frameworks/R.framework/Versions/4.2/Resources/library/beachmat/include/beachmat3/lin_matrix.h:81:27: note: hidden overloaded virtual function 'beachmat::lin_matrix::get_col' declared here: different number of parameters (4 vs 5)
virtual const double* get_col(size_t c, double* work, size_t first, size_t last) = 0;
^
/Library/Frameworks/R.framework/Versions/4.2/Resources/library/beachmat/include/beachmat3/lin_matrix.h:287:35: warning: 'beachmat::lin_sparse_matrix::get_col' hides overloaded virtual functions [-Woverloaded-virtual]
sparse_index<const int*, int> get_col(size_t c, int* work_x, int* work_i) {
^
/Library/Frameworks/R.framework/Versions/4.2/Resources/library/beachmat/include/beachmat3/lin_matrix.h:52:24: note: hidden overloaded virtual function 'beachmat::lin_matrix::get_col' declared here: different number of parameters (4 vs 3)
virtual const int* get_col(size_t c, int* work, size_t first, size_t last) = 0;
^
/Library/Frameworks/R.framework/Versions/4.2/Resources/library/beachmat/include/beachmat3/lin_matrix.h:81:27: note: hidden overloaded virtual function 'beachmat::lin_matrix::get_col' declared here: different number of parameters (4 vs 3)
virtual const double* get_col(size_t c, double* work, size_t first, size_t last) = 0;
^
/Library/Frameworks/R.framework/Versions/4.2/Resources/library/beachmat/include/beachmat3/lin_matrix.h:304:35: warning: 'beachmat::lin_sparse_matrix::get_row' hides overloaded virtual functions [-Woverloaded-virtual]
sparse_index<const int*, int> get_row(size_t r, int* work_x, int* work_i) {
^
/Library/Frameworks/R.framework/Versions/4.2/Resources/library/beachmat/include/beachmat3/lin_matrix.h:66:24: note: hidden overloaded virtual function 'beachmat::lin_matrix::get_row' declared here: different number of parameters (4 vs 3)
virtual const int* get_row(size_t r, int* work, size_t first, size_t last) = 0;
^
/Library/Frameworks/R.framework/Versions/4.2/Resources/library/beachmat/include/beachmat3/lin_matrix.h:95:27: note: hidden overloaded virtual function 'beachmat::lin_matrix::get_row' declared here: different number of parameters (4 vs 3)
virtual const double* get_row(size_t r, double* work, size_t first, size_t last) = 0;
^
/Library/Frameworks/R.framework/Versions/4.2/Resources/library/beachmat/include/beachmat3/lin_matrix.h:321:38: warning: 'beachmat::lin_sparse_matrix::get_col' hides overloaded virtual functions [-Woverloaded-virtual]
sparse_index<const double*, int> get_col(size_t c, double* work_x, int* work_i) {
^
/Library/Frameworks/R.framework/Versions/4.2/Resources/library/beachmat/include/beachmat3/lin_matrix.h:52:24: note: hidden overloaded virtual function 'beachmat::lin_matrix::get_col' declared here: different number of parameters (4 vs 3)
virtual const int* get_col(size_t c, int* work, size_t first, size_t last) = 0;
^
/Library/Frameworks/R.framework/Versions/4.2/Resources/library/beachmat/include/beachmat3/lin_matrix.h:81:27: note: hidden overloaded virtual function 'beachmat::lin_matrix::get_col' declared here: different number of parameters (4 vs 3)
virtual const double* get_col(size_t c, double* work, size_t first, size_t last) = 0;
^
/Library/Frameworks/R.framework/Versions/4.2/Resources/library/beachmat/include/beachmat3/lin_matrix.h:338:38: warning: 'beachmat::lin_sparse_matrix::get_row' hides overloaded virtual functions [-Woverloaded-virtual]
sparse_index<const double*, int> get_row(size_t r, double* work_x, int* work_i) {
^
/Library/Frameworks/R.framework/Versions/4.2/Resources/library/beachmat/include/beachmat3/lin_matrix.h:66:24: note: hidden overloaded virtual function 'beachmat::lin_matrix::get_row' declared here: different number of parameters (4 vs 3)
virtual const int* get_row(size_t r, int* work, size_t first, size_t last) = 0;
^
/Library/Frameworks/R.framework/Versions/4.2/Resources/library/beachmat/include/beachmat3/lin_matrix.h:95:27: note: hidden overloaded virtual function 'beachmat::lin_matrix::get_row' declared here: different number of parameters (4 vs 3)
virtual const double* get_row(size_t r, double* work, size_t first, size_t last) = 0;
^
8 warnings generated.
clang++ -mmacosx-version-min=10.13 -std=gnu++11 -dynamiclib -Wl,-headerpad_max_install_names -undefined dynamic_lookup -single_module -multiply_defined suppress -L/Library/Frameworks/R.framework/Resources/lib -L/usr/local/lib -o BiocSingular.so RcppExports.o compute_scale.o -F/Library/Frameworks/R.framework/.. -framework R -Wl,-framework -Wl,CoreFoundation
installing to /Library/Frameworks/R.framework/Versions/4.2/Resources/library/00LOCK-BiocSingular/00new/BiocSingular/libs
** R
** inst
** byte-compile and prepare package for lazy loading
** help
*** installing help indices
** building package indices
** installing vignettes
** testing if installed package can be loaded from temporary location
** checking absolute paths in shared objects and dynamic libraries
** testing if installed package can be loaded from final location
** testing if installed package keeps a record of temporary installation path
* DONE (BiocSingular)
BiocSingular.Rcheck/tests/testthat.Rout
R version 4.2.3 (2023-03-15) -- "Shortstop Beagle"
Copyright (C) 2023 The R Foundation for Statistical Computing
Platform: x86_64-apple-darwin17.0 (64-bit)
R is free software and comes with ABSOLUTELY NO WARRANTY.
You are welcome to redistribute it under certain conditions.
Type 'license()' or 'licence()' for distribution details.
R is a collaborative project with many contributors.
Type 'contributors()' for more information and
'citation()' on how to cite R or R packages in publications.
Type 'demo()' for some demos, 'help()' for on-line help, or
'help.start()' for an HTML browser interface to help.
Type 'q()' to quit R.
> library(BiocSingular)
> library(testthat)
> test_check("BiocSingular")
Loading required package: stats4
Loading required package: Matrix
Loading required package: BiocGenerics
Attaching package: 'BiocGenerics'
The following objects are masked from 'package:stats':
IQR, mad, sd, var, xtabs
The following objects are masked from 'package:base':
Filter, Find, Map, Position, Reduce, anyDuplicated, aperm, append,
as.data.frame, basename, cbind, colnames, dirname, do.call,
duplicated, eval, evalq, get, grep, grepl, intersect, is.unsorted,
lapply, mapply, match, mget, order, paste, pmax, pmax.int, pmin,
pmin.int, rank, rbind, rownames, sapply, setdiff, sort, table,
tapply, union, unique, unsplit, which.max, which.min
Loading required package: MatrixGenerics
Loading required package: matrixStats
Attaching package: 'MatrixGenerics'
The following objects are masked from 'package:matrixStats':
colAlls, colAnyNAs, colAnys, colAvgsPerRowSet, colCollapse,
colCounts, colCummaxs, colCummins, colCumprods, colCumsums,
colDiffs, colIQRDiffs, colIQRs, colLogSumExps, colMadDiffs,
colMads, colMaxs, colMeans2, colMedians, colMins, colOrderStats,
colProds, colQuantiles, colRanges, colRanks, colSdDiffs, colSds,
colSums2, colTabulates, colVarDiffs, colVars, colWeightedMads,
colWeightedMeans, colWeightedMedians, colWeightedSds,
colWeightedVars, rowAlls, rowAnyNAs, rowAnys, rowAvgsPerColSet,
rowCollapse, rowCounts, rowCummaxs, rowCummins, rowCumprods,
rowCumsums, rowDiffs, rowIQRDiffs, rowIQRs, rowLogSumExps,
rowMadDiffs, rowMads, rowMaxs, rowMeans2, rowMedians, rowMins,
rowOrderStats, rowProds, rowQuantiles, rowRanges, rowRanks,
rowSdDiffs, rowSds, rowSums2, rowTabulates, rowVarDiffs, rowVars,
rowWeightedMads, rowWeightedMeans, rowWeightedMedians,
rowWeightedSds, rowWeightedVars
Loading required package: S4Vectors
Attaching package: 'S4Vectors'
The following objects are masked from 'package:Matrix':
expand, unname
The following objects are masked from 'package:base':
I, expand.grid, unname
Loading required package: IRanges
Attaching package: 'DelayedArray'
The following objects are masked from 'package:base':
apply, rowsum, scale, sweep
[ FAIL 0 | WARN 6 | SKIP 0 | PASS 535 ]
[ FAIL 0 | WARN 6 | SKIP 0 | PASS 535 ]
>
> proc.time()
user system elapsed
87.571 94.420 110.688
BiocSingular.Rcheck/BiocSingular-Ex.timings
| name | user | system | elapsed | |
| BiocSingularParam | 0.019 | 0.003 | 0.030 | |
| LowRankMatrix | 0.398 | 0.007 | 0.409 | |
| runExactSVD | 0.084 | 0.003 | 0.090 | |
| runIrlbaSVD | 0.028 | 0.002 | 0.031 | |
| runPCA | 0.073 | 0.008 | 0.084 | |
| runRandomSVD | 0.194 | 0.008 | 0.205 | |
| runSVD | 0.222 | 0.015 | 0.239 | |