| Back to Multiple platform build/check report for BioC 3.16: simplified long |
|
This page was generated on 2023-04-12 11:04:59 -0400 (Wed, 12 Apr 2023).
| Hostname | OS | Arch (*) | R version | Installed pkgs |
|---|---|---|---|---|
| nebbiolo2 | Linux (Ubuntu 20.04.5 LTS) | x86_64 | 4.2.3 (2023-03-15) -- "Shortstop Beagle" | 4502 |
| palomino4 | Windows Server 2022 Datacenter | x64 | 4.2.3 (2023-03-15 ucrt) -- "Shortstop Beagle" | 4282 |
| lconway | macOS 12.5.1 Monterey | x86_64 | 4.2.3 (2023-03-15) -- "Shortstop Beagle" | 4310 |
| Click on any hostname to see more info about the system (e.g. compilers) (*) as reported by 'uname -p', except on Windows and Mac OS X | ||||
|
To the developers/maintainers of the BiocParallel package: - Please allow up to 24 hours (and sometimes 48 hours) for your latest push to git@git.bioconductor.org:packages/BiocParallel.git to reflect on this report. See How and When does the builder pull? When will my changes propagate? for more information. - Make sure to use the following settings in order to reproduce any error or warning you see on this page. |
| Package 169/2183 | Hostname | OS / Arch | INSTALL | BUILD | CHECK | BUILD BIN | ||||||||
| BiocParallel 1.32.6 (landing page) Martin Morgan
| nebbiolo2 | Linux (Ubuntu 20.04.5 LTS) / x86_64 | OK | OK | OK | |||||||||
| palomino4 | Windows Server 2022 Datacenter / x64 | OK | OK | OK | OK | |||||||||
| lconway | macOS 12.5.1 Monterey / x86_64 | OK | OK | OK | OK | |||||||||
| Package: BiocParallel |
| Version: 1.32.6 |
| Command: /home/biocbuild/bbs-3.16-bioc/R/bin/R CMD INSTALL BiocParallel |
| StartedAt: 2023-04-10 15:17:33 -0400 (Mon, 10 Apr 2023) |
| EndedAt: 2023-04-10 15:17:51 -0400 (Mon, 10 Apr 2023) |
| EllapsedTime: 17.8 seconds |
| RetCode: 0 |
| Status: OK |
##############################################################################
##############################################################################
###
### Running command:
###
### /home/biocbuild/bbs-3.16-bioc/R/bin/R CMD INSTALL BiocParallel
###
##############################################################################
##############################################################################
* installing to library ‘/home/biocbuild/bbs-3.16-bioc/R/site-library’
* installing *source* package ‘BiocParallel’ ...
** using staged installation
checking whether the C++ compiler works... yes
checking for C++ compiler default output file name... a.out
checking for suffix of executables...
checking whether we are cross compiling... no
checking for suffix of object files... o
checking whether the compiler supports GNU C++... yes
checking whether g++ -std=gnu++14 accepts -g... yes
checking for g++ -std=gnu++14 option to enable C++11 features... none needed
checking for library containing shm_open... -lrt
checking for stdio.h... yes
checking for stdlib.h... yes
checking for string.h... yes
checking for inttypes.h... yes
checking for stdint.h... yes
checking for strings.h... yes
checking for sys/stat.h... yes
checking for sys/types.h... yes
checking for unistd.h... yes
checking for sys/mman.h... yes
configure: creating ./config.status
config.status: creating src/Makevars
** libs
g++ -std=gnu++11 -I"/home/biocbuild/bbs-3.16-bioc/R/include" -DNDEBUG -I'/home/biocbuild/bbs-3.16-bioc/R/site-library/BH/include' -I'/home/biocbuild/bbs-3.16-bioc/R/site-library/cpp11/include' -I/usr/local/include -fpic -g -O2 -Wall -c cpp11.cpp -o cpp11.o
g++ -std=gnu++11 -I"/home/biocbuild/bbs-3.16-bioc/R/include" -DNDEBUG -I'/home/biocbuild/bbs-3.16-bioc/R/site-library/BH/include' -I'/home/biocbuild/bbs-3.16-bioc/R/site-library/cpp11/include' -I/usr/local/include -fpic -g -O2 -Wall -c ipcmutex.cpp -o ipcmutex.o
In file included from /home/biocbuild/bbs-3.16-bioc/R/site-library/BH/include/boost/mpl/aux_/na_assert.hpp:23,
from /home/biocbuild/bbs-3.16-bioc/R/site-library/BH/include/boost/mpl/arg.hpp:25,
from /home/biocbuild/bbs-3.16-bioc/R/site-library/BH/include/boost/mpl/placeholders.hpp:24,
from /home/biocbuild/bbs-3.16-bioc/R/site-library/BH/include/boost/mpl/apply.hpp:24,
from /home/biocbuild/bbs-3.16-bioc/R/site-library/BH/include/boost/mpl/aux_/fold_impl.hpp:19,
from /home/biocbuild/bbs-3.16-bioc/R/site-library/BH/include/boost/mpl/fold.hpp:20,
from /home/biocbuild/bbs-3.16-bioc/R/site-library/BH/include/boost/mpl/remove_if.hpp:18,
from /home/biocbuild/bbs-3.16-bioc/R/site-library/BH/include/boost/mpl/remove.hpp:18,
from /home/biocbuild/bbs-3.16-bioc/R/site-library/BH/include/boost/function_types/components.hpp:44,
from /home/biocbuild/bbs-3.16-bioc/R/site-library/BH/include/boost/function_types/is_member_function_pointer.hpp:14,
from /home/biocbuild/bbs-3.16-bioc/R/site-library/BH/include/boost/tti/detail/dmem_fun.hpp:10,
from /home/biocbuild/bbs-3.16-bioc/R/site-library/BH/include/boost/tti/has_member_function.hpp:15,
from /home/biocbuild/bbs-3.16-bioc/R/site-library/BH/include/boost/uuid/random_generator.hpp:20,
from /home/biocbuild/bbs-3.16-bioc/R/site-library/BH/include/boost/uuid/uuid_generators.hpp:17,
from ipcmutex.cpp:3:
/home/biocbuild/bbs-3.16-bioc/R/site-library/BH/include/boost/mpl/assert.hpp:194:21: warning: unnecessary parentheses in declaration of ‘assert_arg’ [-Wparentheses]
194 | failed ************ (Pred::************
| ^
/home/biocbuild/bbs-3.16-bioc/R/site-library/BH/include/boost/mpl/assert.hpp:199:21: warning: unnecessary parentheses in declaration of ‘assert_not_arg’ [-Wparentheses]
199 | failed ************ (boost::mpl::not_<Pred>::************
| ^
g++ -std=gnu++11 -shared -L/home/biocbuild/bbs-3.16-bioc/R/lib -L/usr/local/lib -o BiocParallel.so cpp11.o ipcmutex.o -lrt -L/home/biocbuild/bbs-3.16-bioc/R/lib -lR
installing to /home/biocbuild/bbs-3.16-bioc/R/site-library/00LOCK-BiocParallel/00new/BiocParallel/libs
** R
** inst
** byte-compile and prepare package for lazy loading
** help
*** installing help indices
** building package indices
** installing vignettes
** testing if installed package can be loaded from temporary location
** checking absolute paths in shared objects and dynamic libraries
** testing if installed package can be loaded from final location
** testing if installed package keeps a record of temporary installation path
* DONE (BiocParallel)