| Back to Multiple platform build/check report for BioC 3.16 |
|
This page was generated on 2022-07-08 11:57:27 -0400 (Fri, 08 Jul 2022).
| Hostname | OS | Arch (*) | R version | Installed pkgs |
|---|---|---|---|---|
| nebbiolo2 | Linux (Ubuntu 20.04.4 LTS) | x86_64 | 4.2.0 Patched (2022-06-02 r82447) -- "Vigorous Calisthenics" | 4351 |
| palomino4 | Windows Server 2022 Datacenter | x64 | 4.2.0 Patched (2022-06-02 r82447 ucrt) -- "Vigorous Calisthenics" | 4154 |
| lconway | macOS 12.2.1 Monterey | x86_64 | 4.2.0 Patched (2022-05-29 r82424) -- "Vigorous Calisthenics" | 4166 |
| Click on any hostname to see more info about the system (e.g. compilers) (*) as reported by 'uname -p', except on Windows and Mac OS X | ||||
|
To the developers/maintainers of the BioPlex package: - Please allow up to 24 hours (and sometimes 48 hours) for your latest push to git@git.bioconductor.org:packages/BioPlex.git to reflect on this report. See How and When does the builder pull? When will my changes propagate? for more information. - Make sure to use the following settings in order to reproduce any error or warning you see on this page. |
| Package 195/2130 | Hostname | OS / Arch | INSTALL | BUILD | CHECK | BUILD BIN | ||||||||
| BioPlex 1.3.1 (landing page) Ludwig Geistlinger
| nebbiolo2 | Linux (Ubuntu 20.04.4 LTS) / x86_64 | OK | OK | OK | |||||||||
| palomino4 | Windows Server 2022 Datacenter / x64 | OK | OK | OK | OK | |||||||||
| lconway | macOS 12.2.1 Monterey / x86_64 | OK | OK | OK | OK | |||||||||
| Package: BioPlex |
| Version: 1.3.1 |
| Command: F:\biocbuild\bbs-3.16-bioc\R\bin\R.exe CMD check --force-multiarch --install=check:BioPlex.install-out.txt --library=F:\biocbuild\bbs-3.16-bioc\R\library --no-vignettes --timings BioPlex_1.3.1.tar.gz |
| StartedAt: 2022-07-07 23:43:58 -0400 (Thu, 07 Jul 2022) |
| EndedAt: 2022-07-07 23:47:43 -0400 (Thu, 07 Jul 2022) |
| EllapsedTime: 224.8 seconds |
| RetCode: 0 |
| Status: OK |
| CheckDir: BioPlex.Rcheck |
| Warnings: 0 |
##############################################################################
##############################################################################
###
### Running command:
###
### F:\biocbuild\bbs-3.16-bioc\R\bin\R.exe CMD check --force-multiarch --install=check:BioPlex.install-out.txt --library=F:\biocbuild\bbs-3.16-bioc\R\library --no-vignettes --timings BioPlex_1.3.1.tar.gz
###
##############################################################################
##############################################################################
* using log directory 'F:/biocbuild/bbs-3.16-bioc/meat/BioPlex.Rcheck'
* using R version 4.2.0 Patched (2022-06-02 r82447 ucrt)
* using platform: x86_64-w64-mingw32 (64-bit)
* using session charset: UTF-8
* using option '--no-vignettes'
* checking for file 'BioPlex/DESCRIPTION' ... OK
* this is package 'BioPlex' version '1.3.1'
* package encoding: UTF-8
* checking package namespace information ... OK
* checking package dependencies ... OK
* checking if this is a source package ... OK
* checking if there is a namespace ... OK
* checking for hidden files and directories ... OK
* checking for portable file names ... OK
* checking whether package 'BioPlex' can be installed ... OK
* checking installed package size ... OK
* checking package directory ... OK
* checking 'build' directory ... OK
* checking DESCRIPTION meta-information ... OK
* checking top-level files ... OK
* checking for left-over files ... OK
* checking index information ... OK
* checking package subdirectories ... OK
* checking R files for non-ASCII characters ... OK
* checking R files for syntax errors ... OK
* checking whether the package can be loaded ... OK
* checking whether the package can be loaded with stated dependencies ... OK
* checking whether the package can be unloaded cleanly ... OK
* checking whether the namespace can be loaded with stated dependencies ... OK
* checking whether the namespace can be unloaded cleanly ... OK
* checking dependencies in R code ... OK
* checking S3 generic/method consistency ... OK
* checking replacement functions ... OK
* checking foreign function calls ... OK
* checking R code for possible problems ... NOTE
getCorum: no visible binding for global variable 'Organism'
Undefined global functions or variables:
Organism
* checking Rd files ... OK
* checking Rd metadata ... OK
* checking Rd cross-references ... OK
* checking for missing documentation entries ... OK
* checking for code/documentation mismatches ... OK
* checking Rd \usage sections ... OK
* checking Rd contents ... OK
* checking for unstated dependencies in examples ... OK
* checking files in 'vignettes' ... OK
* checking examples ... OK
Examples with CPU (user + system) or elapsed time > 5s
user system elapsed
ccleProteome2SummarizedExperiment 38.05 2.17 42.96
annotatePFAM 18.83 0.73 20.49
bioplex2graph 7.64 0.24 7.91
mapSummarizedExperimentOntoGraph 5.84 0.28 6.22
* checking for unstated dependencies in vignettes ... OK
* checking package vignettes in 'inst/doc' ... OK
* checking running R code from vignettes ... SKIPPED
* checking re-building of vignette outputs ... SKIPPED
* checking PDF version of manual ... OK
* DONE
Status: 1 NOTE
See
'F:/biocbuild/bbs-3.16-bioc/meat/BioPlex.Rcheck/00check.log'
for details.
BioPlex.Rcheck/00install.out
##############################################################################
##############################################################################
###
### Running command:
###
### C:\cygwin\bin\curl.exe -O http://155.52.207.166/BBS/3.16/bioc/src/contrib/BioPlex_1.3.1.tar.gz && rm -rf BioPlex.buildbin-libdir && mkdir BioPlex.buildbin-libdir && F:\biocbuild\bbs-3.16-bioc\R\bin\R.exe CMD INSTALL --merge-multiarch --build --library=BioPlex.buildbin-libdir BioPlex_1.3.1.tar.gz && F:\biocbuild\bbs-3.16-bioc\R\bin\R.exe CMD INSTALL BioPlex_1.3.1.zip && rm BioPlex_1.3.1.tar.gz BioPlex_1.3.1.zip
###
##############################################################################
##############################################################################
% Total % Received % Xferd Average Speed Time Time Time Current
Dload Upload Total Spent Left Speed
0 0 0 0 0 0 0 0 --:--:-- --:--:-- --:--:-- 0
100 21980 100 21980 0 0 487k 0 --:--:-- --:--:-- --:--:-- 499k
only one architecture so ignoring '--merge-multiarch'
* installing *source* package 'BioPlex' ...
** using staged installation
** R
** inst
** byte-compile and prepare package for lazy loading
** help
*** installing help indices
** building package indices
** installing vignettes
** testing if installed package can be loaded from temporary location
** testing if installed package can be loaded from final location
** testing if installed package keeps a record of temporary installation path
* MD5 sums
packaged installation of 'BioPlex' as BioPlex_1.3.1.zip
* DONE (BioPlex)
* installing to library 'F:/biocbuild/bbs-3.16-bioc/R/library'
package 'BioPlex' successfully unpacked and MD5 sums checked
BioPlex.Rcheck/BioPlex-Ex.timings
| name | user | system | elapsed | |
| annotatePFAM | 18.83 | 0.73 | 20.49 | |
| bioplex2graph | 7.64 | 0.24 | 7.91 | |
| ccleProteome2SummarizedExperiment | 38.05 | 2.17 | 42.96 | |
| corum2graphlist | 4.20 | 0.28 | 4.72 | |
| corum2list | 0.22 | 0.13 | 0.46 | |
| getBioPlex | 1.59 | 0.15 | 2.02 | |
| getBioplexProteome | 0.50 | 0.00 | 0.53 | |
| getCorum | 0.36 | 0.06 | 0.51 | |
| getGSE122425 | 0.42 | 0.00 | 0.46 | |
| getHEK293GenomeTrack | 0.63 | 0.04 | 0.87 | |
| hasSubunit | 4.31 | 0.06 | 4.47 | |
| mapSummarizedExperimentOntoGraph | 5.84 | 0.28 | 6.22 | |