| Back to Multiple platform build/check report for BioC 3.16 |
|
This page was generated on 2022-07-08 11:57:27 -0400 (Fri, 08 Jul 2022).
| Hostname | OS | Arch (*) | R version | Installed pkgs |
|---|---|---|---|---|
| nebbiolo2 | Linux (Ubuntu 20.04.4 LTS) | x86_64 | 4.2.0 Patched (2022-06-02 r82447) -- "Vigorous Calisthenics" | 4351 |
| palomino4 | Windows Server 2022 Datacenter | x64 | 4.2.0 Patched (2022-06-02 r82447 ucrt) -- "Vigorous Calisthenics" | 4154 |
| lconway | macOS 12.2.1 Monterey | x86_64 | 4.2.0 Patched (2022-05-29 r82424) -- "Vigorous Calisthenics" | 4166 |
| Click on any hostname to see more info about the system (e.g. compilers) (*) as reported by 'uname -p', except on Windows and Mac OS X | ||||
|
To the developers/maintainers of the BioPlex package: - Please allow up to 24 hours (and sometimes 48 hours) for your latest push to git@git.bioconductor.org:packages/BioPlex.git to reflect on this report. See How and When does the builder pull? When will my changes propagate? for more information. - Make sure to use the following settings in order to reproduce any error or warning you see on this page. |
| Package 195/2130 | Hostname | OS / Arch | INSTALL | BUILD | CHECK | BUILD BIN | ||||||||
| BioPlex 1.3.1 (landing page) Ludwig Geistlinger
| nebbiolo2 | Linux (Ubuntu 20.04.4 LTS) / x86_64 | OK | OK | OK | |||||||||
| palomino4 | Windows Server 2022 Datacenter / x64 | OK | OK | OK | OK | |||||||||
| lconway | macOS 12.2.1 Monterey / x86_64 | OK | OK | OK | OK | |||||||||
| Package: BioPlex |
| Version: 1.3.1 |
| Command: rm -rf BioPlex.buildbin-libdir && mkdir BioPlex.buildbin-libdir && F:\biocbuild\bbs-3.16-bioc\R\bin\R.exe CMD INSTALL --merge-multiarch --build --library=BioPlex.buildbin-libdir BioPlex_1.3.1.tar.gz |
| StartedAt: 2022-07-08 07:25:32 -0400 (Fri, 08 Jul 2022) |
| EndedAt: 2022-07-08 07:25:55 -0400 (Fri, 08 Jul 2022) |
| EllapsedTime: 23.4 seconds |
| RetCode: 0 |
| Status: OK |
| PackageFile: BioPlex_1.3.1.zip |
| PackageFileSize: 706.9 KiB |
############################################################################## ############################################################################## ### ### Running command: ### ### rm -rf BioPlex.buildbin-libdir && mkdir BioPlex.buildbin-libdir && F:\biocbuild\bbs-3.16-bioc\R\bin\R.exe CMD INSTALL --merge-multiarch --build --library=BioPlex.buildbin-libdir BioPlex_1.3.1.tar.gz ### ############################################################################## ############################################################################## only one architecture so ignoring '--merge-multiarch' * installing *source* package 'BioPlex' ... ** using staged installation ** R ** inst ** byte-compile and prepare package for lazy loading ** help *** installing help indices ** building package indices ** installing vignettes ** testing if installed package can be loaded from temporary location ** testing if installed package can be loaded from final location ** testing if installed package keeps a record of temporary installation path * MD5 sums packaged installation of 'BioPlex' as BioPlex_1.3.1.zip * DONE (BioPlex)