| Back to Multiple platform build/check report for BioC 3.16: simplified long |
|
This page was generated on 2023-04-12 11:05:25 -0400 (Wed, 12 Apr 2023).
| Hostname | OS | Arch (*) | R version | Installed pkgs |
|---|---|---|---|---|
| nebbiolo2 | Linux (Ubuntu 20.04.5 LTS) | x86_64 | 4.2.3 (2023-03-15) -- "Shortstop Beagle" | 4502 |
| palomino4 | Windows Server 2022 Datacenter | x64 | 4.2.3 (2023-03-15 ucrt) -- "Shortstop Beagle" | 4282 |
| lconway | macOS 12.5.1 Monterey | x86_64 | 4.2.3 (2023-03-15) -- "Shortstop Beagle" | 4310 |
| Click on any hostname to see more info about the system (e.g. compilers) (*) as reported by 'uname -p', except on Windows and Mac OS X | ||||
|
To the developers/maintainers of the ASICS package: - Please allow up to 24 hours (and sometimes 48 hours) for your latest push to git@git.bioconductor.org:packages/ASICS.git to reflect on this report. See How and When does the builder pull? When will my changes propagate? for more information. - Make sure to use the following settings in order to reproduce any error or warning you see on this page. |
| Package 85/2183 | Hostname | OS / Arch | INSTALL | BUILD | CHECK | BUILD BIN | ||||||||
| ASICS 2.14.0 (landing page) Gaƫlle Lefort
| nebbiolo2 | Linux (Ubuntu 20.04.5 LTS) / x86_64 | OK | OK | OK | |||||||||
| palomino4 | Windows Server 2022 Datacenter / x64 | OK | OK | OK | OK | |||||||||
| lconway | macOS 12.5.1 Monterey / x86_64 | OK | OK | OK | OK | |||||||||
| Package: ASICS |
| Version: 2.14.0 |
| Command: F:\biocbuild\bbs-3.16-bioc\R\bin\R.exe CMD check --no-multiarch --install=check:ASICS.install-out.txt --library=F:\biocbuild\bbs-3.16-bioc\R\library --no-vignettes --timings ASICS_2.14.0.tar.gz |
| StartedAt: 2023-04-10 22:54:52 -0400 (Mon, 10 Apr 2023) |
| EndedAt: 2023-04-10 23:06:28 -0400 (Mon, 10 Apr 2023) |
| EllapsedTime: 695.7 seconds |
| RetCode: 0 |
| Status: OK |
| CheckDir: ASICS.Rcheck |
| Warnings: 0 |
##############################################################################
##############################################################################
###
### Running command:
###
### F:\biocbuild\bbs-3.16-bioc\R\bin\R.exe CMD check --no-multiarch --install=check:ASICS.install-out.txt --library=F:\biocbuild\bbs-3.16-bioc\R\library --no-vignettes --timings ASICS_2.14.0.tar.gz
###
##############################################################################
##############################################################################
* using log directory 'F:/biocbuild/bbs-3.16-bioc/meat/ASICS.Rcheck'
* using R version 4.2.3 (2023-03-15 ucrt)
* using platform: x86_64-w64-mingw32 (64-bit)
* using session charset: UTF-8
* using option '--no-vignettes'
* checking for file 'ASICS/DESCRIPTION' ... OK
* checking extension type ... Package
* this is package 'ASICS' version '2.14.0'
* package encoding: UTF-8
* checking package namespace information ... OK
* checking package dependencies ... OK
* checking if this is a source package ... OK
* checking if there is a namespace ... OK
* checking for hidden files and directories ... OK
* checking for portable file names ... OK
* checking whether package 'ASICS' can be installed ... OK
* checking installed package size ... NOTE
installed size is 6.1Mb
sub-directories of 1Mb or more:
data 1.0Mb
doc 2.7Mb
extdata 1.5Mb
* checking package directory ... OK
* checking 'build' directory ... OK
* checking DESCRIPTION meta-information ... OK
* checking top-level files ... OK
* checking for left-over files ... OK
* checking index information ... OK
* checking package subdirectories ... OK
* checking R files for non-ASCII characters ... OK
* checking R files for syntax errors ... OK
* checking whether the package can be loaded ... OK
* checking whether the package can be loaded with stated dependencies ... OK
* checking whether the package can be unloaded cleanly ... OK
* checking whether the namespace can be loaded with stated dependencies ... OK
* checking whether the namespace can be unloaded cleanly ... OK
* checking dependencies in R code ... OK
* checking S3 generic/method consistency ... OK
* checking replacement functions ... OK
* checking foreign function calls ... OK
* checking R code for possible problems ... OK
* checking Rd files ... OK
* checking Rd metadata ... OK
* checking Rd cross-references ... OK
* checking for missing documentation entries ... OK
* checking for code/documentation mismatches ... OK
* checking Rd \usage sections ... OK
* checking Rd contents ... OK
* checking for unstated dependencies in examples ... OK
* checking contents of 'data' directory ... OK
* checking data for non-ASCII characters ... OK
* checking LazyData ... OK
* checking data for ASCII and uncompressed saves ... OK
* checking installed files from 'inst/doc' ... OK
* checking files in 'vignettes' ... OK
* checking examples ... OK
Examples with CPU (user + system) or elapsed time > 5s
user system elapsed
simulate_spectra 55.55 2.22 57.78
ASICS 35.78 2.39 38.17
* checking for unstated dependencies in 'tests' ... OK
* checking tests ...
Running 'testthat.R'
OK
* checking for unstated dependencies in vignettes ... OK
* checking package vignettes in 'inst/doc' ... OK
* checking running R code from vignettes ... SKIPPED
* checking re-building of vignette outputs ... SKIPPED
* checking PDF version of manual ... OK
* DONE
Status: 1 NOTE
See
'F:/biocbuild/bbs-3.16-bioc/meat/ASICS.Rcheck/00check.log'
for details.
ASICS.Rcheck/00install.out
############################################################################## ############################################################################## ### ### Running command: ### ### F:\biocbuild\bbs-3.16-bioc\R\bin\R.exe CMD INSTALL ASICS ### ############################################################################## ############################################################################## * installing to library 'F:/biocbuild/bbs-3.16-bioc/R/library' * installing *source* package 'ASICS' ... ** using staged installation ** R ** data *** moving datasets to lazyload DB ** inst ** byte-compile and prepare package for lazy loading ** help *** installing help indices ** building package indices ** installing vignettes ** testing if installed package can be loaded from temporary location ** testing if installed package can be loaded from final location ** testing if installed package keeps a record of temporary installation path * DONE (ASICS)
ASICS.Rcheck/tests/testthat.Rout
R version 4.2.3 (2023-03-15 ucrt) -- "Shortstop Beagle"
Copyright (C) 2023 The R Foundation for Statistical Computing
Platform: x86_64-w64-mingw32/x64 (64-bit)
R is free software and comes with ABSOLUTELY NO WARRANTY.
You are welcome to redistribute it under certain conditions.
Type 'license()' or 'licence()' for distribution details.
R is a collaborative project with many contributors.
Type 'contributors()' for more information and
'citation()' on how to cite R or R packages in publications.
Type 'demo()' for some demos, 'help()' for on-line help, or
'help.start()' for an HTML browser interface to help.
Type 'q()' to quit R.
> library(testthat)
> library(ASICS)
>
> test_check("ASICS")
Binning
|
| | 0%
|
|= | 2%
|
|=== | 4%
|
|==== | 6%
|
|====== | 8%
|
|======= | 10%
|
|======== | 12%
|
|========== | 14%
|
|=========== | 16%
|
|============= | 18%
|
|============== | 20%
|
|=============== | 22%
|
|================= | 24%
|
|================== | 26%
|
|==================== | 28%
|
|===================== | 30%
|
|====================== | 32%
|
|======================== | 34%
|
|========================= | 36%
|
|=========================== | 38%
|
|============================ | 40%
|
|============================= | 42%
|
|=============================== | 44%
|
|================================ | 46%
|
|================================== | 48%
|
|=================================== | 50%
|
|==================================== | 52%
|
|====================================== | 54%
|
|======================================= | 56%
|
|========================================= | 58%
|
|========================================== | 60%
|
|=========================================== | 62%
|
|============================================= | 64%
|
|============================================== | 66%
|
|================================================ | 68%
|
|================================================= | 70%
|
|================================================== | 72%
|
|==================================================== | 74%
|
|===================================================== | 76%
|
|======================================================= | 78%
|
|======================================================== | 80%
|
|========================================================= | 82%
|
|=========================================================== | 84%
|
|============================================================ | 86%
|
|============================================================== | 88%
|
|=============================================================== | 90%
|
|================================================================ | 92%
|
|================================================================== | 94%
|
|=================================================================== | 96%
|
|===================================================================== | 98%
|
|======================================================================| 100%
Normalisation method : CS
|
| | 0%
|
|=================================== | 50%
|
|======================================================================| 100%
|
| | 0%
|
|=================================== | 50%
|
|======================================================================| 100%
|
| | 0%
|
|=================================== | 50%
|
|======================================================================| 100%
Import spectra from txt or csv files...
Normalisation method : CS
Import spectra from fid files...
Begin PreprocessingChain
Begin ReadFids
dim Fid_data: 2 16384
IDs: AG_faq_Beck01 AG_faq_Beck051
non-unique IDs? 0
End ReadFids
It lasted 0.01 s user time, 0 s system time and 0.02 s elapsed time.
Begin GroupDelayCorrection
End GroupDelayCorrection
It lasted 0.04 s user time, 0 s system time and 0.03 s elapsed time.
Begin SolventSuppression
End SolventSuppression
It lasted 0 s user time, 0 s system time and 0 s elapsed time.
Begin Apodization
End Apodization
It lasted 0 s user time, 0 s system time and 0 s elapsed time.
Begin ZeroFilling
End ZeroFilling
It lasted 0.04 s user time, 0 s system time and 0.04 s elapsed time.
Begin FourierTransform
End FourierTransform
It lasted 0.05 s user time, 0 s system time and 0.05 s elapsed time.
Begin ZeroOrderPhaseCorrection
End ZeroOrderPhaseCorrection
It lasted 0.16 s user time, 0 s system time and 0.16 s elapsed time.
Begin InternalReferencing
End InternalReferencing
It lasted 0 s user time, 0.02 s system time and 0.01 s elapsed time.
Begin WindowSelection
End WindowSelection
It lasted 0.04 s user time, 0 s system time and 0.05 s elapsed time.
End PreprocessingChain
It lasted 0.34 s user time, 0.02 s system time and 0.36 s elapsed time.
Normalisation method : CS
Import spectra from txt or csv files...
Normalisation method : CS
Normalisation method : CS
Alignment...
Peak detection
|
| | 0%
|
|================== | 25%
|
|=================================== | 50%
|
|==================================================== | 75%
|
|======================================================================| 100%
Finding reference spectrum
Compute FFT correlations
|
| | 0%
|
|================== | 25%
|
|=================================== | 50%
|
|==================================================== | 75%
|
|======================================================================| 100%
The reference spectrum is the number 3 : AG_faq_Beck139
Align spectra
|
| | 0%
|
|================== | 25%
|
|=================================== | 50%
|
|==================================================== | 75%
|
|======================================================================| 100%
Import spectra from txt or csv files...
Normalisation method : CS
Binning
|
| | 0%
|
|================== | 25%
|
|=================================== | 50%
|
|==================================================== | 75%
|
|======================================================================| 100%
Normalisation method : CS
Import spectra from txt or csv files...
Normalisation method : CS
Remove areas from spectrum and library
|
| | 0%
|
|================== | 25%
|
|=================================== | 50%
|
|==================================================== | 75%
|
|======================================================================| 100%
Compute weights
|
| | 0%
|
|================== | 25%
|
|=================================== | 50%
|
|==================================================== | 75%
|
|======================================================================| 100%
Remove metabolites that cannot belong to the mixture
|
| | 0%
|
|================== | 25%
|
|=================================== | 50%
|
|==================================================== | 75%
|
|======================================================================| 100%
Translate library
|
| | 0%
|
|================== | 25%
|
|=================================== | 50%
|
|==================================================== | 75%
|
|======================================================================| 100%
Deform library peaks
|
| | 0%
|
|================== | 25%
|
|=================================== | 50%
|
|==================================================== | 75%
|
|======================================================================| 100%
Compute quantifications
|
| | 0%
|
|================== | 25%
|
|=================================== | 50%
|
|==================================================== | 75%
|
|======================================================================| 100%
Format global results...
Remove areas from spectrum and library
|
| | 0%
|
|================== | 25%
|
|=================================== | 50%
|
|==================================================== | 75%
|
|======================================================================| 100%
Compute weights
|
| | 0%
|
|================== | 25%
|
|=================================== | 50%
|
|==================================================== | 75%
|
|======================================================================| 100%
Remove metabolites that cannot belong to the mixture
|
| | 0%
|
|================== | 25%
|
|=================================== | 50%
|
|==================================================== | 75%
|
|======================================================================| 100%
Translate library
|
| | 0%
|
|================== | 25%
|
|=================================== | 50%
|
|==================================================== | 75%
|
|======================================================================| 100%
Deform library peaks
|
| | 0%
|
|================== | 25%
|
|=================================== | 50%
|
|==================================================== | 75%
|
|======================================================================| 100%
Compute quantifications
|
| | 0%
|
|================== | 25%
|
|=================================== | 50%
|
|==================================================== | 75%
|
|======================================================================| 100%
Format global results...
Import spectra from 1r files...
|
| | 0%
|
|=================================== | 50%
|
|======================================================================| 100%
Normalisation method : CS
Remove areas from spectrum and library
|
| | 0%
|
|=================================== | 50%
|
|======================================================================| 100%
Compute weights
|
| | 0%
|
|=================================== | 50%
|
|======================================================================| 100%
Remove metabolites that cannot belong to the mixture
|
| | 0%
|
|=================================== | 50%
|
|======================================================================| 100%
Translate library
Compute shifts for all maximum shift values
|
| | 0%
|
|=================================== | 50%
|
|======================================================================| 100%
|
| | 0%
|
|============== | 20%
|
|============================ | 40%
|
|========================================== | 60%
|
|======================================================== | 80%
|
|======================================================================| 100%
|
| | 0%
|
|============== | 20%
|
|============================ | 40%
|
|========================================== | 60%
|
|======================================================== | 80%
|
|======================================================================| 100%
Put the median shift for extreme shift values
|
| | 0%
|
|============== | 20%
|
|============================ | 40%
|
|========================================== | 60%
|
|======================================================== | 80%
|
|======================================================================| 100%
|
| | 0%
|
|============== | 20%
|
|============================ | 40%
|
|========================================== | 60%
|
|======================================================== | 80%
|
|======================================================================| 100%
|
| | 0%
|
|============== | 20%
|
|============================ | 40%
|
|========================================== | 60%
|
|======================================================== | 80%
|
|======================================================================| 100%
Compute correlations between buckets and quantifications
|
| | 0%
|
|============== | 20%
|
|============================ | 40%
|
|========================================== | 60%
|
|======================================================== | 80%
|
|======================================================================| 100%
Shift all spectra according to the best shift
|
| | 0%
|
|=================================== | 50%
|
|======================================================================| 100%
Deform library peaks
|
| | 0%
|
|=================================== | 50%
|
|======================================================================| 100%
Compute quantifications
|
| | 0%
|
|=================================== | 50%
|
|======================================================================| 100%
Format global results...
Remove areas from spectrum and library
|
| | 0%
|
|=================================== | 50%
|
|======================================================================| 100%
Compute weights
|
| | 0%
|
|=================================== | 50%
|
|======================================================================| 100%
Remove metabolites that cannot belong to the mixture
|
| | 0%
|
|=================================== | 50%
|
|======================================================================| 100%
Translate library
Compute shifts for all maximum shift values
|
| | 0%
|
|=================================== | 50%
|
|======================================================================| 100%
|
| | 0%
|
|============== | 20%
|
|============================ | 40%
|
|========================================== | 60%
|
|======================================================== | 80%
|
|======================================================================| 100%
|
| | 0%
|
|============== | 20%
|
|============================ | 40%
|
|========================================== | 60%
|
|======================================================== | 80%
|
|======================================================================| 100%
Put the median shift for extreme shift values
|
| | 0%
|
|============== | 20%
|
|============================ | 40%
|
|========================================== | 60%
|
|======================================================== | 80%
|
|======================================================================| 100%
|
| | 0%
|
|============== | 20%
|
|============================ | 40%
|
|========================================== | 60%
|
|======================================================== | 80%
|
|======================================================================| 100%
|
| | 0%
|
|============== | 20%
|
|============================ | 40%
|
|========================================== | 60%
|
|======================================================== | 80%
|
|======================================================================| 100%
Compute correlations between buckets and quantifications
|
| | 0%
|
|============== | 20%
|
|============================ | 40%
|
|========================================== | 60%
|
|======================================================== | 80%
|
|======================================================================| 100%
Shift all spectra according to the best shift
|
| | 0%
|
|=================================== | 50%
|
|======================================================================| 100%
Deform library peaks
|
| | 0%
|
|=================================== | 50%
|
|======================================================================| 100%
Compute quantifications
|
| | 0%
|
|=================================== | 50%
|
|======================================================================| 100%
Format global results...
[ FAIL 0 | WARN 1 | SKIP 0 | PASS 23 ]
[ FAIL 0 | WARN 1 | SKIP 0 | PASS 23 ]
>
> proc.time()
user system elapsed
382.23 26.53 410.00
ASICS.Rcheck/ASICS-Ex.timings
| name | user | system | elapsed | |
| ASICS | 35.78 | 2.39 | 38.17 | |
| ASICSUsersGuide | 0 | 0 | 0 | |
| accessors-methods | 0.14 | 0.03 | 0.17 | |
| alignSpectra | 1.44 | 0.05 | 1.49 | |
| binning | 0.26 | 0.02 | 0.28 | |
| combineAndSubset-methods | 0.03 | 0.00 | 0.03 | |
| createPureLibrary | 0.28 | 0.00 | 0.29 | |
| createSpectra | 0.93 | 0.03 | 0.95 | |
| formatForAnalysis | 0.43 | 0.01 | 0.48 | |
| importSpectra | 0.61 | 0.02 | 0.63 | |
| importSpectraBruker | 0.11 | 0.02 | 0.12 | |
| kruskalWallis | 0.21 | 0.00 | 0.21 | |
| normaliseSpectra | 0.04 | 0.00 | 0.04 | |
| oplsda | 0.13 | 0.00 | 0.13 | |
| pca | 0.04 | 0.00 | 0.04 | |
| plotAlignment | 0.61 | 0.09 | 0.71 | |
| simulate_spectra | 55.55 | 2.22 | 57.78 | |
| summary-methods | 0.03 | 0.00 | 0.03 | |
| visualisation-methods-analyses | 1.61 | 0.12 | 1.73 | |
| visualisation-methods-spectra | 0.56 | 0.07 | 0.63 | |