| Back to Multiple platform build/check report for BioC 3.16: simplified long |
|
This page was generated on 2023-04-12 11:05:59 -0400 (Wed, 12 Apr 2023).
| Hostname | OS | Arch (*) | R version | Installed pkgs |
|---|---|---|---|---|
| nebbiolo2 | Linux (Ubuntu 20.04.5 LTS) | x86_64 | 4.2.3 (2023-03-15) -- "Shortstop Beagle" | 4502 |
| palomino4 | Windows Server 2022 Datacenter | x64 | 4.2.3 (2023-03-15 ucrt) -- "Shortstop Beagle" | 4282 |
| lconway | macOS 12.5.1 Monterey | x86_64 | 4.2.3 (2023-03-15) -- "Shortstop Beagle" | 4310 |
| Click on any hostname to see more info about the system (e.g. compilers) (*) as reported by 'uname -p', except on Windows and Mac OS X | ||||
|
To the developers/maintainers of the ASICS package: - Please allow up to 24 hours (and sometimes 48 hours) for your latest push to git@git.bioconductor.org:packages/ASICS.git to reflect on this report. See How and When does the builder pull? When will my changes propagate? for more information. - Make sure to use the following settings in order to reproduce any error or warning you see on this page. |
| Package 85/2183 | Hostname | OS / Arch | INSTALL | BUILD | CHECK | BUILD BIN | ||||||||
| ASICS 2.14.0 (landing page) Gaëlle Lefort
| nebbiolo2 | Linux (Ubuntu 20.04.5 LTS) / x86_64 | OK | OK | OK | |||||||||
| palomino4 | Windows Server 2022 Datacenter / x64 | OK | OK | OK | OK | |||||||||
| lconway | macOS 12.5.1 Monterey / x86_64 | OK | OK | OK | OK | |||||||||
| Package: ASICS |
| Version: 2.14.0 |
| Command: /Library/Frameworks/R.framework/Resources/bin/R CMD check --install=check:ASICS.install-out.txt --library=/Library/Frameworks/R.framework/Resources/library --no-vignettes --timings ASICS_2.14.0.tar.gz |
| StartedAt: 2023-04-10 18:49:57 -0400 (Mon, 10 Apr 2023) |
| EndedAt: 2023-04-10 19:00:54 -0400 (Mon, 10 Apr 2023) |
| EllapsedTime: 656.5 seconds |
| RetCode: 0 |
| Status: OK |
| CheckDir: ASICS.Rcheck |
| Warnings: 0 |
##############################################################################
##############################################################################
###
### Running command:
###
### /Library/Frameworks/R.framework/Resources/bin/R CMD check --install=check:ASICS.install-out.txt --library=/Library/Frameworks/R.framework/Resources/library --no-vignettes --timings ASICS_2.14.0.tar.gz
###
##############################################################################
##############################################################################
* using log directory ‘/Users/biocbuild/bbs-3.16-bioc/meat/ASICS.Rcheck’
* using R version 4.2.3 (2023-03-15)
* using platform: x86_64-apple-darwin17.0 (64-bit)
* using session charset: UTF-8
* using option ‘--no-vignettes’
* checking for file ‘ASICS/DESCRIPTION’ ... OK
* checking extension type ... Package
* this is package ‘ASICS’ version ‘2.14.0’
* package encoding: UTF-8
* checking package namespace information ... OK
* checking package dependencies ... OK
* checking if this is a source package ... OK
* checking if there is a namespace ... OK
* checking for hidden files and directories ... OK
* checking for portable file names ... OK
* checking for sufficient/correct file permissions ... OK
* checking whether package ‘ASICS’ can be installed ... OK
* checking installed package size ... NOTE
installed size is 6.1Mb
sub-directories of 1Mb or more:
data 1.0Mb
doc 2.7Mb
extdata 1.5Mb
* checking package directory ... OK
* checking ‘build’ directory ... OK
* checking DESCRIPTION meta-information ... OK
* checking top-level files ... OK
* checking for left-over files ... OK
* checking index information ... OK
* checking package subdirectories ... OK
* checking R files for non-ASCII characters ... OK
* checking R files for syntax errors ... OK
* checking whether the package can be loaded ... OK
* checking whether the package can be loaded with stated dependencies ... OK
* checking whether the package can be unloaded cleanly ... OK
* checking whether the namespace can be loaded with stated dependencies ... OK
* checking whether the namespace can be unloaded cleanly ... OK
* checking dependencies in R code ... OK
* checking S3 generic/method consistency ... OK
* checking replacement functions ... OK
* checking foreign function calls ... OK
* checking R code for possible problems ... OK
* checking Rd files ... OK
* checking Rd metadata ... OK
* checking Rd cross-references ... OK
* checking for missing documentation entries ... OK
* checking for code/documentation mismatches ... OK
* checking Rd \usage sections ... OK
* checking Rd contents ... OK
* checking for unstated dependencies in examples ... OK
* checking contents of ‘data’ directory ... OK
* checking data for non-ASCII characters ... OK
* checking LazyData ... OK
* checking data for ASCII and uncompressed saves ... OK
* checking installed files from ‘inst/doc’ ... OK
* checking files in ‘vignettes’ ... OK
* checking examples ... OK
Examples with CPU (user + system) or elapsed time > 5s
user system elapsed
simulate_spectra 51.361 3.188 54.684
ASICS 34.620 3.899 38.694
* checking for unstated dependencies in ‘tests’ ... OK
* checking tests ...
Running ‘testthat.R’
OK
* checking for unstated dependencies in vignettes ... OK
* checking package vignettes in ‘inst/doc’ ... OK
* checking running R code from vignettes ... SKIPPED
* checking re-building of vignette outputs ... SKIPPED
* checking PDF version of manual ... OK
* DONE
Status: 1 NOTE
See
‘/Users/biocbuild/bbs-3.16-bioc/meat/ASICS.Rcheck/00check.log’
for details.
ASICS.Rcheck/00install.out
############################################################################## ############################################################################## ### ### Running command: ### ### /Library/Frameworks/R.framework/Resources/bin/R CMD INSTALL ASICS ### ############################################################################## ############################################################################## * installing to library ‘/Library/Frameworks/R.framework/Versions/4.2/Resources/library’ * installing *source* package ‘ASICS’ ... ** using staged installation ** R ** data *** moving datasets to lazyload DB ** inst ** byte-compile and prepare package for lazy loading ** help *** installing help indices ** building package indices ** installing vignettes ** testing if installed package can be loaded from temporary location ** testing if installed package can be loaded from final location ** testing if installed package keeps a record of temporary installation path * DONE (ASICS)
ASICS.Rcheck/tests/testthat.Rout
R version 4.2.3 (2023-03-15) -- "Shortstop Beagle"
Copyright (C) 2023 The R Foundation for Statistical Computing
Platform: x86_64-apple-darwin17.0 (64-bit)
R is free software and comes with ABSOLUTELY NO WARRANTY.
You are welcome to redistribute it under certain conditions.
Type 'license()' or 'licence()' for distribution details.
R is a collaborative project with many contributors.
Type 'contributors()' for more information and
'citation()' on how to cite R or R packages in publications.
Type 'demo()' for some demos, 'help()' for on-line help, or
'help.start()' for an HTML browser interface to help.
Type 'q()' to quit R.
> library(testthat)
> library(ASICS)
>
> test_check("ASICS")
Binning
|
| | 0%
|
|= | 2%
|
|=== | 4%
|
|==== | 6%
|
|====== | 8%
|
|======= | 10%
|
|======== | 12%
|
|========== | 14%
|
|=========== | 16%
|
|============= | 18%
|
|============== | 20%
|
|=============== | 22%
|
|================= | 24%
|
|================== | 26%
|
|==================== | 28%
|
|===================== | 30%
|
|====================== | 32%
|
|======================== | 34%
|
|========================= | 36%
|
|=========================== | 38%
|
|============================ | 40%
|
|============================= | 42%
|
|=============================== | 44%
|
|================================ | 46%
|
|================================== | 48%
|
|=================================== | 50%
|
|==================================== | 52%
|
|====================================== | 54%
|
|======================================= | 56%
|
|========================================= | 58%
|
|========================================== | 60%
|
|=========================================== | 62%
|
|============================================= | 64%
|
|============================================== | 66%
|
|================================================ | 68%
|
|================================================= | 70%
|
|================================================== | 72%
|
|==================================================== | 74%
|
|===================================================== | 76%
|
|======================================================= | 78%
|
|======================================================== | 80%
|
|========================================================= | 82%
|
|=========================================================== | 84%
|
|============================================================ | 86%
|
|============================================================== | 88%
|
|=============================================================== | 90%
|
|================================================================ | 92%
|
|================================================================== | 94%
|
|=================================================================== | 96%
|
|===================================================================== | 98%
|
|======================================================================| 100%
Normalisation method : CS
|
| | 0%
|
|=================================== | 50%
|
|======================================================================| 100%
|
| | 0%
|
|=================================== | 50%
|
|======================================================================| 100%
|
| | 0%
|
|=================================== | 50%
|
|======================================================================| 100%
Import spectra from txt or csv files...
Normalisation method : CS
Import spectra from fid files...
Begin PreprocessingChain
Begin ReadFids
dim Fid_data: 2 16384
IDs: AG_faq_Beck01 AG_faq_Beck051
non-unique IDs? 0
End ReadFids
It lasted 0.009 s user time, 0.001 s system time and 0.01 s elapsed time.
Begin GroupDelayCorrection
End GroupDelayCorrection
It lasted 0.02 s user time, 0 s system time and 0.02 s elapsed time.
Begin SolventSuppression
End SolventSuppression
It lasted 0.005 s user time, 0 s system time and 0.005 s elapsed time.
Begin Apodization
End Apodization
It lasted 0 s user time, 0 s system time and 0.001 s elapsed time.
Begin ZeroFilling
End ZeroFilling
It lasted 0.02 s user time, 0 s system time and 0.02 s elapsed time.
Begin FourierTransform
End FourierTransform
It lasted 0.006 s user time, 0 s system time and 0.006 s elapsed time.
Begin ZeroOrderPhaseCorrection
End ZeroOrderPhaseCorrection
It lasted 0.098 s user time, 0.011 s system time and 0.109 s elapsed time.
Begin InternalReferencing
End InternalReferencing
It lasted 0.007 s user time, 0 s system time and 0.007 s elapsed time.
Begin WindowSelection
End WindowSelection
It lasted 0.035 s user time, 0 s system time and 0.035 s elapsed time.
End PreprocessingChain
It lasted 0.202 s user time, 0.013 s system time and 0.216 s elapsed time.
Normalisation method : CS
Import spectra from txt or csv files...
Normalisation method : CS
Normalisation method : CS
Alignment...
Peak detection
|
| | 0%
|
|================== | 25%
|
|=================================== | 50%
|
|==================================================== | 75%
|
|======================================================================| 100%
Finding reference spectrum
Compute FFT correlations
|
| | 0%
|
|================== | 25%
|
|=================================== | 50%
|
|==================================================== | 75%
|
|======================================================================| 100%
The reference spectrum is the number 3 : AG_faq_Beck139
Align spectra
|
| | 0%
|
|================== | 25%
|
|=================================== | 50%
|
|==================================================== | 75%
|
|======================================================================| 100%
Import spectra from txt or csv files...
Normalisation method : CS
Binning
|
| | 0%
|
|================== | 25%
|
|=================================== | 50%
|
|==================================================== | 75%
|
|======================================================================| 100%
Normalisation method : CS
Import spectra from txt or csv files...
Normalisation method : CS
Remove areas from spectrum and library
|
| | 0%
|
|================== | 25%
|
|=================================== | 50%
|
|==================================================== | 75%
|
|======================================================================| 100%
Compute weights
|
| | 0%
|
|================== | 25%
|
|=================================== | 50%
|
|==================================================== | 75%
|
|======================================================================| 100%
Remove metabolites that cannot belong to the mixture
|
| | 0%
|
|================== | 25%
|
|=================================== | 50%
|
|==================================================== | 75%
|
|======================================================================| 100%
Translate library
|
| | 0%
|
|================== | 25%
|
|=================================== | 50%
|
|==================================================== | 75%
|
|======================================================================| 100%
Deform library peaks
|
| | 0%
|
|================== | 25%
|
|=================================== | 50%
|
|==================================================== | 75%
|
|======================================================================| 100%
Compute quantifications
|
| | 0%
|
|================== | 25%
|
|=================================== | 50%
|
|==================================================== | 75%
|
|======================================================================| 100%
Format global results...
Remove areas from spectrum and library
|
| | 0%
|
|================== | 25%
|
|=================================== | 50%
|
|==================================================== | 75%
|
|======================================================================| 100%
Compute weights
|
| | 0%
|
|================== | 25%
|
|=================================== | 50%
|
|==================================================== | 75%
|
|======================================================================| 100%
Remove metabolites that cannot belong to the mixture
|
| | 0%
|
|================== | 25%
|
|=================================== | 50%
|
|==================================================== | 75%
|
|======================================================================| 100%
Translate library
|
| | 0%
|
|================== | 25%
|
|=================================== | 50%
|
|==================================================== | 75%
|
|======================================================================| 100%
Deform library peaks
|
| | 0%
|
|================== | 25%
|
|=================================== | 50%
|
|==================================================== | 75%
|
|======================================================================| 100%
Compute quantifications
|
| | 0%
|
|================== | 25%
|
|=================================== | 50%
|
|==================================================== | 75%
|
|======================================================================| 100%
Format global results...
Import spectra from 1r files...
|
| | 0%
|
|=================================== | 50%
|
|======================================================================| 100%
Normalisation method : CS
Remove areas from spectrum and library
|
| | 0%
|
|=================================== | 50%
|
|======================================================================| 100%
Compute weights
|
| | 0%
|
|=================================== | 50%
|
|======================================================================| 100%
Remove metabolites that cannot belong to the mixture
|
| | 0%
|
|=================================== | 50%
|
|======================================================================| 100%
Translate library
Compute shifts for all maximum shift values
|
| | 0%
|
|=================================== | 50%
|
|======================================================================| 100%
|
| | 0%
|
|============== | 20%
|
|============================ | 40%
|
|========================================== | 60%
|
|======================================================== | 80%
|
|======================================================================| 100%
|
| | 0%
|
|============== | 20%
|
|============================ | 40%
|
|========================================== | 60%
|
|======================================================== | 80%
|
|======================================================================| 100%
Put the median shift for extreme shift values
|
| | 0%
|
|============== | 20%
|
|============================ | 40%
|
|========================================== | 60%
|
|======================================================== | 80%
|
|======================================================================| 100%
|
| | 0%
|
|============== | 20%
|
|============================ | 40%
|
|========================================== | 60%
|
|======================================================== | 80%
|
|======================================================================| 100%
|
| | 0%
|
|============== | 20%
|
|============================ | 40%
|
|========================================== | 60%
|
|======================================================== | 80%
|
|======================================================================| 100%
Compute correlations between buckets and quantifications
|
| | 0%
|
|============== | 20%
|
|============================ | 40%
|
|========================================== | 60%
|
|======================================================== | 80%
|
|======================================================================| 100%
Shift all spectra according to the best shift
|
| | 0%
|
|=================================== | 50%
|
|======================================================================| 100%
Deform library peaks
|
| | 0%
|
|=================================== | 50%
|
|======================================================================| 100%
Compute quantifications
|
| | 0%
|
|=================================== | 50%
|
|======================================================================| 100%
Format global results...
Remove areas from spectrum and library
|
| | 0%
|
|=================================== | 50%
|
|======================================================================| 100%
Compute weights
|
| | 0%
|
|=================================== | 50%
|
|======================================================================| 100%
Remove metabolites that cannot belong to the mixture
|
| | 0%
|
|=================================== | 50%
|
|======================================================================| 100%
Translate library
Compute shifts for all maximum shift values
|
| | 0%
|
|=================================== | 50%
|
|======================================================================| 100%
|
| | 0%
|
|============== | 20%
|
|============================ | 40%
|
|========================================== | 60%
|
|======================================================== | 80%
|
|======================================================================| 100%
|
| | 0%
|
|============== | 20%
|
|============================ | 40%
|
|========================================== | 60%
|
|======================================================== | 80%
|
|======================================================================| 100%
Put the median shift for extreme shift values
|
| | 0%
|
|============== | 20%
|
|============================ | 40%
|
|========================================== | 60%
|
|======================================================== | 80%
|
|======================================================================| 100%
|
| | 0%
|
|============== | 20%
|
|============================ | 40%
|
|========================================== | 60%
|
|======================================================== | 80%
|
|======================================================================| 100%
|
| | 0%
|
|============== | 20%
|
|============================ | 40%
|
|========================================== | 60%
|
|======================================================== | 80%
|
|======================================================================| 100%
Compute correlations between buckets and quantifications
|
| | 0%
|
|============== | 20%
|
|============================ | 40%
|
|========================================== | 60%
|
|======================================================== | 80%
|
|======================================================================| 100%
Shift all spectra according to the best shift
|
| | 0%
|
|=================================== | 50%
|
|======================================================================| 100%
Deform library peaks
|
| | 0%
|
|=================================== | 50%
|
|======================================================================| 100%
Compute quantifications
|
| | 0%
|
|=================================== | 50%
|
|======================================================================| 100%
Format global results...
[ FAIL 0 | WARN 1 | SKIP 0 | PASS 23 ]
[ FAIL 0 | WARN 1 | SKIP 0 | PASS 23 ]
>
> proc.time()
user system elapsed
291.231 97.366 391.467
ASICS.Rcheck/ASICS-Ex.timings
| name | user | system | elapsed | |
| ASICS | 34.620 | 3.899 | 38.694 | |
| ASICSUsersGuide | 0.000 | 0.001 | 0.001 | |
| accessors-methods | 0.056 | 0.063 | 0.118 | |
| alignSpectra | 1.129 | 0.074 | 1.230 | |
| binning | 0.158 | 0.027 | 0.195 | |
| combineAndSubset-methods | 0.026 | 0.001 | 0.028 | |
| createPureLibrary | 0.129 | 0.012 | 0.145 | |
| createSpectra | 0.093 | 0.005 | 0.100 | |
| formatForAnalysis | 0.351 | 0.005 | 0.359 | |
| importSpectra | 0.428 | 0.033 | 0.464 | |
| importSpectraBruker | 0.103 | 0.011 | 0.115 | |
| kruskalWallis | 0.147 | 0.002 | 0.148 | |
| normaliseSpectra | 0.023 | 0.001 | 0.024 | |
| oplsda | 0.082 | 0.001 | 0.083 | |
| pca | 0.047 | 0.001 | 0.048 | |
| plotAlignment | 0.511 | 0.026 | 0.538 | |
| simulate_spectra | 51.361 | 3.188 | 54.684 | |
| summary-methods | 0.018 | 0.001 | 0.019 | |
| visualisation-methods-analyses | 0.880 | 0.057 | 0.944 | |
| visualisation-methods-spectra | 0.425 | 0.018 | 0.444 | |