This page was generated on 2022-10-18 14:00:09 -0400 (Tue, 18 Oct 2022).
|
| Hostname | OS | Arch (*) | R version | Installed pkgs |
|---|---|---|---|---|
| nebbiolo1 | Linux (Ubuntu 20.04.5 LTS) | x86_64 | 4.2.1 (2022-06-23) -- "Funny-Looking Kid" | 4386 |
| merida1 | macOS 10.14.6 Mojave | x86_64 | 4.2.1 (2022-06-23) -- "Funny-Looking Kid" | 4205 |
| Click on any hostname to see more info about the system (e.g. compilers) (*) as reported by 'uname -p', except on Windows and Mac OS X | ||||
A | |||||||||
| QUICK STATS | OS / Arch | INSTALL | BUILD | ||||||||||
| nebbiolo1 | Linux (Ubuntu 20.04.5 LTS) / x86_64 |
|
| ||||||||||
| merida1 | macOS 10.14.6 Mojave / x86_64 |
|
| ||||||||||
| Package 1/29 | Hostname | OS / Arch | INSTALL | BUILD | |||||||||
| annotation 1.20.0 (landing page) Bioconductor Package Maintainer
| nebbiolo1 | Linux (Ubuntu 20.04.5 LTS) / x86_64 | OK | ERROR | |||||||||
| merida1 | macOS 10.14.6 Mojave / x86_64 | OK | OK | ||||||||||
| Package 2/29 | Hostname | OS / Arch | INSTALL | BUILD | |||||||||
| arrays 1.22.0 (landing page) Bioconductor Package Maintainer
| nebbiolo1 | Linux (Ubuntu 20.04.5 LTS) / x86_64 | OK | OK | |||||||||
| merida1 | macOS 10.14.6 Mojave / x86_64 | OK | OK | ||||||||||
| Package 3/29 | Hostname | OS / Arch | INSTALL | BUILD | |||||||||
| BiocMetaWorkflow 1.18.0 (landing page) Mike Smith
| nebbiolo1 | Linux (Ubuntu 20.04.5 LTS) / x86_64 | OK | OK | |||||||||
| merida1 | macOS 10.14.6 Mojave / x86_64 | OK | OK | ||||||||||
| Package 4/29 | Hostname | OS / Arch | INSTALL | BUILD | |||||||||
| BP4RNAseq 1.6.0 (landing page) Shanwen Sun
| nebbiolo1 | Linux (Ubuntu 20.04.5 LTS) / x86_64 | OK | OK | |||||||||
| merida1 | macOS 10.14.6 Mojave / x86_64 | OK | OK | ||||||||||
| Package 5/29 | Hostname | OS / Arch | INSTALL | BUILD | |||||||||
| CAGEWorkflow 1.12.0 (landing page) Malte Thodberg
| nebbiolo1 | Linux (Ubuntu 20.04.5 LTS) / x86_64 | OK | OK | |||||||||
| merida1 | macOS 10.14.6 Mojave / x86_64 | OK | OK | ||||||||||
| Package 6/29 | Hostname | OS / Arch | INSTALL | BUILD | |||||||||
| chipseqDB 1.20.0 (landing page) Aaron Lun
| nebbiolo1 | Linux (Ubuntu 20.04.5 LTS) / x86_64 | OK | OK | |||||||||
| merida1 | macOS 10.14.6 Mojave / x86_64 | OK | OK | ||||||||||
| Package 7/29 | Hostname | OS / Arch | INSTALL | BUILD | |||||||||
| csawUsersGuide 1.12.0 (landing page) Aaron Lun
| nebbiolo1 | Linux (Ubuntu 20.04.5 LTS) / x86_64 | OK | OK | |||||||||
| merida1 | macOS 10.14.6 Mojave / x86_64 | OK | OK | ||||||||||
| Package 8/29 | Hostname | OS / Arch | INSTALL | BUILD | |||||||||
| cytofWorkflow 1.20.0 (landing page) Mark D. Robinson
| nebbiolo1 | Linux (Ubuntu 20.04.5 LTS) / x86_64 | OK | OK | |||||||||
| merida1 | macOS 10.14.6 Mojave / x86_64 | OK | OK | ||||||||||
| Package 9/29 | Hostname | OS / Arch | INSTALL | BUILD | |||||||||
| EGSEA123 1.20.0 (landing page) Matthew Ritchie
| nebbiolo1 | Linux (Ubuntu 20.04.5 LTS) / x86_64 | OK | OK | |||||||||
| merida1 | macOS 10.14.6 Mojave / x86_64 | OK | OK | ||||||||||
| Package 10/29 | Hostname | OS / Arch | INSTALL | BUILD | |||||||||
| ExpHunterSuite 1.4.0 (landing page) James Perkins
| nebbiolo1 | Linux (Ubuntu 20.04.5 LTS) / x86_64 | OK | OK | |||||||||
| merida1 | macOS 10.14.6 Mojave / x86_64 | OK | OK | ||||||||||
| Package 11/29 | Hostname | OS / Arch | INSTALL | BUILD | |||||||||
| ExpressionNormalizationWorkflow 1.22.0 (landing page) Karthikeyan Murugesan
| nebbiolo1 | Linux (Ubuntu 20.04.5 LTS) / x86_64 | OK | OK | |||||||||
| merida1 | macOS 10.14.6 Mojave / x86_64 | OK | OK | ||||||||||
| Package 12/29 | Hostname | OS / Arch | INSTALL | BUILD | |||||||||
| fluentGenomics 1.8.0 (landing page) Stuart Lee
| nebbiolo1 | Linux (Ubuntu 20.04.5 LTS) / x86_64 | OK | OK | |||||||||
| merida1 | macOS 10.14.6 Mojave / x86_64 | OK | OK | ||||||||||
| Package 13/29 | Hostname | OS / Arch | INSTALL | BUILD | |||||||||
| generegulation 1.20.0 (landing page) Bioconductor Package Maintainer
| nebbiolo1 | Linux (Ubuntu 20.04.5 LTS) / x86_64 | OK | OK | |||||||||
| merida1 | macOS 10.14.6 Mojave / x86_64 | OK | OK | ||||||||||
| Package 14/29 | Hostname | OS / Arch | INSTALL | BUILD | |||||||||
| GeoMxWorkflows 1.2.0 (landing page) Jason Reeves
| nebbiolo1 | Linux (Ubuntu 20.04.5 LTS) / x86_64 | OK | OK | |||||||||
| merida1 | macOS 10.14.6 Mojave / x86_64 | OK | OK | ||||||||||
| Package 15/29 | Hostname | OS / Arch | INSTALL | BUILD | |||||||||
| highthroughputassays 1.20.0 (landing page) Bioconductor Package Maintainer
| nebbiolo1 | Linux (Ubuntu 20.04.5 LTS) / x86_64 | OK | OK | |||||||||
| merida1 | macOS 10.14.6 Mojave / x86_64 | ... NOT SUPPORTED ... | |||||||||||
| Package 16/29 | Hostname | OS / Arch | INSTALL | BUILD | |||||||||
| liftOver 1.20.0 (landing page) Bioconductor Package Maintainer
| nebbiolo1 | Linux (Ubuntu 20.04.5 LTS) / x86_64 | OK | OK | |||||||||
| merida1 | macOS 10.14.6 Mojave / x86_64 | OK | OK | ||||||||||
| Package 17/29 | Hostname | OS / Arch | INSTALL | BUILD | |||||||||
| maEndToEnd 2.16.0 (landing page) Stefanie Reisenauer
| nebbiolo1 | Linux (Ubuntu 20.04.5 LTS) / x86_64 | OK | ERROR | |||||||||
| merida1 | macOS 10.14.6 Mojave / x86_64 | OK | ERROR | ||||||||||
| Package 18/29 | Hostname | OS / Arch | INSTALL | BUILD | |||||||||
| methylationArrayAnalysis 1.20.0 (landing page) Jovana Maksimovic
| nebbiolo1 | Linux (Ubuntu 20.04.5 LTS) / x86_64 | OK | OK | |||||||||
| merida1 | macOS 10.14.6 Mojave / x86_64 | OK | OK | ||||||||||
| Package 19/29 | Hostname | OS / Arch | INSTALL | BUILD | |||||||||
Laurent Gatto
| nebbiolo1 | Linux (Ubuntu 20.04.5 LTS) / x86_64 | ERROR | ERROR | |||||||||
| merida1 | macOS 10.14.6 Mojave / x86_64 | ERROR | ERROR | ||||||||||
| Package 20/29 | Hostname | OS / Arch | INSTALL | BUILD | |||||||||
| recountWorkflow 1.20.0 (landing page) Leonardo Collado-Torres
| nebbiolo1 | Linux (Ubuntu 20.04.5 LTS) / x86_64 | OK | OK | |||||||||
| merida1 | macOS 10.14.6 Mojave / x86_64 | OK | OK | ||||||||||
| Package 21/29 | Hostname | OS / Arch | INSTALL | BUILD | |||||||||
| RNAseq123 1.20.0 (landing page) Matthew Ritchie
| nebbiolo1 | Linux (Ubuntu 20.04.5 LTS) / x86_64 | OK | OK | |||||||||
| merida1 | macOS 10.14.6 Mojave / x86_64 | OK | OK | ||||||||||
| Package 22/29 | Hostname | OS / Arch | INSTALL | BUILD | |||||||||
| rnaseqDTU 1.16.0 (landing page) Michael Love
| nebbiolo1 | Linux (Ubuntu 20.04.5 LTS) / x86_64 | OK | OK | |||||||||
| merida1 | macOS 10.14.6 Mojave / x86_64 | OK | OK | ||||||||||
| Package 23/29 | Hostname | OS / Arch | INSTALL | BUILD | |||||||||
| rnaseqGene 1.20.0 (landing page) Michael Love
| nebbiolo1 | Linux (Ubuntu 20.04.5 LTS) / x86_64 | OK | ERROR | |||||||||
| merida1 | macOS 10.14.6 Mojave / x86_64 | OK | OK | ||||||||||
| Package 24/29 | Hostname | OS / Arch | INSTALL | BUILD | |||||||||
| RnaSeqGeneEdgeRQL 1.20.0 (landing page) Yunshun Chen
| nebbiolo1 | Linux (Ubuntu 20.04.5 LTS) / x86_64 | OK | OK | |||||||||
| merida1 | macOS 10.14.6 Mojave / x86_64 | OK | OK | ||||||||||
| Package 25/29 | Hostname | OS / Arch | INSTALL | BUILD | |||||||||
| sequencing 1.20.0 (landing page) Bioconductor Package Maintainer
| nebbiolo1 | Linux (Ubuntu 20.04.5 LTS) / x86_64 | OK | OK | |||||||||
| merida1 | macOS 10.14.6 Mojave / x86_64 | OK | OK | ||||||||||
| Package 26/29 | Hostname | OS / Arch | INSTALL | BUILD | |||||||||
| simpleSingleCell 1.20.0 (landing page) Aaron Lun
| nebbiolo1 | Linux (Ubuntu 20.04.5 LTS) / x86_64 | OK | OK | |||||||||
| merida1 | macOS 10.14.6 Mojave / x86_64 | OK | OK | ||||||||||
| Package 27/29 | Hostname | OS / Arch | INSTALL | BUILD | |||||||||
| SingscoreAMLMutations 1.12.0 (landing page) Dharmesh D. Bhuva
| nebbiolo1 | Linux (Ubuntu 20.04.5 LTS) / x86_64 | OK | ERROR | |||||||||
| merida1 | macOS 10.14.6 Mojave / x86_64 | OK | ERROR | ||||||||||
| Package 28/29 | Hostname | OS / Arch | INSTALL | BUILD | |||||||||
| TCGAWorkflow 1.20.0 (landing page) Tiago Chedraoui Silva
| nebbiolo1 | Linux (Ubuntu 20.04.5 LTS) / x86_64 | OK | ERROR | |||||||||
| merida1 | macOS 10.14.6 Mojave / x86_64 | OK | ERROR | ||||||||||
| Package 29/29 | Hostname | OS / Arch | INSTALL | BUILD | |||||||||
| variants 1.20.0 (landing page) Bioconductor Package Maintainer
| nebbiolo1 | Linux (Ubuntu 20.04.5 LTS) / x86_64 | OK | OK | |||||||||
| merida1 | macOS 10.14.6 Mojave / x86_64 | OK | OK | ||||||||||