| Back to Workflows build report for BioC 3.15 | 
This page was generated on 2022-10-18 14:00:09 -0400 (Tue, 18 Oct 2022).
| Hostname | OS | Arch (*) | R version | Installed pkgs | 
|---|---|---|---|---|
| nebbiolo1 | Linux (Ubuntu 20.04.5 LTS) | x86_64 | 4.2.1 (2022-06-23) -- "Funny-Looking Kid" | 4386 | 
| merida1 | macOS 10.14.6 Mojave | x86_64 | 4.2.1 (2022-06-23) -- "Funny-Looking Kid" | 4205 | 
| Click on any hostname to see more info about the system (e.g. compilers) (*) as reported by 'uname -p', except on Windows and Mac OS X | ||||
| To the developers/maintainers of the proteomics package: Make sure to use the following settings in order to reproduce any error or warning you see on this page. | 
| Package 19/29 | Hostname | OS / Arch | INSTALL | BUILD | ||||||||
| Laurent Gatto 
 | nebbiolo1 | Linux (Ubuntu 20.04.5 LTS) / x86_64 | ERROR | ERROR | ||||||||
| merida1 | macOS 10.14.6 Mojave / x86_64 | ERROR | ERROR | |||||||||
| Package: proteomics | 
| Version: 1.20.0 | 
| Command: /Library/Frameworks/R.framework/Resources/bin/R CMD build --keep-empty-dirs --no-resave-data proteomics | 
| StartedAt: 2022-10-18 08:08:31 -0400 (Tue, 18 Oct 2022) | 
| EndedAt: 2022-10-18 08:08:32 -0400 (Tue, 18 Oct 2022) | 
| EllapsedTime: 1.1 seconds | 
| RetCode: 1 | 
| Status: ERROR | 
| PackageFile: None | 
| PackageFileSize: NA | 
##############################################################################
##############################################################################
###
### Running command:
###
###   /Library/Frameworks/R.framework/Resources/bin/R CMD build --keep-empty-dirs --no-resave-data proteomics
###
##############################################################################
##############################################################################
* checking for file ‘proteomics/DESCRIPTION’ ... OK
* preparing ‘proteomics’:
* checking DESCRIPTION meta-information ... OK
* installing the package to build vignettes
      -----------------------------------
* installing *source* package ‘proteomics’ ...
** using staged installation
ERROR: a 'NAMESPACE' file is required
* removing ‘/private/tmp/RtmpBmnx0l/Rinst13f3e1bf1ee81/proteomics’
      -----------------------------------
ERROR: package installation failed