| Back to Workflows build report for BioC 3.15 |
This page was generated on 2022-10-18 14:00:09 -0400 (Tue, 18 Oct 2022).
| Hostname | OS | Arch (*) | R version | Installed pkgs |
|---|---|---|---|---|
| nebbiolo1 | Linux (Ubuntu 20.04.5 LTS) | x86_64 | 4.2.1 (2022-06-23) -- "Funny-Looking Kid" | 4386 |
| merida1 | macOS 10.14.6 Mojave | x86_64 | 4.2.1 (2022-06-23) -- "Funny-Looking Kid" | 4205 |
| Click on any hostname to see more info about the system (e.g. compilers) (*) as reported by 'uname -p', except on Windows and Mac OS X | ||||
|
To the developers/maintainers of the rnaseqGene package: Make sure to use the following settings in order to reproduce any error or warning you see on this page. |
| Package 23/29 | Hostname | OS / Arch | INSTALL | BUILD | ||||||||
| rnaseqGene 1.20.0 (landing page) Michael Love
| nebbiolo1 | Linux (Ubuntu 20.04.5 LTS) / x86_64 | OK | ERROR | ||||||||
| merida1 | macOS 10.14.6 Mojave / x86_64 | OK | OK | |||||||||
| Package: rnaseqGene |
| Version: 1.20.0 |
| Command: /Library/Frameworks/R.framework/Resources/bin/R CMD build --keep-empty-dirs --no-resave-data rnaseqGene |
| StartedAt: 2022-10-18 08:10:56 -0400 (Tue, 18 Oct 2022) |
| EndedAt: 2022-10-18 08:15:04 -0400 (Tue, 18 Oct 2022) |
| EllapsedTime: 247.5 seconds |
| RetCode: 0 |
| Status: OK |
| PackageFile: rnaseqGene_1.20.0.tar.gz |
| PackageFileSize: 1.21 MiB |
############################################################################## ############################################################################## ### ### Running command: ### ### /Library/Frameworks/R.framework/Resources/bin/R CMD build --keep-empty-dirs --no-resave-data rnaseqGene ### ############################################################################## ############################################################################## * checking for file ‘rnaseqGene/DESCRIPTION’ ... OK * preparing ‘rnaseqGene’: * checking DESCRIPTION meta-information ... OK * installing the package to build vignettes * creating vignettes ... OK * checking for LF line-endings in source and make files and shell scripts * checking for empty or unneeded directories Omitted ‘LazyData’ from DESCRIPTION * creating default NAMESPACE file * building ‘rnaseqGene_1.20.0.tar.gz’