| Back to Multiple platform build/check report for BioC 3.14 |
|
This page was generated on 2022-04-13 12:07:04 -0400 (Wed, 13 Apr 2022).
| Hostname | OS | Arch (*) | R version | Installed pkgs |
|---|---|---|---|---|
| nebbiolo2 | Linux (Ubuntu 20.04.4 LTS) | x86_64 | 4.1.3 (2022-03-10) -- "One Push-Up" | 4324 |
| tokay2 | Windows Server 2012 R2 Standard | x64 | 4.1.3 (2022-03-10) -- "One Push-Up" | 4077 |
| machv2 | macOS 10.14.6 Mojave | x86_64 | 4.1.3 (2022-03-10) -- "One Push-Up" | 4137 |
| Click on any hostname to see more info about the system (e.g. compilers) (*) as reported by 'uname -p', except on Windows and Mac OS X | ||||
|
To the developers/maintainers of the peakPantheR package: - Please allow up to 24 hours (and sometimes 48 hours) for your latest push to git@git.bioconductor.org:packages/peakPantheR.git to reflect on this report. See How and When does the builder pull? When will my changes propagate? for more information. - Make sure to use the following settings in order to reproduce any error or warning you see on this page. |
| Package 1391/2083 | Hostname | OS / Arch | INSTALL | BUILD | CHECK | BUILD BIN | ||||||||
| peakPantheR 1.8.0 (landing page) Arnaud Wolfer
| nebbiolo2 | Linux (Ubuntu 20.04.4 LTS) / x86_64 | OK | OK | OK | |||||||||
| tokay2 | Windows Server 2012 R2 Standard / x64 | OK | OK | OK | OK | |||||||||
| machv2 | macOS 10.14.6 Mojave / x86_64 | OK | OK | OK | OK | |||||||||
| Package: peakPantheR |
| Version: 1.8.0 |
| Command: rm -rf peakPantheR.buildbin-libdir && mkdir peakPantheR.buildbin-libdir && C:\Users\biocbuild\bbs-3.14-bioc\R\bin\R.exe CMD INSTALL --merge-multiarch --build --library=peakPantheR.buildbin-libdir peakPantheR_1.8.0.tar.gz |
| StartedAt: 2022-04-13 06:47:35 -0400 (Wed, 13 Apr 2022) |
| EndedAt: 2022-04-13 06:48:05 -0400 (Wed, 13 Apr 2022) |
| EllapsedTime: 30.2 seconds |
| RetCode: 0 |
| Status: OK |
| PackageFile: peakPantheR_1.8.0.zip |
| PackageFileSize: 4.376 MiB |
##############################################################################
##############################################################################
###
### Running command:
###
### rm -rf peakPantheR.buildbin-libdir && mkdir peakPantheR.buildbin-libdir && C:\Users\biocbuild\bbs-3.14-bioc\R\bin\R.exe CMD INSTALL --merge-multiarch --build --library=peakPantheR.buildbin-libdir peakPantheR_1.8.0.tar.gz
###
##############################################################################
##############################################################################
install for i386
* installing *source* package 'peakPantheR' ...
** using staged installation
** R
** inst
** byte-compile and prepare package for lazy loading
** help
*** installing help indices
converting help for package 'peakPantheR'
finding HTML links ... done
EICs-peakPantheRAnnotation-method html
FIR-peakPantheRAnnotation-method html
ROI-peakPantheRAnnotation-method html
TIC-peakPantheRAnnotation-method html
acquisitionTime-peakPantheRAnnotation-method
html
annotationDiagnosticMultiplot html
annotationDiagnosticPlots-peakPantheRAnnotation-method
html
annotationParamsDiagnostic-peakPantheRAnnotation-method
html
annotationTable-peakPantheRAnnotation-method
html
annotation_diagnostic_multiplot_UI_helper
html
annotation_fit_summary_UI_helper html
annotation_showMethod_UI_helper html
annotation_showText_UI_helper html
cpdID-peakPantheRAnnotation-method html
cpdMetadata-peakPantheRAnnotation-method
html
cpdName-peakPantheRAnnotation-method html
dataPoints-peakPantheRAnnotation-method
html
emgGaussian_guess html
emgGaussian_minpack.lm html
emgGaussian_minpack.lm_objectiveFun html
extractSignalRawData html
filename-peakPantheRAnnotation-method html
filepath-peakPantheRAnnotation-method html
findTargetFeatures html
fitCurve html
gaussian_cerf html
gaussian_erf html
generateIonChromatogram html
getAcquisitionDatemzML html
getTargetFeatureStatistic html
initialise_annotation_from_files_UI_helper
html
integrateFIR html
is.peakPantheR_curveFit html
isAnnotated-peakPantheRAnnotation-method
html
load_annotation_from_file_UI_helper html
nbCompounds-peakPantheRAnnotation-method
html
nbSamples-peakPantheRAnnotation-method
html
outputAnnotationDiagnostic-peakPantheRAnnotation-method
html
outputAnnotationFeatureMetadata_UI_helper
html
outputAnnotationParamsCSV-peakPantheRAnnotation-method
html
outputAnnotationResult-peakPantheRAnnotation-method
html
outputAnnotationSpectraMetadata_UI_helper
html
peakFit-peakPantheRAnnotation-method html
peakPantheR html
peakPantheRAnnotation html
peakPantheR_ROIStatistics html
peakPantheR_applyRTCorrection html
peakPantheR_loadAnnotationParamsCSV html
peakPantheR_parallelAnnotation html
peakPantheR_plotEICFit html
peakPantheR_plotPeakwidth html
peakPantheR_singleFileSearch html
peakPantheR_start_GUI html
peakTables-peakPantheRAnnotation-method
html
plotEICDetectedPeakwidth html
plotHistogram html
predictCurve html
prepare_advanced_target_parameters html
prepare_basic_target_parameters html
resetAnnotation-peakPantheRAnnotation-method
html
resetFIR-peakPantheRAnnotation-method html
retentionTimeCorrection-peakPantheRAnnotation-method
html
saveSingleFileMultiEIC html
skewedGaussian_guess html
skewedGaussian_minpack.lm html
skewedGaussian_minpack.lm_objectiveFun
html
spectraMetadata-peakPantheRAnnotation-method
html
spectraPaths_and_metadata_UI_helper html
spectra_metadata_colourScheme_UI_helper
html
sub-peakPantheRAnnotation-ANY-ANY-ANY-method
html
uROI-peakPantheRAnnotation-method html
uROIExist-peakPantheRAnnotation-method
html
useFIR-peakPantheRAnnotation-method html
useUROI-peakPantheRAnnotation-method html
*** copying figures
** building package indices
** installing vignettes
** testing if installed package can be loaded from temporary location
** testing if installed package can be loaded from final location
** testing if installed package keeps a record of temporary installation path
install for x64
* installing *source* package 'peakPantheR' ...
** testing if installed package can be loaded
* MD5 sums
packaged installation of 'peakPantheR' as peakPantheR_1.8.0.zip
* DONE (peakPantheR)