| Back to Multiple platform build/check report for BioC 3.14 |
|
This page was generated on 2022-04-13 12:08:30 -0400 (Wed, 13 Apr 2022).
| Hostname | OS | Arch (*) | R version | Installed pkgs |
|---|---|---|---|---|
| nebbiolo2 | Linux (Ubuntu 20.04.4 LTS) | x86_64 | 4.1.3 (2022-03-10) -- "One Push-Up" | 4324 |
| tokay2 | Windows Server 2012 R2 Standard | x64 | 4.1.3 (2022-03-10) -- "One Push-Up" | 4077 |
| machv2 | macOS 10.14.6 Mojave | x86_64 | 4.1.3 (2022-03-10) -- "One Push-Up" | 4137 |
| Click on any hostname to see more info about the system (e.g. compilers) (*) as reported by 'uname -p', except on Windows and Mac OS X | ||||
|
To the developers/maintainers of the peakPantheR package: - Please allow up to 24 hours (and sometimes 48 hours) for your latest push to git@git.bioconductor.org:packages/peakPantheR.git to reflect on this report. See How and When does the builder pull? When will my changes propagate? for more information. - Make sure to use the following settings in order to reproduce any error or warning you see on this page. |
| Package 1391/2083 | Hostname | OS / Arch | INSTALL | BUILD | CHECK | BUILD BIN | ||||||||
| peakPantheR 1.8.0 (landing page) Arnaud Wolfer
| nebbiolo2 | Linux (Ubuntu 20.04.4 LTS) / x86_64 | OK | OK | OK | |||||||||
| tokay2 | Windows Server 2012 R2 Standard / x64 | OK | OK | OK | OK | |||||||||
| machv2 | macOS 10.14.6 Mojave / x86_64 | OK | OK | OK | OK | |||||||||
| Package: peakPantheR |
| Version: 1.8.0 |
| Command: /Library/Frameworks/R.framework/Resources/bin/R CMD check --install=check:peakPantheR.install-out.txt --library=/Library/Frameworks/R.framework/Resources/library --no-vignettes --timings peakPantheR_1.8.0.tar.gz |
| StartedAt: 2022-04-12 16:37:56 -0400 (Tue, 12 Apr 2022) |
| EndedAt: 2022-04-12 16:57:18 -0400 (Tue, 12 Apr 2022) |
| EllapsedTime: 1162.4 seconds |
| RetCode: 0 |
| Status: OK |
| CheckDir: peakPantheR.Rcheck |
| Warnings: 0 |
##############################################################################
##############################################################################
###
### Running command:
###
### /Library/Frameworks/R.framework/Resources/bin/R CMD check --install=check:peakPantheR.install-out.txt --library=/Library/Frameworks/R.framework/Resources/library --no-vignettes --timings peakPantheR_1.8.0.tar.gz
###
##############################################################################
##############################################################################
* using log directory ‘/Users/biocbuild/bbs-3.14-bioc/meat/peakPantheR.Rcheck’
* using R version 4.1.3 (2022-03-10)
* using platform: x86_64-apple-darwin17.0 (64-bit)
* using session charset: UTF-8
* using option ‘--no-vignettes’
* checking for file ‘peakPantheR/DESCRIPTION’ ... OK
* this is package ‘peakPantheR’ version ‘1.8.0’
* package encoding: UTF-8
* checking package namespace information ... OK
* checking package dependencies ... OK
* checking if this is a source package ... OK
* checking if there is a namespace ... OK
* checking for hidden files and directories ... OK
* checking for portable file names ... OK
* checking for sufficient/correct file permissions ... OK
* checking whether package ‘peakPantheR’ can be installed ... OK
* checking installed package size ... OK
* checking package directory ... OK
* checking ‘build’ directory ... OK
* checking DESCRIPTION meta-information ... OK
* checking top-level files ... OK
* checking for left-over files ... OK
* checking index information ... OK
* checking package subdirectories ... OK
* checking R files for non-ASCII characters ... OK
* checking R files for syntax errors ... OK
* checking whether the package can be loaded ... OK
* checking whether the package can be loaded with stated dependencies ... OK
* checking whether the package can be unloaded cleanly ... OK
* checking whether the namespace can be loaded with stated dependencies ... OK
* checking whether the namespace can be unloaded cleanly ... OK
* checking dependencies in R code ... OK
* checking S3 generic/method consistency ... OK
* checking replacement functions ... OK
* checking foreign function calls ... OK
* checking R code for possible problems ... OK
* checking Rd files ... OK
* checking Rd metadata ... OK
* checking Rd cross-references ... OK
* checking for missing documentation entries ... OK
* checking for code/documentation mismatches ... OK
* checking Rd \usage sections ... OK
* checking Rd contents ... OK
* checking for unstated dependencies in examples ... OK
* checking files in ‘vignettes’ ... OK
* checking examples ... OK
Examples with CPU (user + system) or elapsed time > 5s
user system elapsed
peakPantheR_ROIStatistics 17.935 0.209 18.188
peakPantheR_parallelAnnotation 13.395 0.113 13.519
EICs-peakPantheRAnnotation-method 12.477 0.469 12.971
outputAnnotationDiagnostic-peakPantheRAnnotation-method 12.831 0.087 12.933
outputAnnotationResult-peakPantheRAnnotation-method 12.523 0.089 12.621
retentionTimeCorrection-peakPantheRAnnotation-method 8.899 0.055 8.959
* checking for unstated dependencies in ‘tests’ ... OK
* checking tests ...
Running ‘testthat.R’
OK
* checking for unstated dependencies in vignettes ... OK
* checking package vignettes in ‘inst/doc’ ... OK
* checking running R code from vignettes ... SKIPPED
* checking re-building of vignette outputs ... SKIPPED
* checking PDF version of manual ... OK
* DONE
Status: OK
peakPantheR.Rcheck/00install.out
############################################################################## ############################################################################## ### ### Running command: ### ### /Library/Frameworks/R.framework/Resources/bin/R CMD INSTALL peakPantheR ### ############################################################################## ############################################################################## * installing to library ‘/Library/Frameworks/R.framework/Versions/4.1/Resources/library’ * installing *source* package ‘peakPantheR’ ... ** using staged installation ** R ** inst ** byte-compile and prepare package for lazy loading ** help *** installing help indices *** copying figures ** building package indices ** installing vignettes ** testing if installed package can be loaded from temporary location ** testing if installed package can be loaded from final location ** testing if installed package keeps a record of temporary installation path * DONE (peakPantheR)
peakPantheR.Rcheck/tests/testthat.Rout
R version 4.1.3 (2022-03-10) -- "One Push-Up"
Copyright (C) 2022 The R Foundation for Statistical Computing
Platform: x86_64-apple-darwin17.0 (64-bit)
R is free software and comes with ABSOLUTELY NO WARRANTY.
You are welcome to redistribute it under certain conditions.
Type 'license()' or 'licence()' for distribution details.
R is a collaborative project with many contributors.
Type 'contributors()' for more information and
'citation()' on how to cite R or R packages in publications.
Type 'demo()' for some demos, 'help()' for on-line help, or
'help.start()' for an HTML browser interface to help.
Type 'q()' to quit R.
> library(testthat)
> library(peakPantheR)
This is peakPantheR version 1.8.0
>
> test_check("peakPantheR")
[ FAIL 0 | WARN 0 | SKIP 0 | PASS 1434 ]
>
> proc.time()
user system elapsed
697.444 5.281 922.276
peakPantheR.Rcheck/peakPantheR-Ex.timings
| name | user | system | elapsed | |
| EICs-peakPantheRAnnotation-method | 12.477 | 0.469 | 12.971 | |
| FIR-peakPantheRAnnotation-method | 0.266 | 0.022 | 0.288 | |
| ROI-peakPantheRAnnotation-method | 0.289 | 0.022 | 0.311 | |
| TIC-peakPantheRAnnotation-method | 0.288 | 0.024 | 0.312 | |
| acquisitionTime-peakPantheRAnnotation-method | 1.039 | 0.023 | 1.062 | |
| annotationDiagnosticPlots-peakPantheRAnnotation-method | 0.289 | 0.013 | 0.302 | |
| annotationParamsDiagnostic-peakPantheRAnnotation-method | 0.275 | 0.012 | 0.286 | |
| annotationTable-peakPantheRAnnotation-method | 0.271 | 0.014 | 0.285 | |
| annotation_diagnostic_multiplot_UI_helper | 0.147 | 0.005 | 0.151 | |
| annotation_fit_summary_UI_helper | 0.014 | 0.001 | 0.016 | |
| annotation_showMethod_UI_helper | 0.004 | 0.001 | 0.005 | |
| annotation_showText_UI_helper | 0.001 | 0.001 | 0.002 | |
| cpdID-peakPantheRAnnotation-method | 0.258 | 0.012 | 0.270 | |
| cpdMetadata-peakPantheRAnnotation-method | 0.286 | 0.014 | 0.300 | |
| cpdName-peakPantheRAnnotation-method | 0.271 | 0.015 | 0.287 | |
| dataPoints-peakPantheRAnnotation-method | 0.274 | 0.014 | 0.289 | |
| filename-peakPantheRAnnotation-method | 0.271 | 0.019 | 0.290 | |
| filepath-peakPantheRAnnotation-method | 0.206 | 0.014 | 0.221 | |
| initialise_annotation_from_files_UI_helper | 0.024 | 0.004 | 0.028 | |
| isAnnotated-peakPantheRAnnotation-method | 0.256 | 0.022 | 0.278 | |
| load_annotation_from_file_UI_helper | 0.009 | 0.002 | 0.011 | |
| nbCompounds-peakPantheRAnnotation-method | 0.308 | 0.019 | 0.328 | |
| nbSamples-peakPantheRAnnotation-method | 0.274 | 0.012 | 0.286 | |
| outputAnnotationDiagnostic-peakPantheRAnnotation-method | 12.831 | 0.087 | 12.933 | |
| outputAnnotationFeatureMetadata_UI_helper | 0.011 | 0.001 | 0.011 | |
| outputAnnotationParamsCSV-peakPantheRAnnotation-method | 0.051 | 0.001 | 0.053 | |
| outputAnnotationResult-peakPantheRAnnotation-method | 12.523 | 0.089 | 12.621 | |
| outputAnnotationSpectraMetadata_UI_helper | 0.009 | 0.001 | 0.010 | |
| peakFit-peakPantheRAnnotation-method | 0.250 | 0.012 | 0.263 | |
| peakPantheRAnnotation | 0.292 | 0.014 | 0.307 | |
| peakPantheR_ROIStatistics | 17.935 | 0.209 | 18.188 | |
| peakPantheR_loadAnnotationParamsCSV | 0.012 | 0.002 | 0.015 | |
| peakPantheR_parallelAnnotation | 13.395 | 0.113 | 13.519 | |
| peakPantheR_plotEICFit | 0.442 | 0.004 | 0.448 | |
| peakPantheR_plotPeakwidth | 0.710 | 0.014 | 0.727 | |
| peakPantheR_singleFileSearch | 4.471 | 0.057 | 4.531 | |
| peakPantheR_start_GUI | 0.000 | 0.000 | 0.001 | |
| peakTables-peakPantheRAnnotation-method | 0.294 | 0.012 | 0.307 | |
| resetAnnotation-peakPantheRAnnotation-method | 0.288 | 0.013 | 0.302 | |
| resetFIR-peakPantheRAnnotation-method | 0.010 | 0.001 | 0.011 | |
| retentionTimeCorrection-peakPantheRAnnotation-method | 8.899 | 0.055 | 8.959 | |
| spectraMetadata-peakPantheRAnnotation-method | 0.257 | 0.011 | 0.269 | |
| spectraPaths_and_metadata_UI_helper | 0.004 | 0.001 | 0.006 | |
| spectra_metadata_colourScheme_UI_helper | 0.010 | 0.001 | 0.011 | |
| uROI-peakPantheRAnnotation-method | 0.255 | 0.012 | 0.268 | |
| uROIExist-peakPantheRAnnotation-method | 0.282 | 0.012 | 0.294 | |
| useFIR-peakPantheRAnnotation-method | 0.293 | 0.012 | 0.306 | |
| useUROI-peakPantheRAnnotation-method | 0.297 | 0.014 | 0.310 | |