| Back to Multiple platform build/check report for BioC 3.14 |
|
This page was generated on 2022-04-13 12:05:44 -0400 (Wed, 13 Apr 2022).
| Hostname | OS | Arch (*) | R version | Installed pkgs |
|---|---|---|---|---|
| nebbiolo2 | Linux (Ubuntu 20.04.4 LTS) | x86_64 | 4.1.3 (2022-03-10) -- "One Push-Up" | 4324 |
| tokay2 | Windows Server 2012 R2 Standard | x64 | 4.1.3 (2022-03-10) -- "One Push-Up" | 4077 |
| machv2 | macOS 10.14.6 Mojave | x86_64 | 4.1.3 (2022-03-10) -- "One Push-Up" | 4137 |
| Click on any hostname to see more info about the system (e.g. compilers) (*) as reported by 'uname -p', except on Windows and Mac OS X | ||||
|
To the developers/maintainers of the peakPantheR package: - Please allow up to 24 hours (and sometimes 48 hours) for your latest push to git@git.bioconductor.org:packages/peakPantheR.git to reflect on this report. See How and When does the builder pull? When will my changes propagate? for more information. - Make sure to use the following settings in order to reproduce any error or warning you see on this page. |
| Package 1391/2083 | Hostname | OS / Arch | INSTALL | BUILD | CHECK | BUILD BIN | ||||||||
| peakPantheR 1.8.0 (landing page) Arnaud Wolfer
| nebbiolo2 | Linux (Ubuntu 20.04.4 LTS) / x86_64 | OK | OK | OK | |||||||||
| tokay2 | Windows Server 2012 R2 Standard / x64 | OK | OK | OK | OK | |||||||||
| machv2 | macOS 10.14.6 Mojave / x86_64 | OK | OK | OK | OK | |||||||||
| Package: peakPantheR |
| Version: 1.8.0 |
| Command: /home/biocbuild/bbs-3.14-bioc/R/bin/R CMD check --install=check:peakPantheR.install-out.txt --library=/home/biocbuild/bbs-3.14-bioc/R/library --no-vignettes --timings peakPantheR_1.8.0.tar.gz |
| StartedAt: 2022-04-12 08:40:49 -0400 (Tue, 12 Apr 2022) |
| EndedAt: 2022-04-12 08:55:00 -0400 (Tue, 12 Apr 2022) |
| EllapsedTime: 851.3 seconds |
| RetCode: 0 |
| Status: OK |
| CheckDir: peakPantheR.Rcheck |
| Warnings: 0 |
##############################################################################
##############################################################################
###
### Running command:
###
### /home/biocbuild/bbs-3.14-bioc/R/bin/R CMD check --install=check:peakPantheR.install-out.txt --library=/home/biocbuild/bbs-3.14-bioc/R/library --no-vignettes --timings peakPantheR_1.8.0.tar.gz
###
##############################################################################
##############################################################################
* using log directory ‘/home/biocbuild/bbs-3.14-bioc/meat/peakPantheR.Rcheck’
* using R version 4.1.3 (2022-03-10)
* using platform: x86_64-pc-linux-gnu (64-bit)
* using session charset: UTF-8
* using option ‘--no-vignettes’
* checking for file ‘peakPantheR/DESCRIPTION’ ... OK
* this is package ‘peakPantheR’ version ‘1.8.0’
* package encoding: UTF-8
* checking package namespace information ... OK
* checking package dependencies ... OK
* checking if this is a source package ... OK
* checking if there is a namespace ... OK
* checking for hidden files and directories ... OK
* checking for portable file names ... OK
* checking for sufficient/correct file permissions ... OK
* checking whether package ‘peakPantheR’ can be installed ... OK
* checking installed package size ... OK
* checking package directory ... OK
* checking ‘build’ directory ... OK
* checking DESCRIPTION meta-information ... OK
* checking top-level files ... OK
* checking for left-over files ... OK
* checking index information ... OK
* checking package subdirectories ... OK
* checking R files for non-ASCII characters ... OK
* checking R files for syntax errors ... OK
* checking whether the package can be loaded ... OK
* checking whether the package can be loaded with stated dependencies ... OK
* checking whether the package can be unloaded cleanly ... OK
* checking whether the namespace can be loaded with stated dependencies ... OK
* checking whether the namespace can be unloaded cleanly ... OK
* checking dependencies in R code ... OK
* checking S3 generic/method consistency ... OK
* checking replacement functions ... OK
* checking foreign function calls ... OK
* checking R code for possible problems ... OK
* checking Rd files ... OK
* checking Rd metadata ... OK
* checking Rd cross-references ... OK
* checking for missing documentation entries ... OK
* checking for code/documentation mismatches ... OK
* checking Rd \usage sections ... OK
* checking Rd contents ... OK
* checking for unstated dependencies in examples ... OK
* checking files in ‘vignettes’ ... OK
* checking examples ... OK
Examples with CPU (user + system) or elapsed time > 5s
user system elapsed
peakPantheR_ROIStatistics 16.804 0.296 17.100
peakPantheR_parallelAnnotation 13.136 0.143 13.280
outputAnnotationResult-peakPantheRAnnotation-method 12.354 0.279 12.635
outputAnnotationDiagnostic-peakPantheRAnnotation-method 11.405 0.336 11.768
retentionTimeCorrection-peakPantheRAnnotation-method 8.956 0.160 9.115
EICs-peakPantheRAnnotation-method 7.880 0.379 8.273
* checking for unstated dependencies in ‘tests’ ... OK
* checking tests ...
Running ‘testthat.R’
OK
* checking for unstated dependencies in vignettes ... OK
* checking package vignettes in ‘inst/doc’ ... OK
* checking running R code from vignettes ... SKIPPED
* checking re-building of vignette outputs ... SKIPPED
* checking PDF version of manual ... OK
* DONE
Status: OK
peakPantheR.Rcheck/00install.out
############################################################################## ############################################################################## ### ### Running command: ### ### /home/biocbuild/bbs-3.14-bioc/R/bin/R CMD INSTALL peakPantheR ### ############################################################################## ############################################################################## * installing to library ‘/home/biocbuild/bbs-3.14-bioc/R/library’ * installing *source* package ‘peakPantheR’ ... ** using staged installation ** R ** inst ** byte-compile and prepare package for lazy loading ** help *** installing help indices *** copying figures ** building package indices ** installing vignettes ** testing if installed package can be loaded from temporary location ** testing if installed package can be loaded from final location ** testing if installed package keeps a record of temporary installation path * DONE (peakPantheR)
peakPantheR.Rcheck/tests/testthat.Rout
R version 4.1.3 (2022-03-10) -- "One Push-Up"
Copyright (C) 2022 The R Foundation for Statistical Computing
Platform: x86_64-pc-linux-gnu (64-bit)
R is free software and comes with ABSOLUTELY NO WARRANTY.
You are welcome to redistribute it under certain conditions.
Type 'license()' or 'licence()' for distribution details.
R is a collaborative project with many contributors.
Type 'contributors()' for more information and
'citation()' on how to cite R or R packages in publications.
Type 'demo()' for some demos, 'help()' for on-line help, or
'help.start()' for an HTML browser interface to help.
Type 'q()' to quit R.
> library(testthat)
> library(peakPantheR)
This is peakPantheR version 1.8.0
>
> test_check("peakPantheR")
[ FAIL 0 | WARN 0 | SKIP 0 | PASS 1434 ]
>
> proc.time()
user system elapsed
583.065 5.052 712.917
peakPantheR.Rcheck/peakPantheR-Ex.timings
| name | user | system | elapsed | |
| EICs-peakPantheRAnnotation-method | 7.880 | 0.379 | 8.273 | |
| FIR-peakPantheRAnnotation-method | 0.165 | 0.008 | 0.174 | |
| ROI-peakPantheRAnnotation-method | 0.160 | 0.012 | 0.172 | |
| TIC-peakPantheRAnnotation-method | 0.14 | 0.02 | 0.16 | |
| acquisitionTime-peakPantheRAnnotation-method | 0.851 | 0.040 | 0.891 | |
| annotationDiagnosticPlots-peakPantheRAnnotation-method | 0.136 | 0.012 | 0.148 | |
| annotationParamsDiagnostic-peakPantheRAnnotation-method | 0.144 | 0.000 | 0.144 | |
| annotationTable-peakPantheRAnnotation-method | 0.211 | 0.004 | 0.215 | |
| annotation_diagnostic_multiplot_UI_helper | 0.126 | 0.004 | 0.130 | |
| annotation_fit_summary_UI_helper | 0.008 | 0.004 | 0.012 | |
| annotation_showMethod_UI_helper | 0.004 | 0.001 | 0.005 | |
| annotation_showText_UI_helper | 0.000 | 0.001 | 0.000 | |
| cpdID-peakPantheRAnnotation-method | 0.178 | 0.001 | 0.179 | |
| cpdMetadata-peakPantheRAnnotation-method | 0.166 | 0.000 | 0.165 | |
| cpdName-peakPantheRAnnotation-method | 0.148 | 0.008 | 0.157 | |
| dataPoints-peakPantheRAnnotation-method | 0.151 | 0.008 | 0.159 | |
| filename-peakPantheRAnnotation-method | 0.154 | 0.004 | 0.158 | |
| filepath-peakPantheRAnnotation-method | 0.141 | 0.008 | 0.149 | |
| initialise_annotation_from_files_UI_helper | 0.008 | 0.005 | 0.014 | |
| isAnnotated-peakPantheRAnnotation-method | 0.146 | 0.008 | 0.154 | |
| load_annotation_from_file_UI_helper | 0.005 | 0.001 | 0.006 | |
| nbCompounds-peakPantheRAnnotation-method | 0.146 | 0.016 | 0.161 | |
| nbSamples-peakPantheRAnnotation-method | 0.134 | 0.012 | 0.146 | |
| outputAnnotationDiagnostic-peakPantheRAnnotation-method | 11.405 | 0.336 | 11.768 | |
| outputAnnotationFeatureMetadata_UI_helper | 0.004 | 0.000 | 0.004 | |
| outputAnnotationParamsCSV-peakPantheRAnnotation-method | 0.02 | 0.00 | 0.02 | |
| outputAnnotationResult-peakPantheRAnnotation-method | 12.354 | 0.279 | 12.635 | |
| outputAnnotationSpectraMetadata_UI_helper | 0.005 | 0.000 | 0.005 | |
| peakFit-peakPantheRAnnotation-method | 0.172 | 0.000 | 0.172 | |
| peakPantheRAnnotation | 0.162 | 0.000 | 0.162 | |
| peakPantheR_ROIStatistics | 16.804 | 0.296 | 17.100 | |
| peakPantheR_loadAnnotationParamsCSV | 0.005 | 0.001 | 0.006 | |
| peakPantheR_parallelAnnotation | 13.136 | 0.143 | 13.280 | |
| peakPantheR_plotEICFit | 0.259 | 0.000 | 0.259 | |
| peakPantheR_plotPeakwidth | 0.356 | 0.003 | 0.359 | |
| peakPantheR_singleFileSearch | 4.480 | 0.048 | 4.528 | |
| peakPantheR_start_GUI | 0 | 0 | 0 | |
| peakTables-peakPantheRAnnotation-method | 0.195 | 0.008 | 0.203 | |
| resetAnnotation-peakPantheRAnnotation-method | 0.185 | 0.000 | 0.185 | |
| resetFIR-peakPantheRAnnotation-method | 0.004 | 0.000 | 0.004 | |
| retentionTimeCorrection-peakPantheRAnnotation-method | 8.956 | 0.160 | 9.115 | |
| spectraMetadata-peakPantheRAnnotation-method | 0.168 | 0.012 | 0.180 | |
| spectraPaths_and_metadata_UI_helper | 0.003 | 0.000 | 0.002 | |
| spectra_metadata_colourScheme_UI_helper | 0.005 | 0.000 | 0.005 | |
| uROI-peakPantheRAnnotation-method | 0.158 | 0.000 | 0.158 | |
| uROIExist-peakPantheRAnnotation-method | 0.161 | 0.012 | 0.172 | |
| useFIR-peakPantheRAnnotation-method | 0.157 | 0.012 | 0.169 | |
| useUROI-peakPantheRAnnotation-method | 0.162 | 0.016 | 0.178 | |