| Back to Multiple platform build/check report for BioC 3.14 |
|
This page was generated on 2022-04-13 12:06:36 -0400 (Wed, 13 Apr 2022).
| Hostname | OS | Arch (*) | R version | Installed pkgs |
|---|---|---|---|---|
| nebbiolo2 | Linux (Ubuntu 20.04.4 LTS) | x86_64 | 4.1.3 (2022-03-10) -- "One Push-Up" | 4324 |
| tokay2 | Windows Server 2012 R2 Standard | x64 | 4.1.3 (2022-03-10) -- "One Push-Up" | 4077 |
| machv2 | macOS 10.14.6 Mojave | x86_64 | 4.1.3 (2022-03-10) -- "One Push-Up" | 4137 |
| Click on any hostname to see more info about the system (e.g. compilers) (*) as reported by 'uname -p', except on Windows and Mac OS X | ||||
|
To the developers/maintainers of the GeneStructureTools package: - Please allow up to 24 hours (and sometimes 48 hours) for your latest push to git@git.bioconductor.org:packages/GeneStructureTools.git to reflect on this report. See How and When does the builder pull? When will my changes propagate? for more information. - Make sure to use the following settings in order to reproduce any error or warning you see on this page. |
| Package 736/2083 | Hostname | OS / Arch | INSTALL | BUILD | CHECK | BUILD BIN | ||||||||
| GeneStructureTools 1.14.0 (landing page) Beth Signal
| nebbiolo2 | Linux (Ubuntu 20.04.4 LTS) / x86_64 | OK | OK | OK | |||||||||
| tokay2 | Windows Server 2012 R2 Standard / x64 | OK | OK | OK | OK | |||||||||
| machv2 | macOS 10.14.6 Mojave / x86_64 | OK | OK | OK | OK | |||||||||
| Package: GeneStructureTools |
| Version: 1.14.0 |
| Command: rm -rf GeneStructureTools.buildbin-libdir && mkdir GeneStructureTools.buildbin-libdir && C:\Users\biocbuild\bbs-3.14-bioc\R\bin\R.exe CMD INSTALL --merge-multiarch --build --library=GeneStructureTools.buildbin-libdir GeneStructureTools_1.14.0.tar.gz |
| StartedAt: 2022-04-13 06:17:49 -0400 (Wed, 13 Apr 2022) |
| EndedAt: 2022-04-13 06:19:09 -0400 (Wed, 13 Apr 2022) |
| EllapsedTime: 80.0 seconds |
| RetCode: 0 |
| Status: OK |
| PackageFile: GeneStructureTools_1.14.0.zip |
| PackageFileSize: 1.71 MiB |
##############################################################################
##############################################################################
###
### Running command:
###
### rm -rf GeneStructureTools.buildbin-libdir && mkdir GeneStructureTools.buildbin-libdir && C:\Users\biocbuild\bbs-3.14-bioc\R\bin\R.exe CMD INSTALL --merge-multiarch --build --library=GeneStructureTools.buildbin-libdir GeneStructureTools_1.14.0.tar.gz
###
##############################################################################
##############################################################################
install for i386
* installing *source* package 'GeneStructureTools' ...
** using staged installation
** R
** inst
** byte-compile and prepare package for lazy loading
** help
*** installing help indices
converting help for package 'GeneStructureTools'
finding HTML links ... done
DEXSeqIdsToGeneIds html
UTR2UTR53 html
addBroadTypes html
addIntronInTranscript html
addSets html
alternativeIntronUsage html
annotateGeneModel html
attrChangeAltSpliced html
coordinates-methods html
cumsumANDpad html
diffSplicingResults-methods html
exonsToTranscripts html
filterGtfOverlap html
filterWhippetEvents html
findDEXexonType html
findExonContainingTranscripts html
findIntronContainingTranscripts html
findJunctionPairs html
formatWhippetEvents html
getOrfs html
getUOrfs html
junctions-methods html
leafcutterTranscriptChangeSummary html
makeGeneModel html
maxLocation html
orfDiff html
orfSimilarity html
overlapTypes html
readCounts-methods html
readWhippetDIFFfiles html
readWhippetDataSet html
readWhippetJNCfiles html
readWhippetPSIfiles html
removeDuplicateTranscripts html
removeSameExon html
removeVersion html
reorderExonNumbers html
replaceJunction html
skipExonInTranscript html
summariseExonTypes html
transcriptChangeSummary html
whippetDataSet-class html
whippetTranscriptChangeSummary html
** building package indices
** installing vignettes
** testing if installed package can be loaded from temporary location
** testing if installed package can be loaded from final location
** testing if installed package keeps a record of temporary installation path
install for x64
* installing *source* package 'GeneStructureTools' ...
** testing if installed package can be loaded
* MD5 sums
packaged installation of 'GeneStructureTools' as GeneStructureTools_1.14.0.zip
* DONE (GeneStructureTools)