| Back to Multiple platform build/check report for BioC 3.14 |
|
This page was generated on 2022-04-13 12:08:03 -0400 (Wed, 13 Apr 2022).
| Hostname | OS | Arch (*) | R version | Installed pkgs |
|---|---|---|---|---|
| nebbiolo2 | Linux (Ubuntu 20.04.4 LTS) | x86_64 | 4.1.3 (2022-03-10) -- "One Push-Up" | 4324 |
| tokay2 | Windows Server 2012 R2 Standard | x64 | 4.1.3 (2022-03-10) -- "One Push-Up" | 4077 |
| machv2 | macOS 10.14.6 Mojave | x86_64 | 4.1.3 (2022-03-10) -- "One Push-Up" | 4137 |
| Click on any hostname to see more info about the system (e.g. compilers) (*) as reported by 'uname -p', except on Windows and Mac OS X | ||||
|
To the developers/maintainers of the GeneStructureTools package: - Please allow up to 24 hours (and sometimes 48 hours) for your latest push to git@git.bioconductor.org:packages/GeneStructureTools.git to reflect on this report. See How and When does the builder pull? When will my changes propagate? for more information. - Make sure to use the following settings in order to reproduce any error or warning you see on this page. |
| Package 736/2083 | Hostname | OS / Arch | INSTALL | BUILD | CHECK | BUILD BIN | ||||||||
| GeneStructureTools 1.14.0 (landing page) Beth Signal
| nebbiolo2 | Linux (Ubuntu 20.04.4 LTS) / x86_64 | OK | OK | OK | |||||||||
| tokay2 | Windows Server 2012 R2 Standard / x64 | OK | OK | OK | OK | |||||||||
| machv2 | macOS 10.14.6 Mojave / x86_64 | OK | OK | OK | OK | |||||||||
| Package: GeneStructureTools |
| Version: 1.14.0 |
| Command: /Library/Frameworks/R.framework/Resources/bin/R CMD check --install=check:GeneStructureTools.install-out.txt --library=/Library/Frameworks/R.framework/Resources/library --no-vignettes --timings GeneStructureTools_1.14.0.tar.gz |
| StartedAt: 2022-04-12 13:36:58 -0400 (Tue, 12 Apr 2022) |
| EndedAt: 2022-04-12 13:46:23 -0400 (Tue, 12 Apr 2022) |
| EllapsedTime: 565.4 seconds |
| RetCode: 0 |
| Status: OK |
| CheckDir: GeneStructureTools.Rcheck |
| Warnings: 0 |
##############################################################################
##############################################################################
###
### Running command:
###
### /Library/Frameworks/R.framework/Resources/bin/R CMD check --install=check:GeneStructureTools.install-out.txt --library=/Library/Frameworks/R.framework/Resources/library --no-vignettes --timings GeneStructureTools_1.14.0.tar.gz
###
##############################################################################
##############################################################################
* using log directory ‘/Users/biocbuild/bbs-3.14-bioc/meat/GeneStructureTools.Rcheck’
* using R version 4.1.3 (2022-03-10)
* using platform: x86_64-apple-darwin17.0 (64-bit)
* using session charset: UTF-8
* using option ‘--no-vignettes’
* checking for file ‘GeneStructureTools/DESCRIPTION’ ... OK
* checking extension type ... Package
* this is package ‘GeneStructureTools’ version ‘1.14.0’
* package encoding: UTF-8
* checking package namespace information ... OK
* checking package dependencies ... OK
* checking if this is a source package ... OK
* checking if there is a namespace ... OK
* checking for hidden files and directories ... OK
* checking for portable file names ... OK
* checking for sufficient/correct file permissions ... OK
* checking whether package ‘GeneStructureTools’ can be installed ... OK
* checking installed package size ... OK
* checking package directory ... OK
* checking ‘build’ directory ... OK
* checking DESCRIPTION meta-information ... OK
* checking top-level files ... OK
* checking for left-over files ... OK
* checking index information ... OK
* checking package subdirectories ... OK
* checking R files for non-ASCII characters ... OK
* checking R files for syntax errors ... OK
* checking whether the package can be loaded ... OK
* checking whether the package can be loaded with stated dependencies ... OK
* checking whether the package can be unloaded cleanly ... OK
* checking whether the namespace can be loaded with stated dependencies ... OK
* checking whether the namespace can be unloaded cleanly ... OK
* checking dependencies in R code ... OK
* checking S3 generic/method consistency ... OK
* checking replacement functions ... OK
* checking foreign function calls ... OK
* checking R code for possible problems ... OK
* checking Rd files ... OK
* checking Rd metadata ... OK
* checking Rd cross-references ... OK
* checking for missing documentation entries ... OK
* checking for code/documentation mismatches ... OK
* checking Rd \usage sections ... OK
* checking Rd contents ... OK
* checking for unstated dependencies in examples ... OK
* checking files in ‘vignettes’ ... OK
* checking examples ... OK
Examples with CPU (user + system) or elapsed time > 5s
user system elapsed
leafcutterTranscriptChangeSummary 43.730 0.788 44.611
whippetTranscriptChangeSummary 29.453 0.204 29.698
replaceJunction 10.206 0.124 10.387
alternativeIntronUsage 9.826 0.047 9.990
findDEXexonType 5.105 0.063 5.173
addIntronInTranscript 5.074 0.087 5.360
* checking for unstated dependencies in vignettes ... OK
* checking package vignettes in ‘inst/doc’ ... OK
* checking running R code from vignettes ... SKIPPED
* checking re-building of vignette outputs ... SKIPPED
* checking PDF version of manual ... OK
* DONE
Status: OK
GeneStructureTools.Rcheck/00install.out
############################################################################## ############################################################################## ### ### Running command: ### ### /Library/Frameworks/R.framework/Resources/bin/R CMD INSTALL GeneStructureTools ### ############################################################################## ############################################################################## * installing to library ‘/Library/Frameworks/R.framework/Versions/4.1/Resources/library’ * installing *source* package ‘GeneStructureTools’ ... ** using staged installation ** R ** inst ** byte-compile and prepare package for lazy loading ** help *** installing help indices ** building package indices ** installing vignettes ** testing if installed package can be loaded from temporary location ** testing if installed package can be loaded from final location ** testing if installed package keeps a record of temporary installation path * DONE (GeneStructureTools)
GeneStructureTools.Rcheck/GeneStructureTools-Ex.timings
| name | user | system | elapsed | |
| DEXSeqIdsToGeneIds | 0.004 | 0.002 | 0.006 | |
| UTR2UTR53 | 4.630 | 0.218 | 4.852 | |
| addBroadTypes | 0.354 | 0.025 | 0.380 | |
| addIntronInTranscript | 5.074 | 0.087 | 5.360 | |
| alternativeIntronUsage | 9.826 | 0.047 | 9.990 | |
| annotateGeneModel | 1.850 | 0.014 | 1.867 | |
| attrChangeAltSpliced | 2.895 | 0.068 | 2.972 | |
| coordinates-methods | 0.110 | 0.051 | 0.169 | |
| diffSplicingResults-methods | 0.126 | 0.055 | 0.190 | |
| exonsToTranscripts | 0.442 | 0.009 | 0.450 | |
| filterGtfOverlap | 0.460 | 0.008 | 0.468 | |
| filterWhippetEvents | 0.144 | 0.055 | 0.207 | |
| findDEXexonType | 5.105 | 0.063 | 5.173 | |
| findExonContainingTranscripts | 0.907 | 0.074 | 0.987 | |
| findIntronContainingTranscripts | 1.280 | 0.066 | 1.352 | |
| findJunctionPairs | 4.566 | 0.059 | 4.635 | |
| formatWhippetEvents | 0.036 | 0.007 | 0.043 | |
| getOrfs | 1.533 | 0.015 | 1.549 | |
| getUOrfs | 1.071 | 0.011 | 1.086 | |
| junctions-methods | 0.115 | 0.055 | 0.179 | |
| leafcutterTranscriptChangeSummary | 43.730 | 0.788 | 44.611 | |
| makeGeneModel | 0.290 | 0.007 | 0.298 | |
| maxLocation | 0.004 | 0.001 | 0.006 | |
| orfDiff | 3.605 | 0.086 | 3.703 | |
| orfSimilarity | 0.001 | 0.001 | 0.002 | |
| overlapTypes | 4.457 | 0.048 | 4.530 | |
| readCounts-methods | 0.117 | 0.053 | 0.179 | |
| readWhippetDIFFfiles | 0.008 | 0.007 | 0.017 | |
| readWhippetDataSet | 0.106 | 0.053 | 0.164 | |
| readWhippetJNCfiles | 0.061 | 0.026 | 0.090 | |
| readWhippetPSIfiles | 0.021 | 0.024 | 0.049 | |
| removeDuplicateTranscripts | 0.469 | 0.010 | 0.481 | |
| removeSameExon | 0.368 | 0.011 | 0.381 | |
| removeVersion | 0.000 | 0.000 | 0.001 | |
| reorderExonNumbers | 0.360 | 0.011 | 0.373 | |
| replaceJunction | 10.206 | 0.124 | 10.387 | |
| skipExonInTranscript | 3.522 | 0.061 | 3.596 | |
| summariseExonTypes | 4.069 | 0.020 | 4.098 | |
| transcriptChangeSummary | 3.217 | 0.072 | 3.302 | |
| whippetTranscriptChangeSummary | 29.453 | 0.204 | 29.698 | |