| Back to Multiple platform build/check report for BioC 3.14 |
|
This page was generated on 2022-04-13 12:05:24 -0400 (Wed, 13 Apr 2022).
| Hostname | OS | Arch (*) | R version | Installed pkgs |
|---|---|---|---|---|
| nebbiolo2 | Linux (Ubuntu 20.04.4 LTS) | x86_64 | 4.1.3 (2022-03-10) -- "One Push-Up" | 4324 |
| tokay2 | Windows Server 2012 R2 Standard | x64 | 4.1.3 (2022-03-10) -- "One Push-Up" | 4077 |
| machv2 | macOS 10.14.6 Mojave | x86_64 | 4.1.3 (2022-03-10) -- "One Push-Up" | 4137 |
| Click on any hostname to see more info about the system (e.g. compilers) (*) as reported by 'uname -p', except on Windows and Mac OS X | ||||
|
To the developers/maintainers of the GeneStructureTools package: - Please allow up to 24 hours (and sometimes 48 hours) for your latest push to git@git.bioconductor.org:packages/GeneStructureTools.git to reflect on this report. See How and When does the builder pull? When will my changes propagate? for more information. - Make sure to use the following settings in order to reproduce any error or warning you see on this page. |
| Package 736/2083 | Hostname | OS / Arch | INSTALL | BUILD | CHECK | BUILD BIN | ||||||||
| GeneStructureTools 1.14.0 (landing page) Beth Signal
| nebbiolo2 | Linux (Ubuntu 20.04.4 LTS) / x86_64 | OK | OK | OK | |||||||||
| tokay2 | Windows Server 2012 R2 Standard / x64 | OK | OK | OK | OK | |||||||||
| machv2 | macOS 10.14.6 Mojave / x86_64 | OK | OK | OK | OK | |||||||||
| Package: GeneStructureTools |
| Version: 1.14.0 |
| Command: /home/biocbuild/bbs-3.14-bioc/R/bin/R CMD check --install=check:GeneStructureTools.install-out.txt --library=/home/biocbuild/bbs-3.14-bioc/R/library --no-vignettes --timings GeneStructureTools_1.14.0.tar.gz |
| StartedAt: 2022-04-12 07:33:08 -0400 (Tue, 12 Apr 2022) |
| EndedAt: 2022-04-12 07:38:49 -0400 (Tue, 12 Apr 2022) |
| EllapsedTime: 340.9 seconds |
| RetCode: 0 |
| Status: OK |
| CheckDir: GeneStructureTools.Rcheck |
| Warnings: 0 |
##############################################################################
##############################################################################
###
### Running command:
###
### /home/biocbuild/bbs-3.14-bioc/R/bin/R CMD check --install=check:GeneStructureTools.install-out.txt --library=/home/biocbuild/bbs-3.14-bioc/R/library --no-vignettes --timings GeneStructureTools_1.14.0.tar.gz
###
##############################################################################
##############################################################################
* using log directory ‘/home/biocbuild/bbs-3.14-bioc/meat/GeneStructureTools.Rcheck’
* using R version 4.1.3 (2022-03-10)
* using platform: x86_64-pc-linux-gnu (64-bit)
* using session charset: UTF-8
* using option ‘--no-vignettes’
* checking for file ‘GeneStructureTools/DESCRIPTION’ ... OK
* checking extension type ... Package
* this is package ‘GeneStructureTools’ version ‘1.14.0’
* package encoding: UTF-8
* checking package namespace information ... OK
* checking package dependencies ... OK
* checking if this is a source package ... OK
* checking if there is a namespace ... OK
* checking for hidden files and directories ... OK
* checking for portable file names ... OK
* checking for sufficient/correct file permissions ... OK
* checking whether package ‘GeneStructureTools’ can be installed ... OK
* checking installed package size ... OK
* checking package directory ... OK
* checking ‘build’ directory ... OK
* checking DESCRIPTION meta-information ... OK
* checking top-level files ... OK
* checking for left-over files ... OK
* checking index information ... OK
* checking package subdirectories ... OK
* checking R files for non-ASCII characters ... OK
* checking R files for syntax errors ... OK
* checking whether the package can be loaded ... OK
* checking whether the package can be loaded with stated dependencies ... OK
* checking whether the package can be unloaded cleanly ... OK
* checking whether the namespace can be loaded with stated dependencies ... OK
* checking whether the namespace can be unloaded cleanly ... OK
* checking dependencies in R code ... OK
* checking S3 generic/method consistency ... OK
* checking replacement functions ... OK
* checking foreign function calls ... OK
* checking R code for possible problems ... OK
* checking Rd files ... OK
* checking Rd metadata ... OK
* checking Rd cross-references ... OK
* checking for missing documentation entries ... OK
* checking for code/documentation mismatches ... OK
* checking Rd \usage sections ... OK
* checking Rd contents ... OK
* checking for unstated dependencies in examples ... OK
* checking files in ‘vignettes’ ... OK
* checking examples ... OK
Examples with CPU (user + system) or elapsed time > 5s
user system elapsed
leafcutterTranscriptChangeSummary 23.479 0.464 23.944
whippetTranscriptChangeSummary 14.574 0.135 14.709
replaceJunction 5.418 0.033 5.448
* checking for unstated dependencies in vignettes ... OK
* checking package vignettes in ‘inst/doc’ ... OK
* checking running R code from vignettes ... SKIPPED
* checking re-building of vignette outputs ... SKIPPED
* checking PDF version of manual ... OK
* DONE
Status: OK
GeneStructureTools.Rcheck/00install.out
############################################################################## ############################################################################## ### ### Running command: ### ### /home/biocbuild/bbs-3.14-bioc/R/bin/R CMD INSTALL GeneStructureTools ### ############################################################################## ############################################################################## * installing to library ‘/home/biocbuild/bbs-3.14-bioc/R/library’ * installing *source* package ‘GeneStructureTools’ ... ** using staged installation ** R ** inst ** byte-compile and prepare package for lazy loading ** help *** installing help indices ** building package indices ** installing vignettes ** testing if installed package can be loaded from temporary location ** testing if installed package can be loaded from final location ** testing if installed package keeps a record of temporary installation path * DONE (GeneStructureTools)
GeneStructureTools.Rcheck/GeneStructureTools-Ex.timings
| name | user | system | elapsed | |
| DEXSeqIdsToGeneIds | 0.002 | 0.000 | 0.003 | |
| UTR2UTR53 | 2.207 | 0.184 | 2.391 | |
| addBroadTypes | 0.156 | 0.012 | 0.168 | |
| addIntronInTranscript | 2.527 | 0.036 | 2.562 | |
| alternativeIntronUsage | 4.736 | 0.124 | 4.861 | |
| annotateGeneModel | 0.975 | 0.008 | 0.984 | |
| attrChangeAltSpliced | 1.535 | 0.056 | 1.591 | |
| coordinates-methods | 0.075 | 0.018 | 0.093 | |
| diffSplicingResults-methods | 0.087 | 0.008 | 0.096 | |
| exonsToTranscripts | 0.210 | 0.000 | 0.209 | |
| filterGtfOverlap | 0.213 | 0.004 | 0.217 | |
| filterWhippetEvents | 0.097 | 0.016 | 0.113 | |
| findDEXexonType | 3.682 | 0.136 | 3.819 | |
| findExonContainingTranscripts | 0.525 | 0.029 | 0.555 | |
| findIntronContainingTranscripts | 0.839 | 0.032 | 0.870 | |
| findJunctionPairs | 1.777 | 0.044 | 1.821 | |
| formatWhippetEvents | 0.021 | 0.000 | 0.021 | |
| getOrfs | 0.703 | 0.012 | 0.715 | |
| getUOrfs | 0.571 | 0.004 | 0.575 | |
| junctions-methods | 0.067 | 0.014 | 0.080 | |
| leafcutterTranscriptChangeSummary | 23.479 | 0.464 | 23.944 | |
| makeGeneModel | 0.123 | 0.020 | 0.142 | |
| maxLocation | 0.003 | 0.000 | 0.003 | |
| orfDiff | 1.957 | 0.043 | 2.001 | |
| orfSimilarity | 0.001 | 0.000 | 0.001 | |
| overlapTypes | 2.254 | 0.052 | 2.306 | |
| readCounts-methods | 0.074 | 0.015 | 0.088 | |
| readWhippetDIFFfiles | 0.006 | 0.001 | 0.007 | |
| readWhippetDataSet | 0.069 | 0.018 | 0.087 | |
| readWhippetJNCfiles | 0.036 | 0.005 | 0.041 | |
| readWhippetPSIfiles | 0.011 | 0.011 | 0.022 | |
| removeDuplicateTranscripts | 0.239 | 0.008 | 0.247 | |
| removeSameExon | 0.194 | 0.012 | 0.206 | |
| removeVersion | 0.001 | 0.000 | 0.000 | |
| reorderExonNumbers | 0.184 | 0.012 | 0.196 | |
| replaceJunction | 5.418 | 0.033 | 5.448 | |
| skipExonInTranscript | 1.941 | 0.030 | 1.972 | |
| summariseExonTypes | 2.480 | 0.004 | 2.484 | |
| transcriptChangeSummary | 1.785 | 0.012 | 1.795 | |
| whippetTranscriptChangeSummary | 14.574 | 0.135 | 14.709 | |